BEGIN:VCALENDAR
VERSION:2.0
PRODID:-//First Religious Society of Newburyport - ECPv6.15.20//NONSGML v1.0//EN
CALSCALE:GREGORIAN
METHOD:PUBLISH
X-ORIGINAL-URL:https://www.frsuu.org
X-WR-CALDESC:Events for First Religious Society of Newburyport
REFRESH-INTERVAL;VALUE=DURATION:PT1H
X-Robots-Tag:noindex
X-PUBLISHED-TTL:PT1H
BEGIN:VTIMEZONE
TZID:America/New_York
BEGIN:DAYLIGHT
TZOFFSETFROM:-0500
TZOFFSETTO:-0400
TZNAME:EDT
DTSTART:20240310T070000
END:DAYLIGHT
BEGIN:STANDARD
TZOFFSETFROM:-0400
TZOFFSETTO:-0500
TZNAME:EST
DTSTART:20241103T060000
END:STANDARD
BEGIN:DAYLIGHT
TZOFFSETFROM:-0500
TZOFFSETTO:-0400
TZNAME:EDT
DTSTART:20250309T070000
END:DAYLIGHT
BEGIN:STANDARD
TZOFFSETFROM:-0400
TZOFFSETTO:-0500
TZNAME:EST
DTSTART:20251102T060000
END:STANDARD
BEGIN:DAYLIGHT
TZOFFSETFROM:-0500
TZOFFSETTO:-0400
TZNAME:EDT
DTSTART:20260308T070000
END:DAYLIGHT
BEGIN:STANDARD
TZOFFSETFROM:-0400
TZOFFSETTO:-0500
TZNAME:EST
DTSTART:20261101T060000
END:STANDARD
BEGIN:DAYLIGHT
TZOFFSETFROM:-0500
TZOFFSETTO:-0400
TZNAME:EDT
DTSTART:20270314T070000
END:DAYLIGHT
BEGIN:STANDARD
TZOFFSETFROM:-0400
TZOFFSETTO:-0500
TZNAME:EST
DTSTART:20271107T060000
END:STANDARD
END:VTIMEZONE
BEGIN:VEVENT
DTSTART;TZID=America/New_York:20260423T190000
DTEND;TZID=America/New_York:20260423T203000
DTSTAMP:20260424T215557
CREATED:20250124T200119Z
LAST-MODIFIED:20260408T203342Z
UID:44032-1776970800-1776976200@www.frsuu.org
SUMMARY:Adult Choir
DESCRIPTION:Thursdays\, LMH Main Room\, 7-8:30pm.
URL:https://www.frsuu.org/event/adult-choir-2/2026-04-23/
LOCATION:LMH Main Room\, 26 Pleasant St\, Newburyport\, MA\, 01950\, United States
END:VEVENT
BEGIN:VEVENT
DTSTART;TZID=America/New_York:20260416T190000
DTEND;TZID=America/New_York:20260416T203000
DTSTAMP:20260424T215557
CREATED:20250124T200119Z
LAST-MODIFIED:20260408T203342Z
UID:44031-1776366000-1776371400@www.frsuu.org
SUMMARY:Adult Choir
DESCRIPTION:Thursdays\, LMH Main Room\, 7-8:30pm.
URL:https://www.frsuu.org/event/adult-choir-2/2026-04-16/
LOCATION:LMH Main Room\, 26 Pleasant St\, Newburyport\, MA\, 01950\, United States
END:VEVENT
BEGIN:VEVENT
DTSTART;TZID=America/New_York:20260402T190000
DTEND;TZID=America/New_York:20260402T203000
DTSTAMP:20260424T215557
CREATED:20250124T200119Z
LAST-MODIFIED:20260417T150611Z
UID:44029-1775156400-1775161800@www.frsuu.org
SUMMARY:Adult Choir
DESCRIPTION:Thursdays\, LMH Main Room\, 7-8:30pm.
URL:https://www.frsuu.org/event/adult-choir-2/2026-04-02/
LOCATION:LMH Main Room\, 26 Pleasant St\, Newburyport\, MA\, 01950\, United States
END:VEVENT
BEGIN:VEVENT
DTSTART;TZID=America/New_York:20260326T190000
DTEND;TZID=America/New_York:20260326T203000
DTSTAMP:20260424T215557
CREATED:20250124T200119Z
LAST-MODIFIED:20260417T150610Z
UID:44028-1774551600-1774557000@www.frsuu.org
SUMMARY:Adult Choir
DESCRIPTION:Thursdays\, LMH Main Room\, 7-8:30pm.
URL:https://www.frsuu.org/event/adult-choir-2/2026-03-26/
LOCATION:LMH Main Room\, 26 Pleasant St\, Newburyport\, MA\, 01950\, United States
END:VEVENT
BEGIN:VEVENT
DTSTART;TZID=America/New_York:20260319T190000
DTEND;TZID=America/New_York:20260319T203000
DTSTAMP:20260424T215557
CREATED:20250124T200119Z
LAST-MODIFIED:20260417T150610Z
UID:44027-1773946800-1773952200@www.frsuu.org
SUMMARY:Adult Choir
DESCRIPTION:Thursdays\, LMH Main Room\, 7-8:30pm.
URL:https://www.frsuu.org/event/adult-choir-2/2026-03-19/
LOCATION:LMH Main Room\, 26 Pleasant St\, Newburyport\, MA\, 01950\, United States
END:VEVENT
BEGIN:VEVENT
DTSTART;TZID=America/New_York:20260312T190000
DTEND;TZID=America/New_York:20260312T203000
DTSTAMP:20260424T215557
CREATED:20250124T200119Z
LAST-MODIFIED:20260417T150608Z
UID:44026-1773342000-1773347400@www.frsuu.org
SUMMARY:Adult Choir
DESCRIPTION:Thursdays\, LMH Main Room\, 7-8:30pm.
URL:https://www.frsuu.org/event/adult-choir-2/2026-03-12/
LOCATION:LMH Main Room\, 26 Pleasant St\, Newburyport\, MA\, 01950\, United States
END:VEVENT
BEGIN:VEVENT
DTSTART;TZID=America/New_York:20260305T190000
DTEND;TZID=America/New_York:20260305T203000
DTSTAMP:20260424T215557
CREATED:20250124T200119Z
LAST-MODIFIED:20260417T150607Z
UID:44025-1772737200-1772742600@www.frsuu.org
SUMMARY:Adult Choir
DESCRIPTION:Thursdays\, LMH Main Room\, 7-8:30pm.
URL:https://www.frsuu.org/event/adult-choir-2/2026-03-05/
LOCATION:LMH Main Room\, 26 Pleasant St\, Newburyport\, MA\, 01950\, United States
END:VEVENT
BEGIN:VEVENT
DTSTART;TZID=America/New_York:20260226T190000
DTEND;TZID=America/New_York:20260226T203000
DTSTAMP:20260424T215557
CREATED:20250124T200119Z
LAST-MODIFIED:20260417T150604Z
UID:44024-1772132400-1772137800@www.frsuu.org
SUMMARY:Adult Choir
DESCRIPTION:Thursdays\, LMH Main Room\, 7-8:30pm.
URL:https://www.frsuu.org/event/adult-choir-2/2026-02-26/
LOCATION:LMH Main Room\, 26 Pleasant St\, Newburyport\, MA\, 01950\, United States
END:VEVENT
BEGIN:VEVENT
DTSTART;TZID=America/New_York:20260219T190000
DTEND;TZID=America/New_York:20260219T203000
DTSTAMP:20260424T215557
CREATED:20250124T200119Z
LAST-MODIFIED:20260417T150600Z
UID:44023-1771527600-1771533000@www.frsuu.org
SUMMARY:Adult Choir
DESCRIPTION:Thursdays\, LMH Main Room\, 7-8:30pm.
URL:https://www.frsuu.org/event/adult-choir-2/2026-02-19/
LOCATION:LMH Main Room\, 26 Pleasant St\, Newburyport\, MA\, 01950\, United States
END:VEVENT
BEGIN:VEVENT
DTSTART;TZID=America/New_York:20260212T190000
DTEND;TZID=America/New_York:20260212T203000
DTSTAMP:20260424T215557
CREATED:20250124T200119Z
LAST-MODIFIED:20260417T150600Z
UID:44022-1770922800-1770928200@www.frsuu.org
SUMMARY:Adult Choir
DESCRIPTION:Thursdays\, LMH Main Room\, 7-8:30pm.
URL:https://www.frsuu.org/event/adult-choir-2/2026-02-12/
LOCATION:LMH Main Room\, 26 Pleasant St\, Newburyport\, MA\, 01950\, United States
END:VEVENT
BEGIN:VEVENT
DTSTART;TZID=America/New_York:20260205T190000
DTEND;TZID=America/New_York:20260205T203000
DTSTAMP:20260424T215557
CREATED:20250124T200119Z
LAST-MODIFIED:20260417T150559Z
UID:44021-1770318000-1770323400@www.frsuu.org
SUMMARY:Adult Choir
DESCRIPTION:Thursdays\, LMH Main Room\, 7-8:30pm.
URL:https://www.frsuu.org/event/adult-choir-2/2026-02-05/
LOCATION:LMH Main Room\, 26 Pleasant St\, Newburyport\, MA\, 01950\, United States
END:VEVENT
BEGIN:VEVENT
DTSTART;TZID=America/New_York:20260129T190000
DTEND;TZID=America/New_York:20260129T203000
DTSTAMP:20260424T215557
CREATED:20250124T200119Z
LAST-MODIFIED:20260417T150558Z
UID:44020-1769713200-1769718600@www.frsuu.org
SUMMARY:Adult Choir
DESCRIPTION:Thursdays\, LMH Main Room\, 7-8:30pm.
URL:https://www.frsuu.org/event/adult-choir-2/2026-01-29/
LOCATION:LMH Main Room\, 26 Pleasant St\, Newburyport\, MA\, 01950\, United States
END:VEVENT
BEGIN:VEVENT
DTSTART;TZID=America/New_York:20260122T190000
DTEND;TZID=America/New_York:20260122T203000
DTSTAMP:20260424T215557
CREATED:20250124T200119Z
LAST-MODIFIED:20260417T150555Z
UID:44019-1769108400-1769113800@www.frsuu.org
SUMMARY:Adult Choir
DESCRIPTION:Thursdays\, LMH Main Room\, 7-8:30pm.
URL:https://www.frsuu.org/event/adult-choir-2/2026-01-22/
LOCATION:LMH Main Room\, 26 Pleasant St\, Newburyport\, MA\, 01950\, United States
END:VEVENT
BEGIN:VEVENT
DTSTART;TZID=America/New_York:20260115T190000
DTEND;TZID=America/New_York:20260115T203000
DTSTAMP:20260424T215557
CREATED:20250124T200119Z
LAST-MODIFIED:20260417T150554Z
UID:44018-1768503600-1768509000@www.frsuu.org
SUMMARY:Adult Choir
DESCRIPTION:Thursdays\, LMH Main Room\, 7-8:30pm.
URL:https://www.frsuu.org/event/adult-choir-2/2026-01-15/
LOCATION:LMH Main Room\, 26 Pleasant St\, Newburyport\, MA\, 01950\, United States
END:VEVENT
BEGIN:VEVENT
DTSTART;TZID=America/New_York:20260108T190000
DTEND;TZID=America/New_York:20260108T203000
DTSTAMP:20260424T215557
CREATED:20250124T200119Z
LAST-MODIFIED:20260417T150553Z
UID:44017-1767898800-1767904200@www.frsuu.org
SUMMARY:Adult Choir
DESCRIPTION:Thursdays\, LMH Main Room\, 7-8:30pm.
URL:https://www.frsuu.org/event/adult-choir-2/2026-01-08/
LOCATION:LMH Main Room\, 26 Pleasant St\, Newburyport\, MA\, 01950\, United States
END:VEVENT
BEGIN:VEVENT
DTSTART;TZID=America/New_York:20251218T190000
DTEND;TZID=America/New_York:20251218T203000
DTSTAMP:20260424T215557
CREATED:20250124T200119Z
LAST-MODIFIED:20260417T150552Z
UID:44014-1766084400-1766089800@www.frsuu.org
SUMMARY:Adult Choir
DESCRIPTION:Thursdays\, LMH Main Room\, 7-8:30pm.
URL:https://www.frsuu.org/event/adult-choir-2/2025-12-18/
LOCATION:LMH Main Room\, 26 Pleasant St\, Newburyport\, MA\, 01950\, United States
END:VEVENT
BEGIN:VEVENT
DTSTART;TZID=America/New_York:20251211T190000
DTEND;TZID=America/New_York:20251211T203000
DTSTAMP:20260424T215557
CREATED:20250124T200119Z
LAST-MODIFIED:20260417T150552Z
UID:44013-1765479600-1765485000@www.frsuu.org
SUMMARY:Adult Choir
DESCRIPTION:Thursdays\, LMH Main Room\, 7-8:30pm.
URL:https://www.frsuu.org/event/adult-choir-2/2025-12-11/
LOCATION:LMH Main Room\, 26 Pleasant St\, Newburyport\, MA\, 01950\, United States
END:VEVENT
BEGIN:VEVENT
DTSTART;TZID=America/New_York:20251204T190000
DTEND;TZID=America/New_York:20251204T203000
DTSTAMP:20260424T215557
CREATED:20250124T200119Z
LAST-MODIFIED:20260417T150551Z
UID:44012-1764874800-1764880200@www.frsuu.org
SUMMARY:Adult Choir
DESCRIPTION:Thursdays\, LMH Main Room\, 7-8:30pm.
URL:https://www.frsuu.org/event/adult-choir-2/2025-12-04/
LOCATION:LMH Main Room\, 26 Pleasant St\, Newburyport\, MA\, 01950\, United States
END:VEVENT
BEGIN:VEVENT
DTSTART;TZID=America/New_York:20251120T190000
DTEND;TZID=America/New_York:20251120T203000
DTSTAMP:20260424T215557
CREATED:20250124T200119Z
LAST-MODIFIED:20260417T150550Z
UID:44010-1763665200-1763670600@www.frsuu.org
SUMMARY:Adult Choir
DESCRIPTION:Thursdays\, LMH Main Room\, 7-8:30pm.
URL:https://www.frsuu.org/event/adult-choir-2/2025-11-20/
LOCATION:LMH Main Room\, 26 Pleasant St\, Newburyport\, MA\, 01950\, United States
END:VEVENT
BEGIN:VEVENT
DTSTART;TZID=America/New_York:20251113T190000
DTEND;TZID=America/New_York:20251113T203000
DTSTAMP:20260424T215557
CREATED:20250124T200119Z
LAST-MODIFIED:20260417T150549Z
UID:44008-1763060400-1763065800@www.frsuu.org
SUMMARY:Adult Choir
DESCRIPTION:Thursdays\, LMH Main Room\, 7-8:30pm.
URL:https://www.frsuu.org/event/adult-choir-2/2025-11-13/
LOCATION:LMH Main Room\, 26 Pleasant St\, Newburyport\, MA\, 01950\, United States
END:VEVENT
BEGIN:VEVENT
DTSTART;TZID=America/New_York:20251106T190000
DTEND;TZID=America/New_York:20251106T203000
DTSTAMP:20260424T215557
CREATED:20250124T200119Z
LAST-MODIFIED:20260417T150549Z
UID:44007-1762455600-1762461000@www.frsuu.org
SUMMARY:Adult Choir
DESCRIPTION:Thursdays\, LMH Main Room\, 7-8:30pm.
URL:https://www.frsuu.org/event/adult-choir-2/2025-11-06/
LOCATION:LMH Main Room\, 26 Pleasant St\, Newburyport\, MA\, 01950\, United States
END:VEVENT
BEGIN:VEVENT
DTSTART;TZID=America/New_York:20251030T190000
DTEND;TZID=America/New_York:20251030T203000
DTSTAMP:20260424T215557
CREATED:20250124T200119Z
LAST-MODIFIED:20260417T150547Z
UID:44006-1761850800-1761856200@www.frsuu.org
SUMMARY:Adult Choir
DESCRIPTION:Thursdays\, LMH Main Room\, 7-8:30pm.
URL:https://www.frsuu.org/event/adult-choir-2/2025-10-30/
LOCATION:LMH Main Room\, 26 Pleasant St\, Newburyport\, MA\, 01950\, United States
END:VEVENT
BEGIN:VEVENT
DTSTART;TZID=America/New_York:20251023T190000
DTEND;TZID=America/New_York:20251023T203000
DTSTAMP:20260424T215557
CREATED:20250124T200119Z
LAST-MODIFIED:20260417T150535Z
UID:44005-1761246000-1761251400@www.frsuu.org
SUMMARY:Adult Choir
DESCRIPTION:Thursdays\, LMH Main Room\, 7-8:30pm.
URL:https://www.frsuu.org/event/adult-choir-2/2025-10-23/
LOCATION:LMH Main Room\, 26 Pleasant St\, Newburyport\, MA\, 01950\, United States
END:VEVENT
BEGIN:VEVENT
DTSTART;TZID=America/New_York:20251016T190000
DTEND;TZID=America/New_York:20251016T203000
DTSTAMP:20260424T215557
CREATED:20250124T200119Z
LAST-MODIFIED:20260417T150534Z
UID:48957-1760641200-1760646600@www.frsuu.org
SUMMARY:Adult Choir
DESCRIPTION:Thursdays\, LMH Main Room\, 7-8:30pm.
URL:https://www.frsuu.org/event/adult-choir-2/2025-10-16/
LOCATION:LMH Main Room\, 26 Pleasant St\, Newburyport\, MA\, 01950\, United States
END:VEVENT
BEGIN:VEVENT
DTSTART;TZID=America/New_York:20251009T190000
DTEND;TZID=America/New_York:20251009T203000
DTSTAMP:20260424T215557
CREATED:20250124T200119Z
LAST-MODIFIED:20260417T150533Z
UID:44003-1760036400-1760041800@www.frsuu.org
SUMMARY:Adult Choir
DESCRIPTION:Thursdays\, LMH Main Room\, 7-8:30pm.
URL:https://www.frsuu.org/event/adult-choir-2/2025-10-09/
LOCATION:LMH Main Room\, 26 Pleasant St\, Newburyport\, MA\, 01950\, United States
END:VEVENT
BEGIN:VEVENT
DTSTART;TZID=America/New_York:20251002T190000
DTEND;TZID=America/New_York:20251002T203000
DTSTAMP:20260424T215557
CREATED:20250124T200119Z
LAST-MODIFIED:20260417T150531Z
UID:44002-1759431600-1759437000@www.frsuu.org
SUMMARY:Adult Choir
DESCRIPTION:Thursdays\, LMH Main Room\, 7-8:30pm.
URL:https://www.frsuu.org/event/adult-choir-2/2025-10-02/
LOCATION:LMH Main Room\, 26 Pleasant St\, Newburyport\, MA\, 01950\, United States
END:VEVENT
BEGIN:VEVENT
DTSTART;TZID=America/New_York:20250925T190000
DTEND;TZID=America/New_York:20250925T203000
DTSTAMP:20260424T215557
CREATED:20250124T200119Z
LAST-MODIFIED:20260417T150530Z
UID:44001-1758826800-1758832200@www.frsuu.org
SUMMARY:Adult Choir
DESCRIPTION:Thursdays\, LMH Main Room\, 7-8:30pm.
URL:https://www.frsuu.org/event/adult-choir-2/2025-09-25/
LOCATION:LMH Main Room\, 26 Pleasant St\, Newburyport\, MA\, 01950\, United States
END:VEVENT
BEGIN:VEVENT
DTSTART;TZID=America/New_York:20250918T190000
DTEND;TZID=America/New_York:20250918T203000
DTSTAMP:20260424T215557
CREATED:20250124T200119Z
LAST-MODIFIED:20260417T150528Z
UID:44000-1758222000-1758227400@www.frsuu.org
SUMMARY:Adult Choir
DESCRIPTION:Thursdays\, LMH Main Room\, 7-8:30pm.
URL:https://www.frsuu.org/event/adult-choir-2/2025-09-18/
LOCATION:LMH Main Room\, 26 Pleasant St\, Newburyport\, MA\, 01950\, United States
END:VEVENT
BEGIN:VEVENT
DTSTART;TZID=America/New_York:20250911T190000
DTEND;TZID=America/New_York:20250911T203000
DTSTAMP:20260424T215557
CREATED:20250124T200119Z
LAST-MODIFIED:20260417T150527Z
UID:43999-1757617200-1757622600@www.frsuu.org
SUMMARY:Adult Choir
DESCRIPTION:Thursdays\, LMH Main Room\, 7-8:30pm.
URL:https://www.frsuu.org/event/adult-choir-2/2025-09-11/
LOCATION:LMH Main Room\, 26 Pleasant St\, Newburyport\, MA\, 01950\, United States
END:VEVENT
BEGIN:VEVENT
DTSTART;TZID=America/New_York:20250904T190000
DTEND;TZID=America/New_York:20250904T203000
DTSTAMP:20260424T215557
CREATED:20250124T200119Z
LAST-MODIFIED:20260417T150518Z
UID:43998-1757012400-1757017800@www.frsuu.org
SUMMARY:Adult Choir
DESCRIPTION:Thursdays\, LMH Main Room\, 7-8:30pm.
URL:https://www.frsuu.org/event/adult-choir-2/2025-09-04/
LOCATION:LMH Main Room\, 26 Pleasant St\, Newburyport\, MA\, 01950\, United States
END:VEVENT
END:VCALENDAR