BEGIN:VCALENDAR
VERSION:2.0
PRODID:-//First Religious Society of Newburyport - ECPv6.15.20//NONSGML v1.0//EN
CALSCALE:GREGORIAN
METHOD:PUBLISH
X-ORIGINAL-URL:https://www.frsuu.org
X-WR-CALDESC:Events for First Religious Society of Newburyport
REFRESH-INTERVAL;VALUE=DURATION:PT1H
X-Robots-Tag:noindex
X-PUBLISHED-TTL:PT1H
BEGIN:VTIMEZONE
TZID:America/New_York
BEGIN:DAYLIGHT
TZOFFSETFROM:-0500
TZOFFSETTO:-0400
TZNAME:EDT
DTSTART:20240310T070000
END:DAYLIGHT
BEGIN:STANDARD
TZOFFSETFROM:-0400
TZOFFSETTO:-0500
TZNAME:EST
DTSTART:20241103T060000
END:STANDARD
BEGIN:DAYLIGHT
TZOFFSETFROM:-0500
TZOFFSETTO:-0400
TZNAME:EDT
DTSTART:20250309T070000
END:DAYLIGHT
BEGIN:STANDARD
TZOFFSETFROM:-0400
TZOFFSETTO:-0500
TZNAME:EST
DTSTART:20251102T060000
END:STANDARD
BEGIN:DAYLIGHT
TZOFFSETFROM:-0500
TZOFFSETTO:-0400
TZNAME:EDT
DTSTART:20260308T070000
END:DAYLIGHT
BEGIN:STANDARD
TZOFFSETFROM:-0400
TZOFFSETTO:-0500
TZNAME:EST
DTSTART:20261101T060000
END:STANDARD
BEGIN:DAYLIGHT
TZOFFSETFROM:-0500
TZOFFSETTO:-0400
TZNAME:EDT
DTSTART:20270314T070000
END:DAYLIGHT
BEGIN:STANDARD
TZOFFSETFROM:-0400
TZOFFSETTO:-0500
TZNAME:EST
DTSTART:20271107T060000
END:STANDARD
END:VTIMEZONE
BEGIN:VEVENT
DTSTART;TZID=America/New_York:20260420T150000
DTEND;TZID=America/New_York:20260420T160000
DTSTAMP:20260421T070143
CREATED:20251208T164432Z
LAST-MODIFIED:20251208T201344Z
UID:49755-1776697200-1776700800@www.frsuu.org
SUMMARY:Annual Campaign Meeting
DESCRIPTION:Mondays\, LMH Room A\, 3-4pm
URL:https://www.frsuu.org/event/annual-campaign-meeting/2026-04-20/
LOCATION:LMH Room A\, 26 Pleasant St\, Newburyport\, MA\, 01950\, United States
END:VEVENT
BEGIN:VEVENT
DTSTART;TZID=America/New_York:20260413T150000
DTEND;TZID=America/New_York:20260413T160000
DTSTAMP:20260421T070143
CREATED:20251208T164432Z
LAST-MODIFIED:20251208T201344Z
UID:49754-1776092400-1776096000@www.frsuu.org
SUMMARY:Annual Campaign Meeting
DESCRIPTION:Mondays\, LMH Room A\, 3-4pm
URL:https://www.frsuu.org/event/annual-campaign-meeting/2026-04-13/
LOCATION:LMH Room A\, 26 Pleasant St\, Newburyport\, MA\, 01950\, United States
END:VEVENT
BEGIN:VEVENT
DTSTART;TZID=America/New_York:20260406T150000
DTEND;TZID=America/New_York:20260406T160000
DTSTAMP:20260421T070143
CREATED:20251208T164432Z
LAST-MODIFIED:20251208T201344Z
UID:49753-1775487600-1775491200@www.frsuu.org
SUMMARY:Annual Campaign Meeting
DESCRIPTION:Mondays\, LMH Room A\, 3-4pm
URL:https://www.frsuu.org/event/annual-campaign-meeting/2026-04-06/
LOCATION:LMH Room A\, 26 Pleasant St\, Newburyport\, MA\, 01950\, United States
END:VEVENT
BEGIN:VEVENT
DTSTART;TZID=America/New_York:20260330T150000
DTEND;TZID=America/New_York:20260330T160000
DTSTAMP:20260421T070143
CREATED:20251208T164432Z
LAST-MODIFIED:20251208T201343Z
UID:49752-1774882800-1774886400@www.frsuu.org
SUMMARY:Annual Campaign Meeting
DESCRIPTION:Mondays\, LMH Room A\, 3-4pm
URL:https://www.frsuu.org/event/annual-campaign-meeting/2026-03-30/
LOCATION:LMH Room A\, 26 Pleasant St\, Newburyport\, MA\, 01950\, United States
END:VEVENT
BEGIN:VEVENT
DTSTART;TZID=America/New_York:20260323T150000
DTEND;TZID=America/New_York:20260323T160000
DTSTAMP:20260421T070143
CREATED:20251208T164432Z
LAST-MODIFIED:20251208T201343Z
UID:49751-1774278000-1774281600@www.frsuu.org
SUMMARY:Annual Campaign Meeting
DESCRIPTION:Mondays\, LMH Room A\, 3-4pm
URL:https://www.frsuu.org/event/annual-campaign-meeting/2026-03-23/
LOCATION:LMH Room A\, 26 Pleasant St\, Newburyport\, MA\, 01950\, United States
END:VEVENT
BEGIN:VEVENT
DTSTART;TZID=America/New_York:20260316T150000
DTEND;TZID=America/New_York:20260316T160000
DTSTAMP:20260421T070143
CREATED:20251208T164432Z
LAST-MODIFIED:20251208T201342Z
UID:49750-1773673200-1773676800@www.frsuu.org
SUMMARY:Annual Campaign Meeting
DESCRIPTION:Mondays\, LMH Room A\, 3-4pm
URL:https://www.frsuu.org/event/annual-campaign-meeting/2026-03-16/
LOCATION:LMH Room A\, 26 Pleasant St\, Newburyport\, MA\, 01950\, United States
END:VEVENT
BEGIN:VEVENT
DTSTART;TZID=America/New_York:20260309T150000
DTEND;TZID=America/New_York:20260309T160000
DTSTAMP:20260421T070143
CREATED:20251208T164432Z
LAST-MODIFIED:20251208T201342Z
UID:49749-1773068400-1773072000@www.frsuu.org
SUMMARY:Annual Campaign Meeting
DESCRIPTION:Mondays\, LMH Room A\, 3-4pm
URL:https://www.frsuu.org/event/annual-campaign-meeting/2026-03-09/
LOCATION:LMH Room A\, 26 Pleasant St\, Newburyport\, MA\, 01950\, United States
END:VEVENT
BEGIN:VEVENT
DTSTART;TZID=America/New_York:20260302T150000
DTEND;TZID=America/New_York:20260302T160000
DTSTAMP:20260421T070143
CREATED:20251208T164432Z
LAST-MODIFIED:20251208T201341Z
UID:49748-1772463600-1772467200@www.frsuu.org
SUMMARY:Annual Campaign Meeting
DESCRIPTION:Mondays\, LMH Room A\, 3-4pm
URL:https://www.frsuu.org/event/annual-campaign-meeting/2026-03-02/
LOCATION:LMH Room A\, 26 Pleasant St\, Newburyport\, MA\, 01950\, United States
END:VEVENT
BEGIN:VEVENT
DTSTART;TZID=America/New_York:20260223T150000
DTEND;TZID=America/New_York:20260223T160000
DTSTAMP:20260421T070143
CREATED:20251208T164432Z
LAST-MODIFIED:20251208T201340Z
UID:49747-1771858800-1771862400@www.frsuu.org
SUMMARY:Annual Campaign Meeting
DESCRIPTION:Mondays\, LMH Room A\, 3-4pm
URL:https://www.frsuu.org/event/annual-campaign-meeting/2026-02-23/
LOCATION:LMH Room A\, 26 Pleasant St\, Newburyport\, MA\, 01950\, United States
END:VEVENT
BEGIN:VEVENT
DTSTART;TZID=America/New_York:20260216T150000
DTEND;TZID=America/New_York:20260216T160000
DTSTAMP:20260421T070143
CREATED:20251208T164432Z
LAST-MODIFIED:20251208T201320Z
UID:49745-1771254000-1771257600@www.frsuu.org
SUMMARY:Annual Campaign Meeting
DESCRIPTION:Mondays\, LMH Room A\, 3-4pm
URL:https://www.frsuu.org/event/annual-campaign-meeting/2026-02-16/
LOCATION:LMH Room A\, 26 Pleasant St\, Newburyport\, MA\, 01950\, United States
END:VEVENT
BEGIN:VEVENT
DTSTART;TZID=America/New_York:20260209T150000
DTEND;TZID=America/New_York:20260209T160000
DTSTAMP:20260421T070143
CREATED:20251208T164432Z
LAST-MODIFIED:20251208T201320Z
UID:49744-1770649200-1770652800@www.frsuu.org
SUMMARY:Annual Campaign Meeting
DESCRIPTION:Mondays\, LMH Room A\, 3-4pm
URL:https://www.frsuu.org/event/annual-campaign-meeting/2026-02-09/
LOCATION:LMH Room A\, 26 Pleasant St\, Newburyport\, MA\, 01950\, United States
END:VEVENT
BEGIN:VEVENT
DTSTART;TZID=America/New_York:20260202T150000
DTEND;TZID=America/New_York:20260202T160000
DTSTAMP:20260421T070143
CREATED:20251208T164432Z
LAST-MODIFIED:20251208T201319Z
UID:49743-1770044400-1770048000@www.frsuu.org
SUMMARY:Annual Campaign Meeting
DESCRIPTION:Mondays\, LMH Room A\, 3-4pm
URL:https://www.frsuu.org/event/annual-campaign-meeting/2026-02-02/
LOCATION:LMH Room A\, 26 Pleasant St\, Newburyport\, MA\, 01950\, United States
END:VEVENT
BEGIN:VEVENT
DTSTART;TZID=America/New_York:20260126T150000
DTEND;TZID=America/New_York:20260126T160000
DTSTAMP:20260421T070143
CREATED:20251208T164432Z
LAST-MODIFIED:20251208T201319Z
UID:49742-1769439600-1769443200@www.frsuu.org
SUMMARY:Annual Campaign Meeting
DESCRIPTION:Mondays\, LMH Room A\, 3-4pm
URL:https://www.frsuu.org/event/annual-campaign-meeting/2026-01-26/
LOCATION:LMH Room A\, 26 Pleasant St\, Newburyport\, MA\, 01950\, United States
END:VEVENT
BEGIN:VEVENT
DTSTART;TZID=America/New_York:20260119T150000
DTEND;TZID=America/New_York:20260119T160000
DTSTAMP:20260421T070143
CREATED:20251208T164432Z
LAST-MODIFIED:20251208T201318Z
UID:49741-1768834800-1768838400@www.frsuu.org
SUMMARY:Annual Campaign Meeting
DESCRIPTION:Mondays\, LMH Room A\, 3-4pm
URL:https://www.frsuu.org/event/annual-campaign-meeting/2026-01-19/
LOCATION:LMH Room A\, 26 Pleasant St\, Newburyport\, MA\, 01950\, United States
END:VEVENT
BEGIN:VEVENT
DTSTART;TZID=America/New_York:20260112T150000
DTEND;TZID=America/New_York:20260112T160000
DTSTAMP:20260421T070143
CREATED:20251208T164432Z
LAST-MODIFIED:20251208T201318Z
UID:49740-1768230000-1768233600@www.frsuu.org
SUMMARY:Annual Campaign Meeting
DESCRIPTION:Mondays\, LMH Room A\, 3-4pm
URL:https://www.frsuu.org/event/annual-campaign-meeting/2026-01-12/
LOCATION:LMH Room A\, 26 Pleasant St\, Newburyport\, MA\, 01950\, United States
END:VEVENT
BEGIN:VEVENT
DTSTART;TZID=America/New_York:20260105T150000
DTEND;TZID=America/New_York:20260105T160000
DTSTAMP:20260421T070143
CREATED:20251208T164432Z
LAST-MODIFIED:20251208T201317Z
UID:49739-1767625200-1767628800@www.frsuu.org
SUMMARY:Annual Campaign Meeting
DESCRIPTION:Mondays\, LMH Room A\, 3-4pm
URL:https://www.frsuu.org/event/annual-campaign-meeting/2026-01-05/
LOCATION:LMH Room A\, 26 Pleasant St\, Newburyport\, MA\, 01950\, United States
END:VEVENT
BEGIN:VEVENT
DTSTART;TZID=America/New_York:20251215T150000
DTEND;TZID=America/New_York:20251215T160000
DTSTAMP:20260421T070143
CREATED:20251208T164432Z
LAST-MODIFIED:20251208T201317Z
UID:49736-1765810800-1765814400@www.frsuu.org
SUMMARY:Annual Campaign Meeting
DESCRIPTION:Mondays\, LMH Room A\, 3-4pm
URL:https://www.frsuu.org/event/annual-campaign-meeting/2025-12-15/
LOCATION:LMH Room A\, 26 Pleasant St\, Newburyport\, MA\, 01950\, United States
END:VEVENT
BEGIN:VEVENT
DTSTART;TZID=America/New_York:20251208T150000
DTEND;TZID=America/New_York:20251208T160000
DTSTAMP:20260421T070143
CREATED:20251208T164432Z
LAST-MODIFIED:20251208T201310Z
UID:49735-1765206000-1765209600@www.frsuu.org
SUMMARY:Annual Campaign Meeting
DESCRIPTION:Mondays\, LMH Room A\, 3-4pm
URL:https://www.frsuu.org/event/annual-campaign-meeting/2025-12-08/
LOCATION:LMH Room A\, 26 Pleasant St\, Newburyport\, MA\, 01950\, United States
END:VEVENT
END:VCALENDAR