BEGIN:VCALENDAR
VERSION:2.0
PRODID:-//First Religious Society of Newburyport - ECPv6.15.20//NONSGML v1.0//EN
CALSCALE:GREGORIAN
METHOD:PUBLISH
X-WR-CALNAME:First Religious Society of Newburyport
X-ORIGINAL-URL:https://www.frsuu.org
X-WR-CALDESC:Events for First Religious Society of Newburyport
REFRESH-INTERVAL;VALUE=DURATION:PT1H
X-Robots-Tag:noindex
X-PUBLISHED-TTL:PT1H
BEGIN:VTIMEZONE
TZID:America/New_York
BEGIN:DAYLIGHT
TZOFFSETFROM:-0500
TZOFFSETTO:-0400
TZNAME:EDT
DTSTART:20240310T070000
END:DAYLIGHT
BEGIN:STANDARD
TZOFFSETFROM:-0400
TZOFFSETTO:-0500
TZNAME:EST
DTSTART:20241103T060000
END:STANDARD
BEGIN:DAYLIGHT
TZOFFSETFROM:-0500
TZOFFSETTO:-0400
TZNAME:EDT
DTSTART:20250309T070000
END:DAYLIGHT
BEGIN:STANDARD
TZOFFSETFROM:-0400
TZOFFSETTO:-0500
TZNAME:EST
DTSTART:20251102T060000
END:STANDARD
BEGIN:DAYLIGHT
TZOFFSETFROM:-0500
TZOFFSETTO:-0400
TZNAME:EDT
DTSTART:20260308T070000
END:DAYLIGHT
BEGIN:STANDARD
TZOFFSETFROM:-0400
TZOFFSETTO:-0500
TZNAME:EST
DTSTART:20261101T060000
END:STANDARD
BEGIN:DAYLIGHT
TZOFFSETFROM:-0500
TZOFFSETTO:-0400
TZNAME:EDT
DTSTART:20270314T070000
END:DAYLIGHT
BEGIN:STANDARD
TZOFFSETFROM:-0400
TZOFFSETTO:-0500
TZNAME:EST
DTSTART:20271107T060000
END:STANDARD
END:VTIMEZONE
BEGIN:VEVENT
DTSTART;VALUE=DATE:20260102
DTEND;VALUE=DATE:20260103
DTSTAMP:20260424T181125
CREATED:20251126T214356Z
LAST-MODIFIED:20251126T214538Z
UID:49525-1767312000-1767398399@www.frsuu.org
SUMMARY:Church Office Closed
DESCRIPTION:
URL:https://www.frsuu.org/event/church-office-closed-2/2026-01-02/
END:VEVENT
BEGIN:VEVENT
DTSTART;VALUE=DATE:20260101
DTEND;VALUE=DATE:20260102
DTSTAMP:20260424T181125
CREATED:20251126T214356Z
LAST-MODIFIED:20251126T214535Z
UID:49524-1767225600-1767311999@www.frsuu.org
SUMMARY:Church Office Closed
DESCRIPTION:
URL:https://www.frsuu.org/event/church-office-closed-2/2026-01-01/
END:VEVENT
BEGIN:VEVENT
DTSTART;VALUE=DATE:20251231
DTEND;VALUE=DATE:20260101
DTSTAMP:20260424T181125
CREATED:20251126T214356Z
LAST-MODIFIED:20251126T214532Z
UID:49523-1767139200-1767225599@www.frsuu.org
SUMMARY:Church Office Closed
DESCRIPTION:
URL:https://www.frsuu.org/event/church-office-closed-2/2025-12-31/
END:VEVENT
BEGIN:VEVENT
DTSTART;VALUE=DATE:20251230
DTEND;VALUE=DATE:20251231
DTSTAMP:20260424T181125
CREATED:20251126T214356Z
LAST-MODIFIED:20251126T214529Z
UID:49522-1767052800-1767139199@www.frsuu.org
SUMMARY:Church Office Closed
DESCRIPTION:
URL:https://www.frsuu.org/event/church-office-closed-2/2025-12-30/
END:VEVENT
BEGIN:VEVENT
DTSTART;VALUE=DATE:20251229
DTEND;VALUE=DATE:20251230
DTSTAMP:20260424T181125
CREATED:20251126T214356Z
LAST-MODIFIED:20251126T214525Z
UID:49521-1766966400-1767052799@www.frsuu.org
SUMMARY:Church Office Closed
DESCRIPTION:
URL:https://www.frsuu.org/event/church-office-closed-2/2025-12-29/
END:VEVENT
BEGIN:VEVENT
DTSTART;VALUE=DATE:20251226
DTEND;VALUE=DATE:20251227
DTSTAMP:20260424T181125
CREATED:20251126T214356Z
LAST-MODIFIED:20251126T214523Z
UID:49518-1766707200-1766793599@www.frsuu.org
SUMMARY:Church Office Closed
DESCRIPTION:
URL:https://www.frsuu.org/event/church-office-closed-2/2025-12-26/
END:VEVENT
BEGIN:VEVENT
DTSTART;VALUE=DATE:20251225
DTEND;VALUE=DATE:20251226
DTSTAMP:20260424T181125
CREATED:20251126T214356Z
LAST-MODIFIED:20251126T214519Z
UID:49517-1766620800-1766707199@www.frsuu.org
SUMMARY:Church Office Closed
DESCRIPTION:
URL:https://www.frsuu.org/event/church-office-closed-2/2025-12-25/
END:VEVENT
END:VCALENDAR