BEGIN:VCALENDAR
VERSION:2.0
PRODID:-//First Religious Society of Newburyport - ECPv6.15.20//NONSGML v1.0//EN
CALSCALE:GREGORIAN
METHOD:PUBLISH
X-WR-CALNAME:First Religious Society of Newburyport
X-ORIGINAL-URL:https://www.frsuu.org
X-WR-CALDESC:Events for First Religious Society of Newburyport
REFRESH-INTERVAL;VALUE=DURATION:PT1H
X-Robots-Tag:noindex
X-PUBLISHED-TTL:PT1H
BEGIN:VTIMEZONE
TZID:America/New_York
BEGIN:DAYLIGHT
TZOFFSETFROM:-0500
TZOFFSETTO:-0400
TZNAME:EDT
DTSTART:20250309T070000
END:DAYLIGHT
BEGIN:STANDARD
TZOFFSETFROM:-0400
TZOFFSETTO:-0500
TZNAME:EST
DTSTART:20251102T060000
END:STANDARD
BEGIN:DAYLIGHT
TZOFFSETFROM:-0500
TZOFFSETTO:-0400
TZNAME:EDT
DTSTART:20260308T070000
END:DAYLIGHT
BEGIN:STANDARD
TZOFFSETFROM:-0400
TZOFFSETTO:-0500
TZNAME:EST
DTSTART:20261101T060000
END:STANDARD
BEGIN:DAYLIGHT
TZOFFSETFROM:-0500
TZOFFSETTO:-0400
TZNAME:EDT
DTSTART:20270314T070000
END:DAYLIGHT
BEGIN:STANDARD
TZOFFSETFROM:-0400
TZOFFSETTO:-0500
TZNAME:EST
DTSTART:20271107T060000
END:STANDARD
END:VTIMEZONE
BEGIN:VEVENT
DTSTART;TZID=America/New_York:20260424T100000
DTEND;TZID=America/New_York:20260424T113000
DTSTAMP:20260422T204829
CREATED:20240607T153804Z
LAST-MODIFIED:20251224T212356Z
UID:46405-1777024800-1777030200@www.frsuu.org
SUMMARY:Friday Book Group (Hybrid)
DESCRIPTION:Fridays\, LMH Room A\, 10-11:30am. \nWe meet weekly and read both fiction and non-fiction books chosen by participants. Each book is read and discussed over a period of several meetings\, with the reading for each determined by the group.
URL:https://www.frsuu.org/event/friday-book-group/2026-04-24/
LOCATION:LMH Room A\, 26 Pleasant St\, Newburyport\, MA\, 01950\, United States
END:VEVENT
BEGIN:VEVENT
DTSTART;TZID=America/New_York:20260501T100000
DTEND;TZID=America/New_York:20260501T113000
DTSTAMP:20260422T204829
CREATED:20240607T153804Z
LAST-MODIFIED:20251224T212357Z
UID:46406-1777629600-1777635000@www.frsuu.org
SUMMARY:Friday Book Group (Hybrid)
DESCRIPTION:Fridays\, LMH Room A\, 10-11:30am. \nWe meet weekly and read both fiction and non-fiction books chosen by participants. Each book is read and discussed over a period of several meetings\, with the reading for each determined by the group.
URL:https://www.frsuu.org/event/friday-book-group/2026-05-01/
LOCATION:LMH Room A\, 26 Pleasant St\, Newburyport\, MA\, 01950\, United States
END:VEVENT
BEGIN:VEVENT
DTSTART;TZID=America/New_York:20260508T100000
DTEND;TZID=America/New_York:20260508T113000
DTSTAMP:20260422T204829
CREATED:20240607T153804Z
LAST-MODIFIED:20251224T212358Z
UID:46407-1778234400-1778239800@www.frsuu.org
SUMMARY:Friday Book Group (Hybrid)
DESCRIPTION:Fridays\, LMH Room A\, 10-11:30am. \nWe meet weekly and read both fiction and non-fiction books chosen by participants. Each book is read and discussed over a period of several meetings\, with the reading for each determined by the group.
URL:https://www.frsuu.org/event/friday-book-group/2026-05-08/
LOCATION:LMH Room A\, 26 Pleasant St\, Newburyport\, MA\, 01950\, United States
END:VEVENT
BEGIN:VEVENT
DTSTART;TZID=America/New_York:20260515T100000
DTEND;TZID=America/New_York:20260515T113000
DTSTAMP:20260422T204829
CREATED:20240607T153804Z
LAST-MODIFIED:20251224T212359Z
UID:46408-1778839200-1778844600@www.frsuu.org
SUMMARY:Friday Book Group (Hybrid)
DESCRIPTION:Fridays\, LMH Room A\, 10-11:30am. \nWe meet weekly and read both fiction and non-fiction books chosen by participants. Each book is read and discussed over a period of several meetings\, with the reading for each determined by the group.
URL:https://www.frsuu.org/event/friday-book-group/2026-05-15/
LOCATION:LMH Room A\, 26 Pleasant St\, Newburyport\, MA\, 01950\, United States
END:VEVENT
BEGIN:VEVENT
DTSTART;TZID=America/New_York:20260522T100000
DTEND;TZID=America/New_York:20260522T113000
DTSTAMP:20260422T204829
CREATED:20240607T153804Z
LAST-MODIFIED:20251224T212400Z
UID:46409-1779444000-1779449400@www.frsuu.org
SUMMARY:Friday Book Group (Hybrid)
DESCRIPTION:Fridays\, LMH Room A\, 10-11:30am. \nWe meet weekly and read both fiction and non-fiction books chosen by participants. Each book is read and discussed over a period of several meetings\, with the reading for each determined by the group.
URL:https://www.frsuu.org/event/friday-book-group/2026-05-22/
LOCATION:LMH Room A\, 26 Pleasant St\, Newburyport\, MA\, 01950\, United States
END:VEVENT
BEGIN:VEVENT
DTSTART;TZID=America/New_York:20260529T100000
DTEND;TZID=America/New_York:20260529T113000
DTSTAMP:20260422T204829
CREATED:20240607T153804Z
LAST-MODIFIED:20251224T212402Z
UID:46410-1780048800-1780054200@www.frsuu.org
SUMMARY:Friday Book Group (Hybrid)
DESCRIPTION:Fridays\, LMH Room A\, 10-11:30am. \nWe meet weekly and read both fiction and non-fiction books chosen by participants. Each book is read and discussed over a period of several meetings\, with the reading for each determined by the group.
URL:https://www.frsuu.org/event/friday-book-group/2026-05-29/
LOCATION:LMH Room A\, 26 Pleasant St\, Newburyport\, MA\, 01950\, United States
END:VEVENT
BEGIN:VEVENT
DTSTART;TZID=America/New_York:20260605T100000
DTEND;TZID=America/New_York:20260605T113000
DTSTAMP:20260422T204829
CREATED:20240607T153804Z
LAST-MODIFIED:20251224T212402Z
UID:46411-1780653600-1780659000@www.frsuu.org
SUMMARY:Friday Book Group (Hybrid)
DESCRIPTION:Fridays\, LMH Room A\, 10-11:30am. \nWe meet weekly and read both fiction and non-fiction books chosen by participants. Each book is read and discussed over a period of several meetings\, with the reading for each determined by the group.
URL:https://www.frsuu.org/event/friday-book-group/2026-06-05/
LOCATION:LMH Room A\, 26 Pleasant St\, Newburyport\, MA\, 01950\, United States
END:VEVENT
BEGIN:VEVENT
DTSTART;TZID=America/New_York:20260612T100000
DTEND;TZID=America/New_York:20260612T113000
DTSTAMP:20260422T204829
CREATED:20240607T153804Z
LAST-MODIFIED:20251224T212406Z
UID:46412-1781258400-1781263800@www.frsuu.org
SUMMARY:Friday Book Group (Hybrid)
DESCRIPTION:Fridays\, LMH Room A\, 10-11:30am. \nWe meet weekly and read both fiction and non-fiction books chosen by participants. Each book is read and discussed over a period of several meetings\, with the reading for each determined by the group.
URL:https://www.frsuu.org/event/friday-book-group/2026-06-12/
LOCATION:LMH Room A\, 26 Pleasant St\, Newburyport\, MA\, 01950\, United States
END:VEVENT
BEGIN:VEVENT
DTSTART;TZID=America/New_York:20260619T100000
DTEND;TZID=America/New_York:20260619T113000
DTSTAMP:20260422T204829
CREATED:20240607T153804Z
LAST-MODIFIED:20251224T212407Z
UID:46413-1781863200-1781868600@www.frsuu.org
SUMMARY:Friday Book Group (Hybrid)
DESCRIPTION:Fridays\, LMH Room A\, 10-11:30am. \nWe meet weekly and read both fiction and non-fiction books chosen by participants. Each book is read and discussed over a period of several meetings\, with the reading for each determined by the group.
URL:https://www.frsuu.org/event/friday-book-group/2026-06-19/
LOCATION:LMH Room A\, 26 Pleasant St\, Newburyport\, MA\, 01950\, United States
END:VEVENT
BEGIN:VEVENT
DTSTART;TZID=America/New_York:20260626T100000
DTEND;TZID=America/New_York:20260626T113000
DTSTAMP:20260422T204829
CREATED:20240607T153804Z
LAST-MODIFIED:20251224T212407Z
UID:46414-1782468000-1782473400@www.frsuu.org
SUMMARY:Friday Book Group (Hybrid)
DESCRIPTION:Fridays\, LMH Room A\, 10-11:30am. \nWe meet weekly and read both fiction and non-fiction books chosen by participants. Each book is read and discussed over a period of several meetings\, with the reading for each determined by the group.
URL:https://www.frsuu.org/event/friday-book-group/2026-06-26/
LOCATION:LMH Room A\, 26 Pleasant St\, Newburyport\, MA\, 01950\, United States
END:VEVENT
BEGIN:VEVENT
DTSTART;TZID=America/New_York:20260703T100000
DTEND;TZID=America/New_York:20260703T113000
DTSTAMP:20260422T204830
CREATED:20240607T153804Z
LAST-MODIFIED:20251224T212408Z
UID:46415-1783072800-1783078200@www.frsuu.org
SUMMARY:Friday Book Group (Hybrid)
DESCRIPTION:Fridays\, LMH Room A\, 10-11:30am. \nWe meet weekly and read both fiction and non-fiction books chosen by participants. Each book is read and discussed over a period of several meetings\, with the reading for each determined by the group.
URL:https://www.frsuu.org/event/friday-book-group/2026-07-03/
LOCATION:LMH Room A\, 26 Pleasant St\, Newburyport\, MA\, 01950\, United States
END:VEVENT
BEGIN:VEVENT
DTSTART;TZID=America/New_York:20260710T100000
DTEND;TZID=America/New_York:20260710T113000
DTSTAMP:20260422T204830
CREATED:20240607T153804Z
LAST-MODIFIED:20251224T212409Z
UID:46416-1783677600-1783683000@www.frsuu.org
SUMMARY:Friday Book Group (Hybrid)
DESCRIPTION:Fridays\, LMH Room A\, 10-11:30am. \nWe meet weekly and read both fiction and non-fiction books chosen by participants. Each book is read and discussed over a period of several meetings\, with the reading for each determined by the group.
URL:https://www.frsuu.org/event/friday-book-group/2026-07-10/
LOCATION:LMH Room A\, 26 Pleasant St\, Newburyport\, MA\, 01950\, United States
END:VEVENT
BEGIN:VEVENT
DTSTART;TZID=America/New_York:20260717T100000
DTEND;TZID=America/New_York:20260717T113000
DTSTAMP:20260422T204830
CREATED:20240607T153804Z
LAST-MODIFIED:20251224T212410Z
UID:46417-1784282400-1784287800@www.frsuu.org
SUMMARY:Friday Book Group (Hybrid)
DESCRIPTION:Fridays\, LMH Room A\, 10-11:30am. \nWe meet weekly and read both fiction and non-fiction books chosen by participants. Each book is read and discussed over a period of several meetings\, with the reading for each determined by the group.
URL:https://www.frsuu.org/event/friday-book-group/2026-07-17/
LOCATION:LMH Room A\, 26 Pleasant St\, Newburyport\, MA\, 01950\, United States
END:VEVENT
BEGIN:VEVENT
DTSTART;TZID=America/New_York:20260724T100000
DTEND;TZID=America/New_York:20260724T113000
DTSTAMP:20260422T204830
CREATED:20240607T153804Z
LAST-MODIFIED:20251224T212411Z
UID:46418-1784887200-1784892600@www.frsuu.org
SUMMARY:Friday Book Group (Hybrid)
DESCRIPTION:Fridays\, LMH Room A\, 10-11:30am. \nWe meet weekly and read both fiction and non-fiction books chosen by participants. Each book is read and discussed over a period of several meetings\, with the reading for each determined by the group.
URL:https://www.frsuu.org/event/friday-book-group/2026-07-24/
LOCATION:LMH Room A\, 26 Pleasant St\, Newburyport\, MA\, 01950\, United States
END:VEVENT
BEGIN:VEVENT
DTSTART;TZID=America/New_York:20260731T100000
DTEND;TZID=America/New_York:20260731T113000
DTSTAMP:20260422T204830
CREATED:20240607T153804Z
LAST-MODIFIED:20251224T212411Z
UID:46420-1785492000-1785497400@www.frsuu.org
SUMMARY:Friday Book Group (Hybrid)
DESCRIPTION:Fridays\, LMH Room A\, 10-11:30am. \nWe meet weekly and read both fiction and non-fiction books chosen by participants. Each book is read and discussed over a period of several meetings\, with the reading for each determined by the group.
URL:https://www.frsuu.org/event/friday-book-group/2026-07-31/
LOCATION:LMH Room A\, 26 Pleasant St\, Newburyport\, MA\, 01950\, United States
END:VEVENT
BEGIN:VEVENT
DTSTART;TZID=America/New_York:20260807T100000
DTEND;TZID=America/New_York:20260807T113000
DTSTAMP:20260422T204830
CREATED:20240607T153804Z
LAST-MODIFIED:20251224T212412Z
UID:46421-1786096800-1786102200@www.frsuu.org
SUMMARY:Friday Book Group (Hybrid)
DESCRIPTION:Fridays\, LMH Room A\, 10-11:30am. \nWe meet weekly and read both fiction and non-fiction books chosen by participants. Each book is read and discussed over a period of several meetings\, with the reading for each determined by the group.
URL:https://www.frsuu.org/event/friday-book-group/2026-08-07/
LOCATION:LMH Room A\, 26 Pleasant St\, Newburyport\, MA\, 01950\, United States
END:VEVENT
BEGIN:VEVENT
DTSTART;TZID=America/New_York:20260814T100000
DTEND;TZID=America/New_York:20260814T113000
DTSTAMP:20260422T204830
CREATED:20240607T153804Z
LAST-MODIFIED:20251224T212413Z
UID:46422-1786701600-1786707000@www.frsuu.org
SUMMARY:Friday Book Group (Hybrid)
DESCRIPTION:Fridays\, LMH Room A\, 10-11:30am. \nWe meet weekly and read both fiction and non-fiction books chosen by participants. Each book is read and discussed over a period of several meetings\, with the reading for each determined by the group.
URL:https://www.frsuu.org/event/friday-book-group/2026-08-14/
LOCATION:LMH Room A\, 26 Pleasant St\, Newburyport\, MA\, 01950\, United States
END:VEVENT
BEGIN:VEVENT
DTSTART;TZID=America/New_York:20260821T100000
DTEND;TZID=America/New_York:20260821T113000
DTSTAMP:20260422T204830
CREATED:20240607T153804Z
LAST-MODIFIED:20251224T212415Z
UID:46423-1787306400-1787311800@www.frsuu.org
SUMMARY:Friday Book Group (Hybrid)
DESCRIPTION:Fridays\, LMH Room A\, 10-11:30am. \nWe meet weekly and read both fiction and non-fiction books chosen by participants. Each book is read and discussed over a period of several meetings\, with the reading for each determined by the group.
URL:https://www.frsuu.org/event/friday-book-group/2026-08-21/
LOCATION:LMH Room A\, 26 Pleasant St\, Newburyport\, MA\, 01950\, United States
END:VEVENT
BEGIN:VEVENT
DTSTART;TZID=America/New_York:20260828T100000
DTEND;TZID=America/New_York:20260828T113000
DTSTAMP:20260422T204830
CREATED:20240607T153804Z
LAST-MODIFIED:20251224T212415Z
UID:46424-1787911200-1787916600@www.frsuu.org
SUMMARY:Friday Book Group (Hybrid)
DESCRIPTION:Fridays\, LMH Room A\, 10-11:30am. \nWe meet weekly and read both fiction and non-fiction books chosen by participants. Each book is read and discussed over a period of several meetings\, with the reading for each determined by the group.
URL:https://www.frsuu.org/event/friday-book-group/2026-08-28/
LOCATION:LMH Room A\, 26 Pleasant St\, Newburyport\, MA\, 01950\, United States
END:VEVENT
BEGIN:VEVENT
DTSTART;TZID=America/New_York:20260904T100000
DTEND;TZID=America/New_York:20260904T113000
DTSTAMP:20260422T204830
CREATED:20240607T153804Z
LAST-MODIFIED:20251224T212416Z
UID:46425-1788516000-1788521400@www.frsuu.org
SUMMARY:Friday Book Group (Hybrid)
DESCRIPTION:Fridays\, LMH Room A\, 10-11:30am. \nWe meet weekly and read both fiction and non-fiction books chosen by participants. Each book is read and discussed over a period of several meetings\, with the reading for each determined by the group.
URL:https://www.frsuu.org/event/friday-book-group/2026-09-04/
LOCATION:LMH Room A\, 26 Pleasant St\, Newburyport\, MA\, 01950\, United States
END:VEVENT
BEGIN:VEVENT
DTSTART;TZID=America/New_York:20260911T100000
DTEND;TZID=America/New_York:20260911T113000
DTSTAMP:20260422T204830
CREATED:20240607T153804Z
LAST-MODIFIED:20251224T212417Z
UID:46426-1789120800-1789126200@www.frsuu.org
SUMMARY:Friday Book Group (Hybrid)
DESCRIPTION:Fridays\, LMH Room A\, 10-11:30am. \nWe meet weekly and read both fiction and non-fiction books chosen by participants. Each book is read and discussed over a period of several meetings\, with the reading for each determined by the group.
URL:https://www.frsuu.org/event/friday-book-group/2026-09-11/
LOCATION:LMH Room A\, 26 Pleasant St\, Newburyport\, MA\, 01950\, United States
END:VEVENT
BEGIN:VEVENT
DTSTART;TZID=America/New_York:20260918T100000
DTEND;TZID=America/New_York:20260918T113000
DTSTAMP:20260422T204830
CREATED:20240607T153804Z
LAST-MODIFIED:20251224T212418Z
UID:46427-1789725600-1789731000@www.frsuu.org
SUMMARY:Friday Book Group (Hybrid)
DESCRIPTION:Fridays\, LMH Room A\, 10-11:30am. \nWe meet weekly and read both fiction and non-fiction books chosen by participants. Each book is read and discussed over a period of several meetings\, with the reading for each determined by the group.
URL:https://www.frsuu.org/event/friday-book-group/2026-09-18/
LOCATION:LMH Room A\, 26 Pleasant St\, Newburyport\, MA\, 01950\, United States
END:VEVENT
BEGIN:VEVENT
DTSTART;TZID=America/New_York:20260925T100000
DTEND;TZID=America/New_York:20260925T113000
DTSTAMP:20260422T204830
CREATED:20240607T153804Z
LAST-MODIFIED:20251224T212418Z
UID:46428-1790330400-1790335800@www.frsuu.org
SUMMARY:Friday Book Group (Hybrid)
DESCRIPTION:Fridays\, LMH Room A\, 10-11:30am. \nWe meet weekly and read both fiction and non-fiction books chosen by participants. Each book is read and discussed over a period of several meetings\, with the reading for each determined by the group.
URL:https://www.frsuu.org/event/friday-book-group/2026-09-25/
LOCATION:LMH Room A\, 26 Pleasant St\, Newburyport\, MA\, 01950\, United States
END:VEVENT
BEGIN:VEVENT
DTSTART;TZID=America/New_York:20261002T100000
DTEND;TZID=America/New_York:20261002T113000
DTSTAMP:20260422T204830
CREATED:20240607T153804Z
LAST-MODIFIED:20251224T212419Z
UID:46429-1790935200-1790940600@www.frsuu.org
SUMMARY:Friday Book Group (Hybrid)
DESCRIPTION:Fridays\, LMH Room A\, 10-11:30am. \nWe meet weekly and read both fiction and non-fiction books chosen by participants. Each book is read and discussed over a period of several meetings\, with the reading for each determined by the group.
URL:https://www.frsuu.org/event/friday-book-group/2026-10-02/
LOCATION:LMH Room A\, 26 Pleasant St\, Newburyport\, MA\, 01950\, United States
END:VEVENT
BEGIN:VEVENT
DTSTART;TZID=America/New_York:20261009T100000
DTEND;TZID=America/New_York:20261009T113000
DTSTAMP:20260422T204830
CREATED:20240607T153804Z
LAST-MODIFIED:20251224T212420Z
UID:46430-1791540000-1791545400@www.frsuu.org
SUMMARY:Friday Book Group (Hybrid)
DESCRIPTION:Fridays\, LMH Room A\, 10-11:30am. \nWe meet weekly and read both fiction and non-fiction books chosen by participants. Each book is read and discussed over a period of several meetings\, with the reading for each determined by the group.
URL:https://www.frsuu.org/event/friday-book-group/2026-10-09/
LOCATION:LMH Room A\, 26 Pleasant St\, Newburyport\, MA\, 01950\, United States
END:VEVENT
BEGIN:VEVENT
DTSTART;TZID=America/New_York:20261016T100000
DTEND;TZID=America/New_York:20261016T113000
DTSTAMP:20260422T204830
CREATED:20240607T153804Z
LAST-MODIFIED:20251224T212421Z
UID:46431-1792144800-1792150200@www.frsuu.org
SUMMARY:Friday Book Group (Hybrid)
DESCRIPTION:Fridays\, LMH Room A\, 10-11:30am. \nWe meet weekly and read both fiction and non-fiction books chosen by participants. Each book is read and discussed over a period of several meetings\, with the reading for each determined by the group.
URL:https://www.frsuu.org/event/friday-book-group/2026-10-16/
LOCATION:LMH Room A\, 26 Pleasant St\, Newburyport\, MA\, 01950\, United States
END:VEVENT
BEGIN:VEVENT
DTSTART;TZID=America/New_York:20261023T100000
DTEND;TZID=America/New_York:20261023T113000
DTSTAMP:20260422T204830
CREATED:20240607T153804Z
LAST-MODIFIED:20251224T212421Z
UID:46432-1792749600-1792755000@www.frsuu.org
SUMMARY:Friday Book Group (Hybrid)
DESCRIPTION:Fridays\, LMH Room A\, 10-11:30am. \nWe meet weekly and read both fiction and non-fiction books chosen by participants. Each book is read and discussed over a period of several meetings\, with the reading for each determined by the group.
URL:https://www.frsuu.org/event/friday-book-group/2026-10-23/
LOCATION:LMH Room A\, 26 Pleasant St\, Newburyport\, MA\, 01950\, United States
END:VEVENT
BEGIN:VEVENT
DTSTART;TZID=America/New_York:20261030T100000
DTEND;TZID=America/New_York:20261030T113000
DTSTAMP:20260422T204830
CREATED:20240607T153804Z
LAST-MODIFIED:20251224T212423Z
UID:46433-1793354400-1793359800@www.frsuu.org
SUMMARY:Friday Book Group (Hybrid)
DESCRIPTION:Fridays\, LMH Room A\, 10-11:30am. \nWe meet weekly and read both fiction and non-fiction books chosen by participants. Each book is read and discussed over a period of several meetings\, with the reading for each determined by the group.
URL:https://www.frsuu.org/event/friday-book-group/2026-10-30/
LOCATION:LMH Room A\, 26 Pleasant St\, Newburyport\, MA\, 01950\, United States
END:VEVENT
BEGIN:VEVENT
DTSTART;TZID=America/New_York:20261106T100000
DTEND;TZID=America/New_York:20261106T113000
DTSTAMP:20260422T204830
CREATED:20240607T153804Z
LAST-MODIFIED:20251224T212424Z
UID:46434-1793959200-1793964600@www.frsuu.org
SUMMARY:Friday Book Group (Hybrid)
DESCRIPTION:Fridays\, LMH Room A\, 10-11:30am. \nWe meet weekly and read both fiction and non-fiction books chosen by participants. Each book is read and discussed over a period of several meetings\, with the reading for each determined by the group.
URL:https://www.frsuu.org/event/friday-book-group/2026-11-06/
LOCATION:LMH Room A\, 26 Pleasant St\, Newburyport\, MA\, 01950\, United States
END:VEVENT
BEGIN:VEVENT
DTSTART;TZID=America/New_York:20261113T100000
DTEND;TZID=America/New_York:20261113T113000
DTSTAMP:20260422T204830
CREATED:20240607T153804Z
LAST-MODIFIED:20251224T212425Z
UID:46435-1794564000-1794569400@www.frsuu.org
SUMMARY:Friday Book Group (Hybrid)
DESCRIPTION:Fridays\, LMH Room A\, 10-11:30am. \nWe meet weekly and read both fiction and non-fiction books chosen by participants. Each book is read and discussed over a period of several meetings\, with the reading for each determined by the group.
URL:https://www.frsuu.org/event/friday-book-group/2026-11-13/
LOCATION:LMH Room A\, 26 Pleasant St\, Newburyport\, MA\, 01950\, United States
END:VEVENT
END:VCALENDAR