BEGIN:VCALENDAR
VERSION:2.0
PRODID:-//First Religious Society of Newburyport - ECPv6.15.20//NONSGML v1.0//EN
CALSCALE:GREGORIAN
METHOD:PUBLISH
X-WR-CALNAME:First Religious Society of Newburyport
X-ORIGINAL-URL:https://www.frsuu.org
X-WR-CALDESC:Events for First Religious Society of Newburyport
REFRESH-INTERVAL;VALUE=DURATION:PT1H
X-Robots-Tag:noindex
X-PUBLISHED-TTL:PT1H
BEGIN:VTIMEZONE
TZID:America/New_York
BEGIN:DAYLIGHT
TZOFFSETFROM:-0500
TZOFFSETTO:-0400
TZNAME:EDT
DTSTART:20240310T070000
END:DAYLIGHT
BEGIN:STANDARD
TZOFFSETFROM:-0400
TZOFFSETTO:-0500
TZNAME:EST
DTSTART:20241103T060000
END:STANDARD
BEGIN:DAYLIGHT
TZOFFSETFROM:-0500
TZOFFSETTO:-0400
TZNAME:EDT
DTSTART:20250309T070000
END:DAYLIGHT
BEGIN:STANDARD
TZOFFSETFROM:-0400
TZOFFSETTO:-0500
TZNAME:EST
DTSTART:20251102T060000
END:STANDARD
BEGIN:DAYLIGHT
TZOFFSETFROM:-0500
TZOFFSETTO:-0400
TZNAME:EDT
DTSTART:20260308T070000
END:DAYLIGHT
BEGIN:STANDARD
TZOFFSETFROM:-0400
TZOFFSETTO:-0500
TZNAME:EST
DTSTART:20261101T060000
END:STANDARD
END:VTIMEZONE
BEGIN:VEVENT
DTSTART;TZID=America/New_York:20250529T100000
DTEND;TZID=America/New_York:20250529T120000
DTSTAMP:20260419T212817
CREATED:20250115T150444Z
LAST-MODIFIED:20250417T203556Z
UID:43650-1748512800-1748520000@www.frsuu.org
SUMMARY:Chalice Circle
DESCRIPTION:Thursdays\, February 27 to May 29\, LMH Nursery/Conf Room\, 10am-noon.
URL:https://www.frsuu.org/event/hold-for-chalice-circle-2/2025-05-29/
LOCATION:LMH Nursery/Conf Room
END:VEVENT
BEGIN:VEVENT
DTSTART;TZID=America/New_York:20250515T100000
DTEND;TZID=America/New_York:20250515T120000
DTSTAMP:20260419T212817
CREATED:20250115T150444Z
LAST-MODIFIED:20250417T203555Z
UID:43648-1747303200-1747310400@www.frsuu.org
SUMMARY:Chalice Circle
DESCRIPTION:Thursdays\, February 27 to May 29\, LMH Nursery/Conf Room\, 10am-noon.
URL:https://www.frsuu.org/event/hold-for-chalice-circle-2/2025-05-15/
LOCATION:LMH Nursery/Conf Room
END:VEVENT
BEGIN:VEVENT
DTSTART;TZID=America/New_York:20250508T100000
DTEND;TZID=America/New_York:20250508T120000
DTSTAMP:20260419T212817
CREATED:20250115T150444Z
LAST-MODIFIED:20250417T203554Z
UID:43646-1746698400-1746705600@www.frsuu.org
SUMMARY:Chalice Circle
DESCRIPTION:Thursdays\, February 27 to May 29\, LMH Nursery/Conf Room\, 10am-noon.
URL:https://www.frsuu.org/event/hold-for-chalice-circle-2/2025-05-08/
LOCATION:LMH Nursery/Conf Room
END:VEVENT
BEGIN:VEVENT
DTSTART;TZID=America/New_York:20250501T100000
DTEND;TZID=America/New_York:20250501T120000
DTSTAMP:20260419T212817
CREATED:20250115T150444Z
LAST-MODIFIED:20250417T203550Z
UID:43645-1746093600-1746100800@www.frsuu.org
SUMMARY:Chalice Circle
DESCRIPTION:Thursdays\, February 27 to May 29\, LMH Nursery/Conf Room\, 10am-noon.
URL:https://www.frsuu.org/event/hold-for-chalice-circle-2/2025-05-01/
LOCATION:LMH Nursery/Conf Room
END:VEVENT
BEGIN:VEVENT
DTSTART;TZID=America/New_York:20250417T100000
DTEND;TZID=America/New_York:20250417T120000
DTSTAMP:20260419T212817
CREATED:20250115T150444Z
LAST-MODIFIED:20250417T203549Z
UID:43643-1744884000-1744891200@www.frsuu.org
SUMMARY:Chalice Circle
DESCRIPTION:Thursdays\, February 27 to May 29\, LMH Nursery/Conf Room\, 10am-noon.
URL:https://www.frsuu.org/event/hold-for-chalice-circle-2/2025-04-17/
LOCATION:LMH Nursery/Conf Room
END:VEVENT
BEGIN:VEVENT
DTSTART;TZID=America/New_York:20250410T100000
DTEND;TZID=America/New_York:20250410T120000
DTSTAMP:20260419T212817
CREATED:20250115T150444Z
LAST-MODIFIED:20250417T203548Z
UID:43642-1744279200-1744286400@www.frsuu.org
SUMMARY:Chalice Circle
DESCRIPTION:Thursdays\, February 27 to May 29\, LMH Nursery/Conf Room\, 10am-noon.
URL:https://www.frsuu.org/event/hold-for-chalice-circle-2/2025-04-10/
LOCATION:LMH Nursery/Conf Room
END:VEVENT
BEGIN:VEVENT
DTSTART;TZID=America/New_York:20250403T100000
DTEND;TZID=America/New_York:20250403T120000
DTSTAMP:20260419T212817
CREATED:20250115T150444Z
LAST-MODIFIED:20250417T203547Z
UID:43641-1743674400-1743681600@www.frsuu.org
SUMMARY:Chalice Circle
DESCRIPTION:Thursdays\, February 27 to May 29\, LMH Nursery/Conf Room\, 10am-noon.
URL:https://www.frsuu.org/event/hold-for-chalice-circle-2/2025-04-03/
LOCATION:LMH Nursery/Conf Room
END:VEVENT
BEGIN:VEVENT
DTSTART;TZID=America/New_York:20250327T100000
DTEND;TZID=America/New_York:20250327T120000
DTSTAMP:20260419T212817
CREATED:20250115T150444Z
LAST-MODIFIED:20250417T203546Z
UID:43640-1743069600-1743076800@www.frsuu.org
SUMMARY:Chalice Circle
DESCRIPTION:Thursdays\, February 27 to May 29\, LMH Nursery/Conf Room\, 10am-noon.
URL:https://www.frsuu.org/event/hold-for-chalice-circle-2/2025-03-27/
LOCATION:LMH Nursery/Conf Room
END:VEVENT
BEGIN:VEVENT
DTSTART;TZID=America/New_York:20250320T100000
DTEND;TZID=America/New_York:20250320T120000
DTSTAMP:20260419T212817
CREATED:20250115T150444Z
LAST-MODIFIED:20250417T203545Z
UID:43639-1742464800-1742472000@www.frsuu.org
SUMMARY:Chalice Circle
DESCRIPTION:Thursdays\, February 27 to May 29\, LMH Nursery/Conf Room\, 10am-noon.
URL:https://www.frsuu.org/event/hold-for-chalice-circle-2/2025-03-20/
LOCATION:LMH Nursery/Conf Room
END:VEVENT
BEGIN:VEVENT
DTSTART;TZID=America/New_York:20250313T100000
DTEND;TZID=America/New_York:20250313T120000
DTSTAMP:20260419T212817
CREATED:20250115T150444Z
LAST-MODIFIED:20250417T203544Z
UID:43638-1741860000-1741867200@www.frsuu.org
SUMMARY:Chalice Circle
DESCRIPTION:Thursdays\, February 27 to May 29\, LMH Nursery/Conf Room\, 10am-noon.
URL:https://www.frsuu.org/event/hold-for-chalice-circle-2/2025-03-13/
LOCATION:LMH Nursery/Conf Room
END:VEVENT
BEGIN:VEVENT
DTSTART;TZID=America/New_York:20250306T100000
DTEND;TZID=America/New_York:20250306T120000
DTSTAMP:20260419T212817
CREATED:20250115T150444Z
LAST-MODIFIED:20250417T203543Z
UID:43637-1741255200-1741262400@www.frsuu.org
SUMMARY:Chalice Circle
DESCRIPTION:Thursdays\, February 27 to May 29\, LMH Nursery/Conf Room\, 10am-noon.
URL:https://www.frsuu.org/event/hold-for-chalice-circle-2/2025-03-06/
LOCATION:LMH Nursery/Conf Room
END:VEVENT
BEGIN:VEVENT
DTSTART;TZID=America/New_York:20250227T100000
DTEND;TZID=America/New_York:20250227T120000
DTSTAMP:20260419T212817
CREATED:20250115T150444Z
LAST-MODIFIED:20250417T203542Z
UID:43636-1740650400-1740657600@www.frsuu.org
SUMMARY:Chalice Circle
DESCRIPTION:Thursdays\, February 27 to May 29\, LMH Nursery/Conf Room\, 10am-noon.
URL:https://www.frsuu.org/event/hold-for-chalice-circle-2/2025-02-27/
LOCATION:LMH Nursery/Conf Room
END:VEVENT
END:VCALENDAR