BEGIN:VCALENDAR
VERSION:2.0
PRODID:-//First Religious Society of Newburyport - ECPv6.15.20//NONSGML v1.0//EN
CALSCALE:GREGORIAN
METHOD:PUBLISH
X-WR-CALNAME:First Religious Society of Newburyport
X-ORIGINAL-URL:https://www.frsuu.org
X-WR-CALDESC:Events for First Religious Society of Newburyport
REFRESH-INTERVAL;VALUE=DURATION:PT1H
X-Robots-Tag:noindex
X-PUBLISHED-TTL:PT1H
BEGIN:VTIMEZONE
TZID:America/New_York
BEGIN:DAYLIGHT
TZOFFSETFROM:-0500
TZOFFSETTO:-0400
TZNAME:EDT
DTSTART:20230312T070000
END:DAYLIGHT
BEGIN:STANDARD
TZOFFSETFROM:-0400
TZOFFSETTO:-0500
TZNAME:EST
DTSTART:20231105T060000
END:STANDARD
BEGIN:DAYLIGHT
TZOFFSETFROM:-0500
TZOFFSETTO:-0400
TZNAME:EDT
DTSTART:20240310T070000
END:DAYLIGHT
BEGIN:STANDARD
TZOFFSETFROM:-0400
TZOFFSETTO:-0500
TZNAME:EST
DTSTART:20241103T060000
END:STANDARD
BEGIN:DAYLIGHT
TZOFFSETFROM:-0500
TZOFFSETTO:-0400
TZNAME:EDT
DTSTART:20250309T070000
END:DAYLIGHT
BEGIN:STANDARD
TZOFFSETFROM:-0400
TZOFFSETTO:-0500
TZNAME:EST
DTSTART:20251102T060000
END:STANDARD
END:VTIMEZONE
BEGIN:VEVENT
DTSTART;TZID=America/New_York:20241130T100000
DTEND;TZID=America/New_York:20241130T160000
DTSTAMP:20260420T010223
CREATED:20240925T152642Z
LAST-MODIFIED:20240925T152642Z
UID:42883-1732960800-1732982400@www.frsuu.org
SUMMARY:Holiday Bazaar
DESCRIPTION:NAAM Artisan’s 2nd Annual Holiday Pop Up Market Friday\, November 29 and Saturday\, November 30 in the Lower Meetinghouse featuring handcrafted items for everyone \nFriday: 11am-5pm \nSaturday: 10am-4pm
URL:https://www.frsuu.org/event/holiday-bazaar/2024-11-30/
LOCATION:LMH Main Room\, 26 Pleasant St\, Newburyport\, MA\, 01950\, United States
CATEGORIES:Community Events
ORGANIZER;CN="Cynthia Walsh":MAILTO:cynthia.walsh@frsuu.org
END:VEVENT
BEGIN:VEVENT
DTSTART;TZID=America/New_York:20241129T110000
DTEND;TZID=America/New_York:20241129T170000
DTSTAMP:20260420T010223
CREATED:20240925T152642Z
LAST-MODIFIED:20241121T232031Z
UID:41624-1732878000-1732899600@www.frsuu.org
SUMMARY:Holiday Bazaar
DESCRIPTION:NAAM Artisan’s 2nd Annual Holiday Pop Up Market Friday\, November 29 and Saturday\, November 30 in the Lower Meetinghouse featuring handcrafted items for everyone \nFriday: 11am-5pm \nSaturday: 10am-4pm
URL:https://www.frsuu.org/event/holiday-bazaar/2024-11-29/
LOCATION:LMH Main Room\, 26 Pleasant St\, Newburyport\, MA\, 01950\, United States
CATEGORIES:Community Events
ORGANIZER;CN="Cynthia Walsh":MAILTO:cynthia.walsh@frsuu.org
END:VEVENT
END:VCALENDAR