BEGIN:VCALENDAR
VERSION:2.0
PRODID:-//First Religious Society of Newburyport - ECPv6.15.20//NONSGML v1.0//EN
CALSCALE:GREGORIAN
METHOD:PUBLISH
X-WR-CALNAME:First Religious Society of Newburyport
X-ORIGINAL-URL:https://www.frsuu.org
X-WR-CALDESC:Events for First Religious Society of Newburyport
REFRESH-INTERVAL;VALUE=DURATION:PT1H
X-Robots-Tag:noindex
X-PUBLISHED-TTL:PT1H
BEGIN:VTIMEZONE
TZID:America/New_York
BEGIN:DAYLIGHT
TZOFFSETFROM:-0500
TZOFFSETTO:-0400
TZNAME:EDT
DTSTART:20250309T070000
END:DAYLIGHT
BEGIN:STANDARD
TZOFFSETFROM:-0400
TZOFFSETTO:-0500
TZNAME:EST
DTSTART:20251102T060000
END:STANDARD
BEGIN:DAYLIGHT
TZOFFSETFROM:-0500
TZOFFSETTO:-0400
TZNAME:EDT
DTSTART:20260308T070000
END:DAYLIGHT
BEGIN:STANDARD
TZOFFSETFROM:-0400
TZOFFSETTO:-0500
TZNAME:EST
DTSTART:20261101T060000
END:STANDARD
BEGIN:DAYLIGHT
TZOFFSETFROM:-0500
TZOFFSETTO:-0400
TZNAME:EDT
DTSTART:20270314T070000
END:DAYLIGHT
BEGIN:STANDARD
TZOFFSETFROM:-0400
TZOFFSETTO:-0500
TZNAME:EST
DTSTART:20271107T060000
END:STANDARD
END:VTIMEZONE
BEGIN:VEVENT
DTSTART;TZID=America/New_York:20260504T110000
DTEND;TZID=America/New_York:20260504T130000
DTSTAMP:20260421T093814
CREATED:20260416T180346Z
LAST-MODIFIED:20260416T180348Z
UID:50928-1777892400-1777899600@www.frsuu.org
SUMMARY:Maker Monday
DESCRIPTION:First and third Mondays\, LMH Nursery/Conference Room\, 11am-1pm. Join other makers from our FRSUU community for our Maker Monday offering on the first and third Monday of each month. Bring a creative project\, or start a new one\, and connect with others. All are welcome. Craft supplies available.
URL:https://www.frsuu.org/event/maker-monday-2/2026-05-04/
LOCATION:LMH Nursery/Conf Room
END:VEVENT
BEGIN:VEVENT
DTSTART;TZID=America/New_York:20260601T110000
DTEND;TZID=America/New_York:20260601T130000
DTSTAMP:20260421T093814
CREATED:20260416T180346Z
LAST-MODIFIED:20260416T180346Z
UID:50930-1780311600-1780318800@www.frsuu.org
SUMMARY:Maker Monday
DESCRIPTION:First and third Mondays\, LMH Nursery/Conference Room\, 11am-1pm. Join other makers from our FRSUU community for our Maker Monday offering on the first and third Monday of each month. Bring a creative project\, or start a new one\, and connect with others. All are welcome. Craft supplies available.
URL:https://www.frsuu.org/event/maker-monday-2/2026-06-01/
LOCATION:LMH Nursery/Conf Room
END:VEVENT
END:VCALENDAR