BEGIN:VCALENDAR
VERSION:2.0
PRODID:-//First Religious Society of Newburyport - ECPv6.15.20//NONSGML v1.0//EN
CALSCALE:GREGORIAN
METHOD:PUBLISH
X-ORIGINAL-URL:https://www.frsuu.org
X-WR-CALDESC:Events for First Religious Society of Newburyport
REFRESH-INTERVAL;VALUE=DURATION:PT1H
X-Robots-Tag:noindex
X-PUBLISHED-TTL:PT1H
BEGIN:VTIMEZONE
TZID:America/New_York
BEGIN:DAYLIGHT
TZOFFSETFROM:-0500
TZOFFSETTO:-0400
TZNAME:EDT
DTSTART:20250309T070000
END:DAYLIGHT
BEGIN:STANDARD
TZOFFSETFROM:-0400
TZOFFSETTO:-0500
TZNAME:EST
DTSTART:20251102T060000
END:STANDARD
BEGIN:DAYLIGHT
TZOFFSETFROM:-0500
TZOFFSETTO:-0400
TZNAME:EDT
DTSTART:20260308T070000
END:DAYLIGHT
BEGIN:STANDARD
TZOFFSETFROM:-0400
TZOFFSETTO:-0500
TZNAME:EST
DTSTART:20261101T060000
END:STANDARD
BEGIN:DAYLIGHT
TZOFFSETFROM:-0500
TZOFFSETTO:-0400
TZNAME:EDT
DTSTART:20270314T070000
END:DAYLIGHT
BEGIN:STANDARD
TZOFFSETFROM:-0400
TZOFFSETTO:-0500
TZNAME:EST
DTSTART:20271107T060000
END:STANDARD
END:VTIMEZONE
BEGIN:VEVENT
DTSTART;TZID=America/New_York:20260420T110000
DTEND;TZID=America/New_York:20260420T130000
DTSTAMP:20260419T212726
CREATED:20260416T175929Z
LAST-MODIFIED:20260416T175931Z
UID:50918-1776682800-1776690000@www.frsuu.org
SUMMARY:Maker Monday
DESCRIPTION:First and third Mondays\, LMH Nursery/Conference Room\, 11am-1pm. Join other makers from our FRSUU community for our Maker Monday offering on the first and third Monday of each month. Bring a creative project\, or start a new one\, and connect with others. All are welcome. Craft supplies available.
URL:https://www.frsuu.org/event/maker-monday/2026-04-20/
LOCATION:LMH Nursery/Conf Room
END:VEVENT
BEGIN:VEVENT
DTSTART;TZID=America/New_York:20260518T110000
DTEND;TZID=America/New_York:20260518T130000
DTSTAMP:20260419T212726
CREATED:20260416T175929Z
LAST-MODIFIED:20260416T175929Z
UID:50920-1779102000-1779109200@www.frsuu.org
SUMMARY:Maker Monday
DESCRIPTION:First and third Mondays\, LMH Nursery/Conference Room\, 11am-1pm. Join other makers from our FRSUU community for our Maker Monday offering on the first and third Monday of each month. Bring a creative project\, or start a new one\, and connect with others. All are welcome. Craft supplies available.
URL:https://www.frsuu.org/event/maker-monday/2026-05-18/
LOCATION:LMH Nursery/Conf Room
END:VEVENT
BEGIN:VEVENT
DTSTART;TZID=America/New_York:20260615T110000
DTEND;TZID=America/New_York:20260615T130000
DTSTAMP:20260419T212726
CREATED:20260416T175929Z
LAST-MODIFIED:20260416T175929Z
UID:50921-1781521200-1781528400@www.frsuu.org
SUMMARY:Maker Monday
DESCRIPTION:First and third Mondays\, LMH Nursery/Conference Room\, 11am-1pm. Join other makers from our FRSUU community for our Maker Monday offering on the first and third Monday of each month. Bring a creative project\, or start a new one\, and connect with others. All are welcome. Craft supplies available.
URL:https://www.frsuu.org/event/maker-monday/2026-06-15/
LOCATION:LMH Nursery/Conf Room
END:VEVENT
END:VCALENDAR