BEGIN:VCALENDAR
VERSION:2.0
PRODID:-//First Religious Society of Newburyport - ECPv6.15.20//NONSGML v1.0//EN
CALSCALE:GREGORIAN
METHOD:PUBLISH
X-WR-CALNAME:First Religious Society of Newburyport
X-ORIGINAL-URL:https://www.frsuu.org
X-WR-CALDESC:Events for First Religious Society of Newburyport
REFRESH-INTERVAL;VALUE=DURATION:PT1H
X-Robots-Tag:noindex
X-PUBLISHED-TTL:PT1H
BEGIN:VTIMEZONE
TZID:America/New_York
BEGIN:DAYLIGHT
TZOFFSETFROM:-0500
TZOFFSETTO:-0400
TZNAME:EDT
DTSTART:20240310T070000
END:DAYLIGHT
BEGIN:STANDARD
TZOFFSETFROM:-0400
TZOFFSETTO:-0500
TZNAME:EST
DTSTART:20241103T060000
END:STANDARD
BEGIN:DAYLIGHT
TZOFFSETFROM:-0500
TZOFFSETTO:-0400
TZNAME:EDT
DTSTART:20250309T070000
END:DAYLIGHT
BEGIN:STANDARD
TZOFFSETFROM:-0400
TZOFFSETTO:-0500
TZNAME:EST
DTSTART:20251102T060000
END:STANDARD
BEGIN:DAYLIGHT
TZOFFSETFROM:-0500
TZOFFSETTO:-0400
TZNAME:EDT
DTSTART:20260308T070000
END:DAYLIGHT
BEGIN:STANDARD
TZOFFSETFROM:-0400
TZOFFSETTO:-0500
TZNAME:EST
DTSTART:20261101T060000
END:STANDARD
BEGIN:DAYLIGHT
TZOFFSETFROM:-0500
TZOFFSETTO:-0400
TZNAME:EDT
DTSTART:20270314T070000
END:DAYLIGHT
BEGIN:STANDARD
TZOFFSETFROM:-0400
TZOFFSETTO:-0500
TZNAME:EST
DTSTART:20271107T060000
END:STANDARD
END:VTIMEZONE
BEGIN:VEVENT
DTSTART;TZID=America/New_York:20260415T180000
DTEND;TZID=America/New_York:20260415T200000
DTSTAMP:20260424T085434
CREATED:20250829T144048Z
LAST-MODIFIED:20250829T144048Z
UID:47377-1776276000-1776283200@www.frsuu.org
SUMMARY:Parish Board Meeting
DESCRIPTION:Third Wednesdays\, LMH Main Room\, 6-8pm\, hybrid
URL:https://www.frsuu.org/event/parish-board-meeting-2/2026-04-15/
LOCATION:LMH Main Room\, 26 Pleasant St\, Newburyport\, MA\, 01950\, United States
END:VEVENT
BEGIN:VEVENT
DTSTART;TZID=America/New_York:20260318T180000
DTEND;TZID=America/New_York:20260318T200000
DTSTAMP:20260424T085434
CREATED:20250829T144048Z
LAST-MODIFIED:20250829T144048Z
UID:47376-1773856800-1773864000@www.frsuu.org
SUMMARY:Parish Board Meeting
DESCRIPTION:Third Wednesdays\, LMH Main Room\, 6-8pm\, hybrid
URL:https://www.frsuu.org/event/parish-board-meeting-2/2026-03-18/
LOCATION:LMH Main Room\, 26 Pleasant St\, Newburyport\, MA\, 01950\, United States
END:VEVENT
BEGIN:VEVENT
DTSTART;TZID=America/New_York:20260218T180000
DTEND;TZID=America/New_York:20260218T200000
DTSTAMP:20260424T085434
CREATED:20250829T144048Z
LAST-MODIFIED:20250829T144048Z
UID:47375-1771437600-1771444800@www.frsuu.org
SUMMARY:Parish Board Meeting
DESCRIPTION:Third Wednesdays\, LMH Main Room\, 6-8pm\, hybrid
URL:https://www.frsuu.org/event/parish-board-meeting-2/2026-02-18/
LOCATION:LMH Main Room\, 26 Pleasant St\, Newburyport\, MA\, 01950\, United States
END:VEVENT
BEGIN:VEVENT
DTSTART;TZID=America/New_York:20260121T180000
DTEND;TZID=America/New_York:20260121T200000
DTSTAMP:20260424T085434
CREATED:20250829T144048Z
LAST-MODIFIED:20250829T144048Z
UID:47374-1769018400-1769025600@www.frsuu.org
SUMMARY:Parish Board Meeting
DESCRIPTION:Third Wednesdays\, LMH Main Room\, 6-8pm\, hybrid
URL:https://www.frsuu.org/event/parish-board-meeting-2/2026-01-21/
LOCATION:LMH Main Room\, 26 Pleasant St\, Newburyport\, MA\, 01950\, United States
END:VEVENT
BEGIN:VEVENT
DTSTART;TZID=America/New_York:20251217T180000
DTEND;TZID=America/New_York:20251217T200000
DTSTAMP:20260424T085434
CREATED:20250829T144048Z
LAST-MODIFIED:20250829T144048Z
UID:47373-1765994400-1766001600@www.frsuu.org
SUMMARY:Parish Board Meeting
DESCRIPTION:Third Wednesdays\, LMH Main Room\, 6-8pm\, hybrid
URL:https://www.frsuu.org/event/parish-board-meeting-2/2025-12-17/
LOCATION:LMH Main Room\, 26 Pleasant St\, Newburyport\, MA\, 01950\, United States
END:VEVENT
BEGIN:VEVENT
DTSTART;TZID=America/New_York:20251119T180000
DTEND;TZID=America/New_York:20251119T200000
DTSTAMP:20260424T085434
CREATED:20250829T144048Z
LAST-MODIFIED:20250829T144048Z
UID:47372-1763575200-1763582400@www.frsuu.org
SUMMARY:Parish Board Meeting
DESCRIPTION:Third Wednesdays\, LMH Main Room\, 6-8pm\, hybrid
URL:https://www.frsuu.org/event/parish-board-meeting-2/2025-11-19/
LOCATION:LMH Main Room\, 26 Pleasant St\, Newburyport\, MA\, 01950\, United States
END:VEVENT
BEGIN:VEVENT
DTSTART;TZID=America/New_York:20251015T180000
DTEND;TZID=America/New_York:20251015T200000
DTSTAMP:20260424T085434
CREATED:20250829T144048Z
LAST-MODIFIED:20250829T144048Z
UID:47371-1760551200-1760558400@www.frsuu.org
SUMMARY:Parish Board Meeting
DESCRIPTION:Third Wednesdays\, LMH Main Room\, 6-8pm\, hybrid
URL:https://www.frsuu.org/event/parish-board-meeting-2/2025-10-15/
LOCATION:LMH Main Room\, 26 Pleasant St\, Newburyport\, MA\, 01950\, United States
END:VEVENT
BEGIN:VEVENT
DTSTART;TZID=America/New_York:20250917T180000
DTEND;TZID=America/New_York:20250917T200000
DTSTAMP:20260424T085434
CREATED:20250829T144048Z
LAST-MODIFIED:20250903T175751Z
UID:47321-1758132000-1758139200@www.frsuu.org
SUMMARY:Parish Board Meeting
DESCRIPTION:Third Wednesdays\, LMH Main Room\, 6-8pm\, hybrid
URL:https://www.frsuu.org/event/parish-board-meeting-2/2025-09-17/
LOCATION:LMH Main Room\, 26 Pleasant St\, Newburyport\, MA\, 01950\, United States
END:VEVENT
END:VCALENDAR