BEGIN:VCALENDAR
VERSION:2.0
PRODID:-//First Religious Society of Newburyport - ECPv6.15.20//NONSGML v1.0//EN
CALSCALE:GREGORIAN
METHOD:PUBLISH
X-WR-CALNAME:First Religious Society of Newburyport
X-ORIGINAL-URL:https://www.frsuu.org
X-WR-CALDESC:Events for First Religious Society of Newburyport
REFRESH-INTERVAL;VALUE=DURATION:PT1H
X-Robots-Tag:noindex
X-PUBLISHED-TTL:PT1H
BEGIN:VTIMEZONE
TZID:America/New_York
BEGIN:DAYLIGHT
TZOFFSETFROM:-0500
TZOFFSETTO:-0400
TZNAME:EDT
DTSTART:20240310T070000
END:DAYLIGHT
BEGIN:STANDARD
TZOFFSETFROM:-0400
TZOFFSETTO:-0500
TZNAME:EST
DTSTART:20241103T060000
END:STANDARD
BEGIN:DAYLIGHT
TZOFFSETFROM:-0500
TZOFFSETTO:-0400
TZNAME:EDT
DTSTART:20250309T070000
END:DAYLIGHT
BEGIN:STANDARD
TZOFFSETFROM:-0400
TZOFFSETTO:-0500
TZNAME:EST
DTSTART:20251102T060000
END:STANDARD
BEGIN:DAYLIGHT
TZOFFSETFROM:-0500
TZOFFSETTO:-0400
TZNAME:EDT
DTSTART:20260308T070000
END:DAYLIGHT
BEGIN:STANDARD
TZOFFSETFROM:-0400
TZOFFSETTO:-0500
TZNAME:EST
DTSTART:20261101T060000
END:STANDARD
END:VTIMEZONE
BEGIN:VEVENT
DTSTART;TZID=America/New_York:20251207T113000
DTEND;TZID=America/New_York:20251207T123000
DTSTAMP:20260420T012745
CREATED:20251126T204125Z
LAST-MODIFIED:20251126T204125Z
UID:49493-1765107000-1765110600@www.frsuu.org
SUMMARY:Postcards at Coffee Hour
DESCRIPTION:Sundays\, November 30 & December 7\, Parish Hall\, 11:30am-12:30pm \nJoin us for coffee and send a postcard to Governor Healy urging her to use executive action to affirm that Massachusetts will follow its constitution and provide support and protection to all residents of our state in the face of actions by the federal government. Refer to last Wednesday՚s Steeple newsletter for more information.
URL:https://www.frsuu.org/event/postcards-at-coffee-hour/2025-12-07/
LOCATION:Parish Hall 1st Floor
END:VEVENT
BEGIN:VEVENT
DTSTART;TZID=America/New_York:20251130T113000
DTEND;TZID=America/New_York:20251130T123000
DTSTAMP:20260420T012745
CREATED:20251126T204125Z
LAST-MODIFIED:20251126T204127Z
UID:49491-1764502200-1764505800@www.frsuu.org
SUMMARY:Postcards at Coffee Hour
DESCRIPTION:Sundays\, November 30 & December 7\, Parish Hall\, 11:30am-12:30pm \nJoin us for coffee and send a postcard to Governor Healy urging her to use executive action to affirm that Massachusetts will follow its constitution and provide support and protection to all residents of our state in the face of actions by the federal government. Refer to last Wednesday՚s Steeple newsletter for more information.
URL:https://www.frsuu.org/event/postcards-at-coffee-hour/2025-11-30/
LOCATION:Parish Hall 1st Floor
END:VEVENT
END:VCALENDAR