BEGIN:VCALENDAR
VERSION:2.0
PRODID:-//First Religious Society of Newburyport - ECPv6.15.20//NONSGML v1.0//EN
CALSCALE:GREGORIAN
METHOD:PUBLISH
X-WR-CALNAME:First Religious Society of Newburyport
X-ORIGINAL-URL:https://www.frsuu.org
X-WR-CALDESC:Events for First Religious Society of Newburyport
REFRESH-INTERVAL;VALUE=DURATION:PT1H
X-Robots-Tag:noindex
X-PUBLISHED-TTL:PT1H
BEGIN:VTIMEZONE
TZID:America/New_York
BEGIN:DAYLIGHT
TZOFFSETFROM:-0500
TZOFFSETTO:-0400
TZNAME:EDT
DTSTART:20230312T070000
END:DAYLIGHT
BEGIN:STANDARD
TZOFFSETFROM:-0400
TZOFFSETTO:-0500
TZNAME:EST
DTSTART:20231105T060000
END:STANDARD
BEGIN:DAYLIGHT
TZOFFSETFROM:-0500
TZOFFSETTO:-0400
TZNAME:EDT
DTSTART:20240310T070000
END:DAYLIGHT
BEGIN:STANDARD
TZOFFSETFROM:-0400
TZOFFSETTO:-0500
TZNAME:EST
DTSTART:20241103T060000
END:STANDARD
BEGIN:DAYLIGHT
TZOFFSETFROM:-0500
TZOFFSETTO:-0400
TZNAME:EDT
DTSTART:20250309T070000
END:DAYLIGHT
BEGIN:STANDARD
TZOFFSETFROM:-0400
TZOFFSETTO:-0500
TZNAME:EST
DTSTART:20251102T060000
END:STANDARD
END:VTIMEZONE
BEGIN:VEVENT
DTSTART;TZID=America/New_York:20241219T153000
DTEND;TZID=America/New_York:20241219T173000
DTSTAMP:20260423T012220
CREATED:20240925T153249Z
LAST-MODIFIED:20241023T192204Z
UID:42360-1734622200-1734629400@www.frsuu.org
SUMMARY:Private Rental
DESCRIPTION:TITO Afterschool Program from 3:30-5:30pm\, Parish Hall 1st floor. \nOct. 24\nNov.7\, 14 & 21\nDec. 5\, 12 & 19
URL:https://www.frsuu.org/event/private-rental/2024-12-19/
LOCATION:Parish Hall 1st Floor
CATEGORIES:Private Rental
ORGANIZER;CN="Cynthia Walsh":MAILTO:cynthia.walsh@frsuu.org
END:VEVENT
BEGIN:VEVENT
DTSTART;TZID=America/New_York:20241212T153000
DTEND;TZID=America/New_York:20241212T173000
DTSTAMP:20260423T012220
CREATED:20240925T153249Z
LAST-MODIFIED:20241023T192204Z
UID:42358-1734017400-1734024600@www.frsuu.org
SUMMARY:Private Rental
DESCRIPTION:TITO Afterschool Program from 3:30-5:30pm\, Parish Hall 1st floor. \nOct. 24\nNov.7\, 14 & 21\nDec. 5\, 12 & 19
URL:https://www.frsuu.org/event/private-rental/2024-12-12/
LOCATION:Parish Hall 1st Floor
CATEGORIES:Private Rental
ORGANIZER;CN="Cynthia Walsh":MAILTO:cynthia.walsh@frsuu.org
END:VEVENT
BEGIN:VEVENT
DTSTART;TZID=America/New_York:20241205T153000
DTEND;TZID=America/New_York:20241205T173000
DTSTAMP:20260423T012220
CREATED:20240925T153249Z
LAST-MODIFIED:20241023T192203Z
UID:42357-1733412600-1733419800@www.frsuu.org
SUMMARY:Private Rental
DESCRIPTION:TITO Afterschool Program from 3:30-5:30pm\, Parish Hall 1st floor. \nOct. 24\nNov.7\, 14 & 21\nDec. 5\, 12 & 19
URL:https://www.frsuu.org/event/private-rental/2024-12-05/
LOCATION:Parish Hall 1st Floor
CATEGORIES:Private Rental
ORGANIZER;CN="Cynthia Walsh":MAILTO:cynthia.walsh@frsuu.org
END:VEVENT
BEGIN:VEVENT
DTSTART;TZID=America/New_York:20241114T153000
DTEND;TZID=America/New_York:20241114T173000
DTSTAMP:20260423T012220
CREATED:20240925T153249Z
LAST-MODIFIED:20241023T192203Z
UID:42355-1731598200-1731605400@www.frsuu.org
SUMMARY:Private Rental
DESCRIPTION:TITO Afterschool Program from 3:30-5:30pm\, Parish Hall 1st floor. \nOct. 24\nNov.7\, 14 & 21\nDec. 5\, 12 & 19
URL:https://www.frsuu.org/event/private-rental/2024-11-14/
LOCATION:Parish Hall 1st Floor
CATEGORIES:Private Rental
ORGANIZER;CN="Cynthia Walsh":MAILTO:cynthia.walsh@frsuu.org
END:VEVENT
BEGIN:VEVENT
DTSTART;TZID=America/New_York:20241107T153000
DTEND;TZID=America/New_York:20241107T173000
DTSTAMP:20260423T012220
CREATED:20240925T153249Z
LAST-MODIFIED:20241023T192202Z
UID:42354-1730993400-1731000600@www.frsuu.org
SUMMARY:Private Rental
DESCRIPTION:TITO Afterschool Program from 3:30-5:30pm\, Parish Hall 1st floor. \nOct. 24\nNov.7\, 14 & 21\nDec. 5\, 12 & 19
URL:https://www.frsuu.org/event/private-rental/2024-11-07/
LOCATION:Parish Hall 1st Floor
CATEGORIES:Private Rental
ORGANIZER;CN="Cynthia Walsh":MAILTO:cynthia.walsh@frsuu.org
END:VEVENT
BEGIN:VEVENT
DTSTART;TZID=America/New_York:20241024T153000
DTEND;TZID=America/New_York:20241024T173000
DTSTAMP:20260423T012220
CREATED:20240925T153249Z
LAST-MODIFIED:20241023T192202Z
UID:41627-1729783800-1729791000@www.frsuu.org
SUMMARY:Private Rental
DESCRIPTION:TITO Afterschool Program from 3:30-5:30pm\, Parish Hall 1st floor. \nOct. 24\nNov.7\, 14 & 21\nDec. 5\, 12 & 19
URL:https://www.frsuu.org/event/private-rental/2024-10-24/
LOCATION:Parish Hall 1st Floor
CATEGORIES:Private Rental
ORGANIZER;CN="Cynthia Walsh":MAILTO:cynthia.walsh@frsuu.org
END:VEVENT
END:VCALENDAR