BEGIN:VCALENDAR
VERSION:2.0
PRODID:-//First Religious Society of Newburyport - ECPv6.15.20//NONSGML v1.0//EN
CALSCALE:GREGORIAN
METHOD:PUBLISH
X-ORIGINAL-URL:https://www.frsuu.org
X-WR-CALDESC:Events for First Religious Society of Newburyport
REFRESH-INTERVAL;VALUE=DURATION:PT1H
X-Robots-Tag:noindex
X-PUBLISHED-TTL:PT1H
BEGIN:VTIMEZONE
TZID:America/New_York
BEGIN:DAYLIGHT
TZOFFSETFROM:-0500
TZOFFSETTO:-0400
TZNAME:EDT
DTSTART:20240310T070000
END:DAYLIGHT
BEGIN:STANDARD
TZOFFSETFROM:-0400
TZOFFSETTO:-0500
TZNAME:EST
DTSTART:20241103T060000
END:STANDARD
BEGIN:DAYLIGHT
TZOFFSETFROM:-0500
TZOFFSETTO:-0400
TZNAME:EDT
DTSTART:20250309T070000
END:DAYLIGHT
BEGIN:STANDARD
TZOFFSETFROM:-0400
TZOFFSETTO:-0500
TZNAME:EST
DTSTART:20251102T060000
END:STANDARD
BEGIN:DAYLIGHT
TZOFFSETFROM:-0500
TZOFFSETTO:-0400
TZNAME:EDT
DTSTART:20260308T070000
END:DAYLIGHT
BEGIN:STANDARD
TZOFFSETFROM:-0400
TZOFFSETTO:-0500
TZNAME:EST
DTSTART:20261101T060000
END:STANDARD
END:VTIMEZONE
BEGIN:VEVENT
DTSTART;TZID=America/New_York:20251223T120000
DTEND;TZID=America/New_York:20251223T130000
DTSTAMP:20260421T171605
CREATED:20250502T190329Z
LAST-MODIFIED:20251217T215547Z
UID:45839-1766491200-1766494800@www.frsuu.org
SUMMARY:Serenity in the Sanctuary
DESCRIPTION:Friday\, December 19\, Monday\, December 22\, Tuesday\, December 23\, Sanctuary\, noon. \nPeace can be found within. Join us for one-hour programs of poetry\, guided meditation\, silent meditation\, and blessing. \nDecember 19: “Listen Inside” with Rev. Rebecca and Nick Place \nDecember 22: “Anticipating with Hope” with Rev. Laurel \nDecember 23: “Many Meanings of the Season” with Rev. Jane and Joanna Fernandes
URL:https://www.frsuu.org/event/serenity-in-the-sanctuary-3/2025-12-23/
LOCATION:FRS Sanctuary\, 26 Pleasant St\, Newburyport\, MA\, 01950\, United States
CATEGORIES:Spiritual Development
END:VEVENT
BEGIN:VEVENT
DTSTART;TZID=America/New_York:20251222T120000
DTEND;TZID=America/New_York:20251222T130000
DTSTAMP:20260421T171605
CREATED:20250502T190329Z
LAST-MODIFIED:20251217T215546Z
UID:45838-1766404800-1766408400@www.frsuu.org
SUMMARY:Serenity in the Sanctuary
DESCRIPTION:Friday\, December 19\, Monday\, December 22\, Tuesday\, December 23\, Sanctuary\, noon. \nPeace can be found within. Join us for one-hour programs of poetry\, guided meditation\, silent meditation\, and blessing. \nDecember 19: “Listen Inside” with Rev. Rebecca and Nick Place \nDecember 22: “Anticipating with Hope” with Rev. Laurel \nDecember 23: “Many Meanings of the Season” with Rev. Jane and Joanna Fernandes
URL:https://www.frsuu.org/event/serenity-in-the-sanctuary-3/2025-12-22/
LOCATION:FRS Sanctuary\, 26 Pleasant St\, Newburyport\, MA\, 01950\, United States
CATEGORIES:Spiritual Development
END:VEVENT
BEGIN:VEVENT
DTSTART;TZID=America/New_York:20251219T120000
DTEND;TZID=America/New_York:20251219T130000
DTSTAMP:20260421T171605
CREATED:20250502T190329Z
LAST-MODIFIED:20251217T215545Z
UID:45835-1766145600-1766149200@www.frsuu.org
SUMMARY:Serenity in the Sanctuary
DESCRIPTION:Friday\, December 19\, Monday\, December 22\, Tuesday\, December 23\, Sanctuary\, noon. \nPeace can be found within. Join us for one-hour programs of poetry\, guided meditation\, silent meditation\, and blessing. \nDecember 19: “Listen Inside” with Rev. Rebecca and Nick Place \nDecember 22: “Anticipating with Hope” with Rev. Laurel \nDecember 23: “Many Meanings of the Season” with Rev. Jane and Joanna Fernandes
URL:https://www.frsuu.org/event/serenity-in-the-sanctuary-3/2025-12-19/
LOCATION:FRS Sanctuary\, 26 Pleasant St\, Newburyport\, MA\, 01950\, United States
CATEGORIES:Spiritual Development
END:VEVENT
END:VCALENDAR