BEGIN:VCALENDAR
VERSION:2.0
PRODID:-//First Religious Society of Newburyport - ECPv6.15.20//NONSGML v1.0//EN
CALSCALE:GREGORIAN
METHOD:PUBLISH
X-ORIGINAL-URL:https://www.frsuu.org
X-WR-CALDESC:Events for First Religious Society of Newburyport
REFRESH-INTERVAL;VALUE=DURATION:PT1H
X-Robots-Tag:noindex
X-PUBLISHED-TTL:PT1H
BEGIN:VTIMEZONE
TZID:America/New_York
BEGIN:DAYLIGHT
TZOFFSETFROM:-0500
TZOFFSETTO:-0400
TZNAME:EDT
DTSTART:20230312T070000
END:DAYLIGHT
BEGIN:STANDARD
TZOFFSETFROM:-0400
TZOFFSETTO:-0500
TZNAME:EST
DTSTART:20231105T060000
END:STANDARD
BEGIN:DAYLIGHT
TZOFFSETFROM:-0500
TZOFFSETTO:-0400
TZNAME:EDT
DTSTART:20240310T070000
END:DAYLIGHT
BEGIN:STANDARD
TZOFFSETFROM:-0400
TZOFFSETTO:-0500
TZNAME:EST
DTSTART:20241103T060000
END:STANDARD
BEGIN:DAYLIGHT
TZOFFSETFROM:-0500
TZOFFSETTO:-0400
TZNAME:EDT
DTSTART:20250309T070000
END:DAYLIGHT
BEGIN:STANDARD
TZOFFSETFROM:-0400
TZOFFSETTO:-0500
TZNAME:EST
DTSTART:20251102T060000
END:STANDARD
END:VTIMEZONE
BEGIN:VEVENT
DTSTART;TZID=America/New_York:20241125T190000
DTEND;TZID=America/New_York:20241125T203000
DTSTAMP:20260422T080237
CREATED:20241021T230010Z
LAST-MODIFIED:20241021T230010Z
UID:42269-1732561200-1732566600@www.frsuu.org
SUMMARY:The Breath of Life: An Introduction to Breath and Awareness Practices for Health and Wellbeing - A Four-Week Series with Matthew Daniell
DESCRIPTION:Please join NSIMC guiding teacher Matthew Daniell for a four-week Monday night series in November\, held in partnership with the First Religious Society\, Unitarian Universalist\, in Newburyport \nWhen: Monday evenings\, 7-8:30 pm\, Nov. 4\, 11\, 18\, & 25 \nWhere: First Religious Society\, Unitarian Universalist\, Parish Hall \nCost: $85 for the series ($80 cash or check) \nDescription: To breathe is to live. This is an anatomical fact\, but it can also be a powerful tool to support our inner life\, and find a quiet place of rest\, renewal\, and resilience\, inside. In this four-part series\, we will draw mainly from the ancient and modern meditative wisdom traditions to explore how mindful breathing can be a simple gateway to living a fuller\, more emotionally skillful and more spiritually rich life\, in the here and now. There will be meditation periods (15-25 minutes) with instruction and silence\, along with reflections and time for discussion in each session\, as well as exercises to bring into daily life. This series is appropriate for beginners as well as those with more meditation experience. People of all traditions are welcome\, breath is common to all that lives. \nMatthew Daniell is the guiding teacher of NSIMC. He has been practicing Buddhist meditation since the 1980s\, including over a decade in Asia\, where he practiced Zen intensively in Japan\, Tibetan Buddhism in India\, and Insight meditation in Burma\, India\, and Thailand. Read more about Matthew on his teacher page. \nThe fee for this program is $85 ($80 cash or check). To register and pay online\, just click below; to pay by cash or check\, email northshoreimc@gmail.com.
URL:https://www.frsuu.org/event/the-breath-of-life-an-introduction-to-breath-and-awareness-practices-for-health-and-wellbeing-a-four-week-series-with-matthew-daniell/2024-11-25/
LOCATION:Parish Hall 1st Floor
CATEGORIES:Private Rental
ORGANIZER;CN="Cynthia Walsh":MAILTO:cynthia.walsh@frsuu.org
END:VEVENT
BEGIN:VEVENT
DTSTART;TZID=America/New_York:20241118T190000
DTEND;TZID=America/New_York:20241118T203000
DTSTAMP:20260422T080237
CREATED:20241021T230010Z
LAST-MODIFIED:20241021T230010Z
UID:42268-1731956400-1731961800@www.frsuu.org
SUMMARY:The Breath of Life: An Introduction to Breath and Awareness Practices for Health and Wellbeing - A Four-Week Series with Matthew Daniell
DESCRIPTION:Please join NSIMC guiding teacher Matthew Daniell for a four-week Monday night series in November\, held in partnership with the First Religious Society\, Unitarian Universalist\, in Newburyport \nWhen: Monday evenings\, 7-8:30 pm\, Nov. 4\, 11\, 18\, & 25 \nWhere: First Religious Society\, Unitarian Universalist\, Parish Hall \nCost: $85 for the series ($80 cash or check) \nDescription: To breathe is to live. This is an anatomical fact\, but it can also be a powerful tool to support our inner life\, and find a quiet place of rest\, renewal\, and resilience\, inside. In this four-part series\, we will draw mainly from the ancient and modern meditative wisdom traditions to explore how mindful breathing can be a simple gateway to living a fuller\, more emotionally skillful and more spiritually rich life\, in the here and now. There will be meditation periods (15-25 minutes) with instruction and silence\, along with reflections and time for discussion in each session\, as well as exercises to bring into daily life. This series is appropriate for beginners as well as those with more meditation experience. People of all traditions are welcome\, breath is common to all that lives. \nMatthew Daniell is the guiding teacher of NSIMC. He has been practicing Buddhist meditation since the 1980s\, including over a decade in Asia\, where he practiced Zen intensively in Japan\, Tibetan Buddhism in India\, and Insight meditation in Burma\, India\, and Thailand. Read more about Matthew on his teacher page. \nThe fee for this program is $85 ($80 cash or check). To register and pay online\, just click below; to pay by cash or check\, email northshoreimc@gmail.com.
URL:https://www.frsuu.org/event/the-breath-of-life-an-introduction-to-breath-and-awareness-practices-for-health-and-wellbeing-a-four-week-series-with-matthew-daniell/2024-11-18/
LOCATION:Parish Hall 1st Floor
CATEGORIES:Private Rental
ORGANIZER;CN="Cynthia Walsh":MAILTO:cynthia.walsh@frsuu.org
END:VEVENT
BEGIN:VEVENT
DTSTART;TZID=America/New_York:20241111T190000
DTEND;TZID=America/New_York:20241111T203000
DTSTAMP:20260422T080237
CREATED:20241021T230010Z
LAST-MODIFIED:20241021T230010Z
UID:42267-1731351600-1731357000@www.frsuu.org
SUMMARY:The Breath of Life: An Introduction to Breath and Awareness Practices for Health and Wellbeing - A Four-Week Series with Matthew Daniell
DESCRIPTION:Please join NSIMC guiding teacher Matthew Daniell for a four-week Monday night series in November\, held in partnership with the First Religious Society\, Unitarian Universalist\, in Newburyport \nWhen: Monday evenings\, 7-8:30 pm\, Nov. 4\, 11\, 18\, & 25 \nWhere: First Religious Society\, Unitarian Universalist\, Parish Hall \nCost: $85 for the series ($80 cash or check) \nDescription: To breathe is to live. This is an anatomical fact\, but it can also be a powerful tool to support our inner life\, and find a quiet place of rest\, renewal\, and resilience\, inside. In this four-part series\, we will draw mainly from the ancient and modern meditative wisdom traditions to explore how mindful breathing can be a simple gateway to living a fuller\, more emotionally skillful and more spiritually rich life\, in the here and now. There will be meditation periods (15-25 minutes) with instruction and silence\, along with reflections and time for discussion in each session\, as well as exercises to bring into daily life. This series is appropriate for beginners as well as those with more meditation experience. People of all traditions are welcome\, breath is common to all that lives. \nMatthew Daniell is the guiding teacher of NSIMC. He has been practicing Buddhist meditation since the 1980s\, including over a decade in Asia\, where he practiced Zen intensively in Japan\, Tibetan Buddhism in India\, and Insight meditation in Burma\, India\, and Thailand. Read more about Matthew on his teacher page. \nThe fee for this program is $85 ($80 cash or check). To register and pay online\, just click below; to pay by cash or check\, email northshoreimc@gmail.com.
URL:https://www.frsuu.org/event/the-breath-of-life-an-introduction-to-breath-and-awareness-practices-for-health-and-wellbeing-a-four-week-series-with-matthew-daniell/2024-11-11/
LOCATION:Parish Hall 1st Floor
CATEGORIES:Private Rental
ORGANIZER;CN="Cynthia Walsh":MAILTO:cynthia.walsh@frsuu.org
END:VEVENT
BEGIN:VEVENT
DTSTART;TZID=America/New_York:20241104T190000
DTEND;TZID=America/New_York:20241104T203000
DTSTAMP:20260422T080237
CREATED:20241021T230010Z
LAST-MODIFIED:20241021T230010Z
UID:42266-1730746800-1730752200@www.frsuu.org
SUMMARY:The Breath of Life: An Introduction to Breath and Awareness Practices for Health and Wellbeing - A Four-Week Series with Matthew Daniell
DESCRIPTION:Please join NSIMC guiding teacher Matthew Daniell for a four-week Monday night series in November\, held in partnership with the First Religious Society\, Unitarian Universalist\, in Newburyport \nWhen: Monday evenings\, 7-8:30 pm\, Nov. 4\, 11\, 18\, & 25 \nWhere: First Religious Society\, Unitarian Universalist\, Parish Hall \nCost: $85 for the series ($80 cash or check) \nDescription: To breathe is to live. This is an anatomical fact\, but it can also be a powerful tool to support our inner life\, and find a quiet place of rest\, renewal\, and resilience\, inside. In this four-part series\, we will draw mainly from the ancient and modern meditative wisdom traditions to explore how mindful breathing can be a simple gateway to living a fuller\, more emotionally skillful and more spiritually rich life\, in the here and now. There will be meditation periods (15-25 minutes) with instruction and silence\, along with reflections and time for discussion in each session\, as well as exercises to bring into daily life. This series is appropriate for beginners as well as those with more meditation experience. People of all traditions are welcome\, breath is common to all that lives. \nMatthew Daniell is the guiding teacher of NSIMC. He has been practicing Buddhist meditation since the 1980s\, including over a decade in Asia\, where he practiced Zen intensively in Japan\, Tibetan Buddhism in India\, and Insight meditation in Burma\, India\, and Thailand. Read more about Matthew on his teacher page. \nThe fee for this program is $85 ($80 cash or check). To register and pay online\, just click below; to pay by cash or check\, email northshoreimc@gmail.com.
URL:https://www.frsuu.org/event/the-breath-of-life-an-introduction-to-breath-and-awareness-practices-for-health-and-wellbeing-a-four-week-series-with-matthew-daniell/2024-11-04/
LOCATION:Parish Hall 1st Floor
CATEGORIES:Private Rental
ORGANIZER;CN="Cynthia Walsh":MAILTO:cynthia.walsh@frsuu.org
END:VEVENT
END:VCALENDAR