BEGIN:VCALENDAR
VERSION:2.0
PRODID:-//First Religious Society of Newburyport - ECPv6.15.20//NONSGML v1.0//EN
CALSCALE:GREGORIAN
METHOD:PUBLISH
X-ORIGINAL-URL:https://www.frsuu.org
X-WR-CALDESC:Events for First Religious Society of Newburyport
REFRESH-INTERVAL;VALUE=DURATION:PT1H
X-Robots-Tag:noindex
X-PUBLISHED-TTL:PT1H
BEGIN:VTIMEZONE
TZID:America/New_York
BEGIN:DAYLIGHT
TZOFFSETFROM:-0500
TZOFFSETTO:-0400
TZNAME:EDT
DTSTART:20240310T070000
END:DAYLIGHT
BEGIN:STANDARD
TZOFFSETFROM:-0400
TZOFFSETTO:-0500
TZNAME:EST
DTSTART:20241103T060000
END:STANDARD
BEGIN:DAYLIGHT
TZOFFSETFROM:-0500
TZOFFSETTO:-0400
TZNAME:EDT
DTSTART:20250309T070000
END:DAYLIGHT
BEGIN:STANDARD
TZOFFSETFROM:-0400
TZOFFSETTO:-0500
TZNAME:EST
DTSTART:20251102T060000
END:STANDARD
BEGIN:DAYLIGHT
TZOFFSETFROM:-0500
TZOFFSETTO:-0400
TZNAME:EDT
DTSTART:20260308T070000
END:DAYLIGHT
BEGIN:STANDARD
TZOFFSETFROM:-0400
TZOFFSETTO:-0500
TZNAME:EST
DTSTART:20261101T060000
END:STANDARD
BEGIN:DAYLIGHT
TZOFFSETFROM:-0500
TZOFFSETTO:-0400
TZNAME:EDT
DTSTART:20270314T070000
END:DAYLIGHT
BEGIN:STANDARD
TZOFFSETFROM:-0400
TZOFFSETTO:-0500
TZNAME:EST
DTSTART:20271107T060000
END:STANDARD
END:VTIMEZONE
BEGIN:VEVENT
DTSTART;TZID=America/New_York:20260421T120000
DTEND;TZID=America/New_York:20260421T130000
DTSTAMP:20260422T072535
CREATED:20240802T132707Z
LAST-MODIFIED:20241022T223918Z
UID:39876-1776772800-1776776400@www.frsuu.org
SUMMARY:Short Story Group
DESCRIPTION:The Tuesday Short Story Group meets on the 1st and 3rd Tuesdays of the month\, noon\, Lower Meeting House (with a Zoom option available). \nFor more information please visit: https://www.frsuu.org/short-story-group/
URL:https://www.frsuu.org/event/tuesday-short-story-group-2/2026-04-21/
LOCATION:LMH Room A\, 26 Pleasant St\, Newburyport\, MA\, 01950\, United States
CATEGORIES:Community Events
ORGANIZER;CN="Tom Himmel":MAILTO:thimmel43@mac.com
END:VEVENT
BEGIN:VEVENT
DTSTART;TZID=America/New_York:20260407T120000
DTEND;TZID=America/New_York:20260407T130000
DTSTAMP:20260422T072535
CREATED:20240802T132707Z
LAST-MODIFIED:20241022T223917Z
UID:39486-1775563200-1775566800@www.frsuu.org
SUMMARY:Short Story Group
DESCRIPTION:The Tuesday Short Story Group meets on the 1st and 3rd Tuesdays of the month\, noon\, Lower Meeting House (with a Zoom option available). \nFor more information please visit: https://www.frsuu.org/short-story-group/
URL:https://www.frsuu.org/event/tuesday-short-story-group-2/2026-04-07/
LOCATION:LMH Room A\, 26 Pleasant St\, Newburyport\, MA\, 01950\, United States
CATEGORIES:Community Events
ORGANIZER;CN="Tom Himmel":MAILTO:thimmel43@mac.com
END:VEVENT
BEGIN:VEVENT
DTSTART;TZID=America/New_York:20260317T120000
DTEND;TZID=America/New_York:20260317T130000
DTSTAMP:20260422T072535
CREATED:20240802T132707Z
LAST-MODIFIED:20241022T223916Z
UID:39875-1773748800-1773752400@www.frsuu.org
SUMMARY:Short Story Group
DESCRIPTION:The Tuesday Short Story Group meets on the 1st and 3rd Tuesdays of the month\, noon\, Lower Meeting House (with a Zoom option available). \nFor more information please visit: https://www.frsuu.org/short-story-group/
URL:https://www.frsuu.org/event/tuesday-short-story-group-2/2026-03-17/
LOCATION:LMH Room A\, 26 Pleasant St\, Newburyport\, MA\, 01950\, United States
CATEGORIES:Community Events
ORGANIZER;CN="Tom Himmel":MAILTO:thimmel43@mac.com
END:VEVENT
BEGIN:VEVENT
DTSTART;TZID=America/New_York:20260303T120000
DTEND;TZID=America/New_York:20260303T130000
DTSTAMP:20260422T072535
CREATED:20240802T132707Z
LAST-MODIFIED:20241022T223915Z
UID:39485-1772539200-1772542800@www.frsuu.org
SUMMARY:Short Story Group
DESCRIPTION:The Tuesday Short Story Group meets on the 1st and 3rd Tuesdays of the month\, noon\, Lower Meeting House (with a Zoom option available). \nFor more information please visit: https://www.frsuu.org/short-story-group/
URL:https://www.frsuu.org/event/tuesday-short-story-group-2/2026-03-03/
LOCATION:LMH Room A\, 26 Pleasant St\, Newburyport\, MA\, 01950\, United States
CATEGORIES:Community Events
ORGANIZER;CN="Tom Himmel":MAILTO:thimmel43@mac.com
END:VEVENT
BEGIN:VEVENT
DTSTART;TZID=America/New_York:20260217T120000
DTEND;TZID=America/New_York:20260217T130000
DTSTAMP:20260422T072535
CREATED:20240802T132707Z
LAST-MODIFIED:20241022T223915Z
UID:39874-1771329600-1771333200@www.frsuu.org
SUMMARY:Short Story Group
DESCRIPTION:The Tuesday Short Story Group meets on the 1st and 3rd Tuesdays of the month\, noon\, Lower Meeting House (with a Zoom option available). \nFor more information please visit: https://www.frsuu.org/short-story-group/
URL:https://www.frsuu.org/event/tuesday-short-story-group-2/2026-02-17/
LOCATION:LMH Room A\, 26 Pleasant St\, Newburyport\, MA\, 01950\, United States
CATEGORIES:Community Events
ORGANIZER;CN="Tom Himmel":MAILTO:thimmel43@mac.com
END:VEVENT
BEGIN:VEVENT
DTSTART;TZID=America/New_York:20260203T120000
DTEND;TZID=America/New_York:20260203T130000
DTSTAMP:20260422T072535
CREATED:20240802T132707Z
LAST-MODIFIED:20241022T223914Z
UID:39484-1770120000-1770123600@www.frsuu.org
SUMMARY:Short Story Group
DESCRIPTION:The Tuesday Short Story Group meets on the 1st and 3rd Tuesdays of the month\, noon\, Lower Meeting House (with a Zoom option available). \nFor more information please visit: https://www.frsuu.org/short-story-group/
URL:https://www.frsuu.org/event/tuesday-short-story-group-2/2026-02-03/
LOCATION:LMH Room A\, 26 Pleasant St\, Newburyport\, MA\, 01950\, United States
CATEGORIES:Community Events
ORGANIZER;CN="Tom Himmel":MAILTO:thimmel43@mac.com
END:VEVENT
BEGIN:VEVENT
DTSTART;TZID=America/New_York:20260120T120000
DTEND;TZID=America/New_York:20260120T130000
DTSTAMP:20260422T072535
CREATED:20240802T132707Z
LAST-MODIFIED:20241022T223914Z
UID:39873-1768910400-1768914000@www.frsuu.org
SUMMARY:Short Story Group
DESCRIPTION:The Tuesday Short Story Group meets on the 1st and 3rd Tuesdays of the month\, noon\, Lower Meeting House (with a Zoom option available). \nFor more information please visit: https://www.frsuu.org/short-story-group/
URL:https://www.frsuu.org/event/tuesday-short-story-group-2/2026-01-20/
LOCATION:LMH Room A\, 26 Pleasant St\, Newburyport\, MA\, 01950\, United States
CATEGORIES:Community Events
ORGANIZER;CN="Tom Himmel":MAILTO:thimmel43@mac.com
END:VEVENT
BEGIN:VEVENT
DTSTART;TZID=America/New_York:20260106T120000
DTEND;TZID=America/New_York:20260106T130000
DTSTAMP:20260422T072535
CREATED:20240802T132707Z
LAST-MODIFIED:20241022T223913Z
UID:39483-1767700800-1767704400@www.frsuu.org
SUMMARY:Short Story Group
DESCRIPTION:The Tuesday Short Story Group meets on the 1st and 3rd Tuesdays of the month\, noon\, Lower Meeting House (with a Zoom option available). \nFor more information please visit: https://www.frsuu.org/short-story-group/
URL:https://www.frsuu.org/event/tuesday-short-story-group-2/2026-01-06/
LOCATION:LMH Room A\, 26 Pleasant St\, Newburyport\, MA\, 01950\, United States
CATEGORIES:Community Events
ORGANIZER;CN="Tom Himmel":MAILTO:thimmel43@mac.com
END:VEVENT
BEGIN:VEVENT
DTSTART;TZID=America/New_York:20251216T120000
DTEND;TZID=America/New_York:20251216T130000
DTSTAMP:20260422T072535
CREATED:20240802T132707Z
LAST-MODIFIED:20241022T223913Z
UID:39872-1765886400-1765890000@www.frsuu.org
SUMMARY:Short Story Group
DESCRIPTION:The Tuesday Short Story Group meets on the 1st and 3rd Tuesdays of the month\, noon\, Lower Meeting House (with a Zoom option available). \nFor more information please visit: https://www.frsuu.org/short-story-group/
URL:https://www.frsuu.org/event/tuesday-short-story-group-2/2025-12-16/
LOCATION:LMH Room A\, 26 Pleasant St\, Newburyport\, MA\, 01950\, United States
CATEGORIES:Community Events
ORGANIZER;CN="Tom Himmel":MAILTO:thimmel43@mac.com
END:VEVENT
BEGIN:VEVENT
DTSTART;TZID=America/New_York:20251202T120000
DTEND;TZID=America/New_York:20251202T130000
DTSTAMP:20260422T072535
CREATED:20240802T132707Z
LAST-MODIFIED:20241022T223912Z
UID:39482-1764676800-1764680400@www.frsuu.org
SUMMARY:Short Story Group
DESCRIPTION:The Tuesday Short Story Group meets on the 1st and 3rd Tuesdays of the month\, noon\, Lower Meeting House (with a Zoom option available). \nFor more information please visit: https://www.frsuu.org/short-story-group/
URL:https://www.frsuu.org/event/tuesday-short-story-group-2/2025-12-02/
LOCATION:LMH Room A\, 26 Pleasant St\, Newburyport\, MA\, 01950\, United States
CATEGORIES:Community Events
ORGANIZER;CN="Tom Himmel":MAILTO:thimmel43@mac.com
END:VEVENT
BEGIN:VEVENT
DTSTART;TZID=America/New_York:20251118T120000
DTEND;TZID=America/New_York:20251118T130000
DTSTAMP:20260422T072535
CREATED:20240802T132707Z
LAST-MODIFIED:20241022T223911Z
UID:39871-1763467200-1763470800@www.frsuu.org
SUMMARY:Short Story Group
DESCRIPTION:The Tuesday Short Story Group meets on the 1st and 3rd Tuesdays of the month\, noon\, Lower Meeting House (with a Zoom option available). \nFor more information please visit: https://www.frsuu.org/short-story-group/
URL:https://www.frsuu.org/event/tuesday-short-story-group-2/2025-11-18/
LOCATION:LMH Room A\, 26 Pleasant St\, Newburyport\, MA\, 01950\, United States
CATEGORIES:Community Events
ORGANIZER;CN="Tom Himmel":MAILTO:thimmel43@mac.com
END:VEVENT
BEGIN:VEVENT
DTSTART;TZID=America/New_York:20251104T120000
DTEND;TZID=America/New_York:20251104T130000
DTSTAMP:20260422T072535
CREATED:20240802T132707Z
LAST-MODIFIED:20241022T223910Z
UID:39481-1762257600-1762261200@www.frsuu.org
SUMMARY:Short Story Group
DESCRIPTION:The Tuesday Short Story Group meets on the 1st and 3rd Tuesdays of the month\, noon\, Lower Meeting House (with a Zoom option available). \nFor more information please visit: https://www.frsuu.org/short-story-group/
URL:https://www.frsuu.org/event/tuesday-short-story-group-2/2025-11-04/
LOCATION:LMH Room A\, 26 Pleasant St\, Newburyport\, MA\, 01950\, United States
CATEGORIES:Community Events
ORGANIZER;CN="Tom Himmel":MAILTO:thimmel43@mac.com
END:VEVENT
BEGIN:VEVENT
DTSTART;TZID=America/New_York:20251021T120000
DTEND;TZID=America/New_York:20251021T130000
DTSTAMP:20260422T072535
CREATED:20240802T132707Z
LAST-MODIFIED:20241022T223909Z
UID:39870-1761048000-1761051600@www.frsuu.org
SUMMARY:Short Story Group
DESCRIPTION:The Tuesday Short Story Group meets on the 1st and 3rd Tuesdays of the month\, noon\, Lower Meeting House (with a Zoom option available). \nFor more information please visit: https://www.frsuu.org/short-story-group/
URL:https://www.frsuu.org/event/tuesday-short-story-group-2/2025-10-21/
LOCATION:LMH Room A\, 26 Pleasant St\, Newburyport\, MA\, 01950\, United States
CATEGORIES:Community Events
ORGANIZER;CN="Tom Himmel":MAILTO:thimmel43@mac.com
END:VEVENT
BEGIN:VEVENT
DTSTART;TZID=America/New_York:20251007T120000
DTEND;TZID=America/New_York:20251007T130000
DTSTAMP:20260422T072535
CREATED:20240802T132707Z
LAST-MODIFIED:20241022T223906Z
UID:39480-1759838400-1759842000@www.frsuu.org
SUMMARY:Short Story Group
DESCRIPTION:The Tuesday Short Story Group meets on the 1st and 3rd Tuesdays of the month\, noon\, Lower Meeting House (with a Zoom option available). \nFor more information please visit: https://www.frsuu.org/short-story-group/
URL:https://www.frsuu.org/event/tuesday-short-story-group-2/2025-10-07/
LOCATION:LMH Room A\, 26 Pleasant St\, Newburyport\, MA\, 01950\, United States
CATEGORIES:Community Events
ORGANIZER;CN="Tom Himmel":MAILTO:thimmel43@mac.com
END:VEVENT
BEGIN:VEVENT
DTSTART;TZID=America/New_York:20250916T120000
DTEND;TZID=America/New_York:20250916T130000
DTSTAMP:20260422T072535
CREATED:20240802T132707Z
LAST-MODIFIED:20241022T223901Z
UID:39869-1758024000-1758027600@www.frsuu.org
SUMMARY:Short Story Group
DESCRIPTION:The Tuesday Short Story Group meets on the 1st and 3rd Tuesdays of the month\, noon\, Lower Meeting House (with a Zoom option available). \nFor more information please visit: https://www.frsuu.org/short-story-group/
URL:https://www.frsuu.org/event/tuesday-short-story-group-2/2025-09-16/
LOCATION:LMH Room A\, 26 Pleasant St\, Newburyport\, MA\, 01950\, United States
CATEGORIES:Community Events
ORGANIZER;CN="Tom Himmel":MAILTO:thimmel43@mac.com
END:VEVENT
BEGIN:VEVENT
DTSTART;TZID=America/New_York:20250902T120000
DTEND;TZID=America/New_York:20250902T130000
DTSTAMP:20260422T072535
CREATED:20240802T132707Z
LAST-MODIFIED:20241022T223900Z
UID:39479-1756814400-1756818000@www.frsuu.org
SUMMARY:Short Story Group
DESCRIPTION:The Tuesday Short Story Group meets on the 1st and 3rd Tuesdays of the month\, noon\, Lower Meeting House (with a Zoom option available). \nFor more information please visit: https://www.frsuu.org/short-story-group/
URL:https://www.frsuu.org/event/tuesday-short-story-group-2/2025-09-02/
LOCATION:LMH Room A\, 26 Pleasant St\, Newburyport\, MA\, 01950\, United States
CATEGORIES:Community Events
ORGANIZER;CN="Tom Himmel":MAILTO:thimmel43@mac.com
END:VEVENT
BEGIN:VEVENT
DTSTART;TZID=America/New_York:20250805T120000
DTEND;TZID=America/New_York:20250805T130000
DTSTAMP:20260422T072535
CREATED:20240802T132707Z
LAST-MODIFIED:20241022T223859Z
UID:39478-1754395200-1754398800@www.frsuu.org
SUMMARY:Short Story Group
DESCRIPTION:The Tuesday Short Story Group meets on the 1st and 3rd Tuesdays of the month\, noon\, Lower Meeting House (with a Zoom option available). \nFor more information please visit: https://www.frsuu.org/short-story-group/
URL:https://www.frsuu.org/event/tuesday-short-story-group-2/2025-08-05/
LOCATION:LMH Room A\, 26 Pleasant St\, Newburyport\, MA\, 01950\, United States
CATEGORIES:Community Events
ORGANIZER;CN="Tom Himmel":MAILTO:thimmel43@mac.com
END:VEVENT
BEGIN:VEVENT
DTSTART;TZID=America/New_York:20250715T120000
DTEND;TZID=America/New_York:20250715T130000
DTSTAMP:20260422T072535
CREATED:20240802T132707Z
LAST-MODIFIED:20241022T223859Z
UID:39867-1752580800-1752584400@www.frsuu.org
SUMMARY:Short Story Group
DESCRIPTION:The Tuesday Short Story Group meets on the 1st and 3rd Tuesdays of the month\, noon\, Lower Meeting House (with a Zoom option available). \nFor more information please visit: https://www.frsuu.org/short-story-group/
URL:https://www.frsuu.org/event/tuesday-short-story-group-2/2025-07-15/
LOCATION:LMH Room A\, 26 Pleasant St\, Newburyport\, MA\, 01950\, United States
CATEGORIES:Community Events
ORGANIZER;CN="Tom Himmel":MAILTO:thimmel43@mac.com
END:VEVENT
BEGIN:VEVENT
DTSTART;TZID=America/New_York:20250701T120000
DTEND;TZID=America/New_York:20250701T130000
DTSTAMP:20260422T072535
CREATED:20240802T132707Z
LAST-MODIFIED:20241022T223858Z
UID:39477-1751371200-1751374800@www.frsuu.org
SUMMARY:Short Story Group
DESCRIPTION:The Tuesday Short Story Group meets on the 1st and 3rd Tuesdays of the month\, noon\, Lower Meeting House (with a Zoom option available). \nFor more information please visit: https://www.frsuu.org/short-story-group/
URL:https://www.frsuu.org/event/tuesday-short-story-group-2/2025-07-01/
LOCATION:LMH Room A\, 26 Pleasant St\, Newburyport\, MA\, 01950\, United States
CATEGORIES:Community Events
ORGANIZER;CN="Tom Himmel":MAILTO:thimmel43@mac.com
END:VEVENT
BEGIN:VEVENT
DTSTART;TZID=America/New_York:20250617T120000
DTEND;TZID=America/New_York:20250617T130000
DTSTAMP:20260422T072535
CREATED:20240802T132707Z
LAST-MODIFIED:20241022T223858Z
UID:39866-1750161600-1750165200@www.frsuu.org
SUMMARY:Short Story Group
DESCRIPTION:The Tuesday Short Story Group meets on the 1st and 3rd Tuesdays of the month\, noon\, Lower Meeting House (with a Zoom option available). \nFor more information please visit: https://www.frsuu.org/short-story-group/
URL:https://www.frsuu.org/event/tuesday-short-story-group-2/2025-06-17/
LOCATION:LMH Room A\, 26 Pleasant St\, Newburyport\, MA\, 01950\, United States
CATEGORIES:Community Events
ORGANIZER;CN="Tom Himmel":MAILTO:thimmel43@mac.com
END:VEVENT
BEGIN:VEVENT
DTSTART;TZID=America/New_York:20250603T120000
DTEND;TZID=America/New_York:20250603T130000
DTSTAMP:20260422T072535
CREATED:20240802T132707Z
LAST-MODIFIED:20241022T223857Z
UID:39476-1748952000-1748955600@www.frsuu.org
SUMMARY:Short Story Group
DESCRIPTION:The Tuesday Short Story Group meets on the 1st and 3rd Tuesdays of the month\, noon\, Lower Meeting House (with a Zoom option available). \nFor more information please visit: https://www.frsuu.org/short-story-group/
URL:https://www.frsuu.org/event/tuesday-short-story-group-2/2025-06-03/
LOCATION:LMH Room A\, 26 Pleasant St\, Newburyport\, MA\, 01950\, United States
CATEGORIES:Community Events
ORGANIZER;CN="Tom Himmel":MAILTO:thimmel43@mac.com
END:VEVENT
BEGIN:VEVENT
DTSTART;TZID=America/New_York:20250520T120000
DTEND;TZID=America/New_York:20250520T130000
DTSTAMP:20260422T072535
CREATED:20240802T132707Z
LAST-MODIFIED:20241022T223856Z
UID:39865-1747742400-1747746000@www.frsuu.org
SUMMARY:Short Story Group
DESCRIPTION:The Tuesday Short Story Group meets on the 1st and 3rd Tuesdays of the month\, noon\, Lower Meeting House (with a Zoom option available). \nFor more information please visit: https://www.frsuu.org/short-story-group/
URL:https://www.frsuu.org/event/tuesday-short-story-group-2/2025-05-20/
LOCATION:LMH Room A\, 26 Pleasant St\, Newburyport\, MA\, 01950\, United States
CATEGORIES:Community Events
ORGANIZER;CN="Tom Himmel":MAILTO:thimmel43@mac.com
END:VEVENT
BEGIN:VEVENT
DTSTART;TZID=America/New_York:20250506T120000
DTEND;TZID=America/New_York:20250506T130000
DTSTAMP:20260422T072535
CREATED:20240802T132707Z
LAST-MODIFIED:20241022T223855Z
UID:39475-1746532800-1746536400@www.frsuu.org
SUMMARY:Short Story Group
DESCRIPTION:The Tuesday Short Story Group meets on the 1st and 3rd Tuesdays of the month\, noon\, Lower Meeting House (with a Zoom option available). \nFor more information please visit: https://www.frsuu.org/short-story-group/
URL:https://www.frsuu.org/event/tuesday-short-story-group-2/2025-05-06/
LOCATION:LMH Room A\, 26 Pleasant St\, Newburyport\, MA\, 01950\, United States
CATEGORIES:Community Events
ORGANIZER;CN="Tom Himmel":MAILTO:thimmel43@mac.com
END:VEVENT
BEGIN:VEVENT
DTSTART;TZID=America/New_York:20250415T120000
DTEND;TZID=America/New_York:20250415T130000
DTSTAMP:20260422T072535
CREATED:20240802T132707Z
LAST-MODIFIED:20241022T223855Z
UID:39864-1744718400-1744722000@www.frsuu.org
SUMMARY:Short Story Group
DESCRIPTION:The Tuesday Short Story Group meets on the 1st and 3rd Tuesdays of the month\, noon\, Lower Meeting House (with a Zoom option available). \nFor more information please visit: https://www.frsuu.org/short-story-group/
URL:https://www.frsuu.org/event/tuesday-short-story-group-2/2025-04-15/
LOCATION:LMH Room A\, 26 Pleasant St\, Newburyport\, MA\, 01950\, United States
CATEGORIES:Community Events
ORGANIZER;CN="Tom Himmel":MAILTO:thimmel43@mac.com
END:VEVENT
BEGIN:VEVENT
DTSTART;TZID=America/New_York:20250401T120000
DTEND;TZID=America/New_York:20250401T130000
DTSTAMP:20260422T072535
CREATED:20240802T132707Z
LAST-MODIFIED:20241022T223854Z
UID:39474-1743508800-1743512400@www.frsuu.org
SUMMARY:Short Story Group
DESCRIPTION:The Tuesday Short Story Group meets on the 1st and 3rd Tuesdays of the month\, noon\, Lower Meeting House (with a Zoom option available). \nFor more information please visit: https://www.frsuu.org/short-story-group/
URL:https://www.frsuu.org/event/tuesday-short-story-group-2/2025-04-01/
LOCATION:LMH Room A\, 26 Pleasant St\, Newburyport\, MA\, 01950\, United States
CATEGORIES:Community Events
ORGANIZER;CN="Tom Himmel":MAILTO:thimmel43@mac.com
END:VEVENT
BEGIN:VEVENT
DTSTART;TZID=America/New_York:20250318T120000
DTEND;TZID=America/New_York:20250318T130000
DTSTAMP:20260422T072535
CREATED:20240802T132707Z
LAST-MODIFIED:20241022T223853Z
UID:39863-1742299200-1742302800@www.frsuu.org
SUMMARY:Short Story Group
DESCRIPTION:The Tuesday Short Story Group meets on the 1st and 3rd Tuesdays of the month\, noon\, Lower Meeting House (with a Zoom option available). \nFor more information please visit: https://www.frsuu.org/short-story-group/
URL:https://www.frsuu.org/event/tuesday-short-story-group-2/2025-03-18/
LOCATION:LMH Room A\, 26 Pleasant St\, Newburyport\, MA\, 01950\, United States
CATEGORIES:Community Events
ORGANIZER;CN="Tom Himmel":MAILTO:thimmel43@mac.com
END:VEVENT
BEGIN:VEVENT
DTSTART;TZID=America/New_York:20250304T120000
DTEND;TZID=America/New_York:20250304T130000
DTSTAMP:20260422T072535
CREATED:20240802T132707Z
LAST-MODIFIED:20241022T223853Z
UID:39473-1741089600-1741093200@www.frsuu.org
SUMMARY:Short Story Group
DESCRIPTION:The Tuesday Short Story Group meets on the 1st and 3rd Tuesdays of the month\, noon\, Lower Meeting House (with a Zoom option available). \nFor more information please visit: https://www.frsuu.org/short-story-group/
URL:https://www.frsuu.org/event/tuesday-short-story-group-2/2025-03-04/
LOCATION:LMH Room A\, 26 Pleasant St\, Newburyport\, MA\, 01950\, United States
CATEGORIES:Community Events
ORGANIZER;CN="Tom Himmel":MAILTO:thimmel43@mac.com
END:VEVENT
BEGIN:VEVENT
DTSTART;TZID=America/New_York:20250218T120000
DTEND;TZID=America/New_York:20250218T130000
DTSTAMP:20260422T072535
CREATED:20240802T132707Z
LAST-MODIFIED:20250817T201925Z
UID:39862-1739880000-1739883600@www.frsuu.org
SUMMARY:Short Story Group
DESCRIPTION:The Tuesday Short Story Group meets on the 1st and 3rd Tuesdays of the month\, LMH Room A\, noon. \nFor more information please visit: https://www.frsuu.org/short-story-group/
URL:https://www.frsuu.org/event/tuesday-short-story-group-2/2025-02-18/
LOCATION:LMH Room A\, 26 Pleasant St\, Newburyport\, MA\, 01950\, United States
CATEGORIES:Community Events
ORGANIZER;CN="Tom Himmel":MAILTO:thimmel43@mac.com
END:VEVENT
BEGIN:VEVENT
DTSTART;TZID=America/New_York:20250204T120000
DTEND;TZID=America/New_York:20250204T130000
DTSTAMP:20260422T072535
CREATED:20240802T132707Z
LAST-MODIFIED:20250817T201924Z
UID:39472-1738670400-1738674000@www.frsuu.org
SUMMARY:Short Story Group
DESCRIPTION:The Tuesday Short Story Group meets on the 1st and 3rd Tuesdays of the month\, LMH Room A\, noon. \nFor more information please visit: https://www.frsuu.org/short-story-group/
URL:https://www.frsuu.org/event/tuesday-short-story-group-2/2025-02-04/
LOCATION:LMH Room A\, 26 Pleasant St\, Newburyport\, MA\, 01950\, United States
CATEGORIES:Community Events
ORGANIZER;CN="Tom Himmel":MAILTO:thimmel43@mac.com
END:VEVENT
BEGIN:VEVENT
DTSTART;TZID=America/New_York:20250121T120000
DTEND;TZID=America/New_York:20250121T130000
DTSTAMP:20260422T072535
CREATED:20240802T132707Z
LAST-MODIFIED:20250817T201923Z
UID:39861-1737460800-1737464400@www.frsuu.org
SUMMARY:Short Story Group
DESCRIPTION:The Tuesday Short Story Group meets on the 1st and 3rd Tuesdays of the month\, LMH Room A\, noon. \nFor more information please visit: https://www.frsuu.org/short-story-group/
URL:https://www.frsuu.org/event/tuesday-short-story-group-2/2025-01-21/
LOCATION:LMH Room A\, 26 Pleasant St\, Newburyport\, MA\, 01950\, United States
CATEGORIES:Community Events
ORGANIZER;CN="Tom Himmel":MAILTO:thimmel43@mac.com
END:VEVENT
END:VCALENDAR