BEGIN:VCALENDAR
VERSION:2.0
PRODID:-//First Religious Society of Newburyport - ECPv6.15.20//NONSGML v1.0//EN
CALSCALE:GREGORIAN
METHOD:PUBLISH
X-ORIGINAL-URL:https://www.frsuu.org
X-WR-CALDESC:Events for First Religious Society of Newburyport
REFRESH-INTERVAL;VALUE=DURATION:PT1H
X-Robots-Tag:noindex
X-PUBLISHED-TTL:PT1H
BEGIN:VTIMEZONE
TZID:America/New_York
BEGIN:DAYLIGHT
TZOFFSETFROM:-0500
TZOFFSETTO:-0400
TZNAME:EDT
DTSTART:20240310T070000
END:DAYLIGHT
BEGIN:STANDARD
TZOFFSETFROM:-0400
TZOFFSETTO:-0500
TZNAME:EST
DTSTART:20241103T060000
END:STANDARD
BEGIN:DAYLIGHT
TZOFFSETFROM:-0500
TZOFFSETTO:-0400
TZNAME:EDT
DTSTART:20250309T070000
END:DAYLIGHT
BEGIN:STANDARD
TZOFFSETFROM:-0400
TZOFFSETTO:-0500
TZNAME:EST
DTSTART:20251102T060000
END:STANDARD
BEGIN:DAYLIGHT
TZOFFSETFROM:-0500
TZOFFSETTO:-0400
TZNAME:EDT
DTSTART:20260308T070000
END:DAYLIGHT
BEGIN:STANDARD
TZOFFSETFROM:-0400
TZOFFSETTO:-0500
TZNAME:EST
DTSTART:20261101T060000
END:STANDARD
END:VTIMEZONE
BEGIN:VEVENT
DTSTART;TZID=America/New_York:20250311T180000
DTEND;TZID=America/New_York:20250311T200000
DTSTAMP:20260419T135312
CREATED:20250122T205150Z
LAST-MODIFIED:20250417T203031Z
UID:43904-1741716000-1741723200@www.frsuu.org
SUMMARY:Chalice Circle
DESCRIPTION:Tuesdays\, February 25 to May 13\, LMH Nursery/Conf Room\, 6-8pm
URL:https://www.frsuu.org/event/hold-for-chalice-circle-5/2025-03-11/
LOCATION:LMH Nursery/Conf Room
END:VEVENT
BEGIN:VEVENT
DTSTART;TZID=America/New_York:20250311T180000
DTEND;TZID=America/New_York:20250311T200000
DTSTAMP:20260419T135312
CREATED:20250128T170809Z
LAST-MODIFIED:20250324T182953Z
UID:44113-1741716000-1741723200@www.frsuu.org
SUMMARY:Chalice Circle (Zoom)
DESCRIPTION:Tuesdays\, February 25 to May 27\, 6-8pm\, Zoom only.
URL:https://www.frsuu.org/event/hold-for-chalice-circle-zoom/2025-03-11/
LOCATION:Zoom
END:VEVENT
BEGIN:VEVENT
DTSTART;TZID=America/New_York:20250311T183000
DTEND;TZID=America/New_York:20250311T200000
DTSTAMP:20260419T135312
CREATED:20241202T210539Z
LAST-MODIFIED:20250411T155600Z
UID:42977-1741717800-1741723200@www.frsuu.org
SUMMARY:Mystic Circles Group
DESCRIPTION:Tuesdays\, February 25\, March 11\, March 25\, April 8\, April 22\, May 6\, May 20\, June 3\, Lower Meetinghouse Main Room\, 6:30-8pm.
URL:https://www.frsuu.org/event/mystic-circles-group-2/2025-03-11/
LOCATION:LMH Main Room\, 26 Pleasant St\, Newburyport\, MA\, 01950\, United States
CATEGORIES:Spiritual Development
END:VEVENT
BEGIN:VEVENT
DTSTART;TZID=America/New_York:20250311T190000
DTEND;TZID=America/New_York:20250311T203000
DTSTAMP:20260419T135312
CREATED:20240614T153418Z
LAST-MODIFIED:20251007T183730Z
UID:40480-1741719600-1741725000@www.frsuu.org
SUMMARY:Alcoholic Anonymous Step Sisters
DESCRIPTION:Contact 508-215-9469; meets in the Parish Hall as of 10/7/25.
URL:https://www.frsuu.org/event/alcoholic-anonymous-step-sisters/2025-03-11/
LOCATION:Parish Hall 1st Floor
CATEGORIES:Recovery
END:VEVENT
END:VCALENDAR