BEGIN:VCALENDAR
VERSION:2.0
PRODID:-//First Religious Society of Newburyport - ECPv6.15.20//NONSGML v1.0//EN
CALSCALE:GREGORIAN
METHOD:PUBLISH
X-WR-CALNAME:First Religious Society of Newburyport
X-ORIGINAL-URL:https://www.frsuu.org
X-WR-CALDESC:Events for First Religious Society of Newburyport
REFRESH-INTERVAL;VALUE=DURATION:PT1H
X-Robots-Tag:noindex
X-PUBLISHED-TTL:PT1H
BEGIN:VTIMEZONE
TZID:America/New_York
BEGIN:DAYLIGHT
TZOFFSETFROM:-0500
TZOFFSETTO:-0400
TZNAME:EDT
DTSTART:20240310T070000
END:DAYLIGHT
BEGIN:STANDARD
TZOFFSETFROM:-0400
TZOFFSETTO:-0500
TZNAME:EST
DTSTART:20241103T060000
END:STANDARD
BEGIN:DAYLIGHT
TZOFFSETFROM:-0500
TZOFFSETTO:-0400
TZNAME:EDT
DTSTART:20250309T070000
END:DAYLIGHT
BEGIN:STANDARD
TZOFFSETFROM:-0400
TZOFFSETTO:-0500
TZNAME:EST
DTSTART:20251102T060000
END:STANDARD
BEGIN:DAYLIGHT
TZOFFSETFROM:-0500
TZOFFSETTO:-0400
TZNAME:EDT
DTSTART:20260308T070000
END:DAYLIGHT
BEGIN:STANDARD
TZOFFSETFROM:-0400
TZOFFSETTO:-0500
TZNAME:EST
DTSTART:20261101T060000
END:STANDARD
END:VTIMEZONE
BEGIN:VEVENT
DTSTART;TZID=America/New_York:20250320T093000
DTEND;TZID=America/New_York:20250320T140000
DTSTAMP:20260421T114455
CREATED:20250203T212414Z
LAST-MODIFIED:20250203T212414Z
UID:44320-1742463000-1742479200@www.frsuu.org
SUMMARY:Reserved for Organ Tuning
DESCRIPTION:Thursday\, March 20\, Sanctuary\, 9:30am-2pm.
URL:https://www.frsuu.org/event/reserved-for-organ-tuning-2/
LOCATION:FRS Sanctuary\, 26 Pleasant St\, Newburyport\, MA\, 01950\, United States
END:VEVENT
BEGIN:VEVENT
DTSTART;TZID=America/New_York:20250320T100000
DTEND;TZID=America/New_York:20250320T120000
DTSTAMP:20260421T114455
CREATED:20250115T150444Z
LAST-MODIFIED:20250417T203545Z
UID:43639-1742464800-1742472000@www.frsuu.org
SUMMARY:Chalice Circle
DESCRIPTION:Thursdays\, February 27 to May 29\, LMH Nursery/Conf Room\, 10am-noon.
URL:https://www.frsuu.org/event/hold-for-chalice-circle-2/2025-03-20/
LOCATION:LMH Nursery/Conf Room
END:VEVENT
BEGIN:VEVENT
DTSTART;TZID=America/New_York:20250320T130000
DTEND;TZID=America/New_York:20250320T143000
DTSTAMP:20260421T114455
CREATED:20250220T195214Z
LAST-MODIFIED:20250304T170311Z
UID:44647-1742475600-1742481000@www.frsuu.org
SUMMARY:Exploring Elderhood Together Program
DESCRIPTION:Thursday\, March 20\, LMH Main Room\, 1-2pm. The program will explore various aspects of elderhood.
URL:https://www.frsuu.org/event/exploring-elderhood-together-program/
LOCATION:LMH Main Room\, 26 Pleasant St\, Newburyport\, MA\, 01950\, United States
END:VEVENT
BEGIN:VEVENT
DTSTART;TZID=America/New_York:20250320T130000
DTEND;TZID=America/New_York:20250320T143000
DTSTAMP:20260421T114455
CREATED:20250224T182345Z
LAST-MODIFIED:20250225T185722Z
UID:44679-1742475600-1742481000@www.frsuu.org
SUMMARY:Meeting the Moment with Rev. Laurel & Marianne Vesey
DESCRIPTION:Meets for three consecutive Thursdays\, March 13\, 20\, and 27\, LMH Room A\, 1-2:30pm. Join Marianne Vesey\, co-chair of Newburyport’s Human Rights Coalition and Rev. Laurel Gray for this three-part series about different ways to take action against authoritarianism\, discern the work that is best for us to do\, and make sure we have the tools to sustain our efforts.
URL:https://www.frsuu.org/event/meeting-the-moment-with-rev-laurel-marianne-vesey/2025-03-20/
LOCATION:LMH Room A\, 26 Pleasant St\, Newburyport\, MA\, 01950\, United States
CATEGORIES:Justice Action MInistry
END:VEVENT
BEGIN:VEVENT
DTSTART;TZID=America/New_York:20250320T140000
DTEND;TZID=America/New_York:20250320T160000
DTSTAMP:20260421T114455
CREATED:20241008T151729Z
LAST-MODIFIED:20241022T135153Z
UID:41851-1742479200-1742486400@www.frsuu.org
SUMMARY:Reserved for Piano Practice
DESCRIPTION:Thursdays\, Sanctuary\, 2-4pm\, Gay Pearson
URL:https://www.frsuu.org/event/reserved-for-piano-rehearsal/2025-03-20/
LOCATION:FRS Sanctuary\, 26 Pleasant St\, Newburyport\, MA\, 01950\, United States
END:VEVENT
BEGIN:VEVENT
DTSTART;TZID=America/New_York:20250320T180000
DTEND;TZID=America/New_York:20250320T190000
DTSTAMP:20260421T114455
CREATED:20250213T181720Z
LAST-MODIFIED:20250213T181846Z
UID:44516-1742493600-1742497200@www.frsuu.org
SUMMARY:Spring Equinox Service
DESCRIPTION:Thursday\, March 20\, 6-7pm. The service will be held on the brick area in front of the church\, weather permitting. Alternate location is the LMH Main Room in case of inclement weather. This service is for all ages.
URL:https://www.frsuu.org/event/spring-equinox-service/
LOCATION:Brick Area in Front of Church
CATEGORIES:Worship
END:VEVENT
BEGIN:VEVENT
DTSTART;TZID=America/New_York:20250320T190000
DTEND;TZID=America/New_York:20250320T203000
DTSTAMP:20260421T114455
CREATED:20240830T152934Z
LAST-MODIFIED:20250527T194043Z
UID:40052-1742497200-1742502600@www.frsuu.org
SUMMARY:Adult Choir
DESCRIPTION:Thursdays\, LMH Main Room\, 7-8:30pm
URL:https://www.frsuu.org/event/adult-choir/2025-03-20/
LOCATION:LMH Main Room\, 26 Pleasant St\, Newburyport\, MA\, 01950\, United States
CATEGORIES:Music
END:VEVENT
END:VCALENDAR