BEGIN:VCALENDAR
VERSION:2.0
PRODID:-//First Religious Society of Newburyport - ECPv6.15.20//NONSGML v1.0//EN
CALSCALE:GREGORIAN
METHOD:PUBLISH
X-ORIGINAL-URL:https://www.frsuu.org
X-WR-CALDESC:Events for First Religious Society of Newburyport
REFRESH-INTERVAL;VALUE=DURATION:PT1H
X-Robots-Tag:noindex
X-PUBLISHED-TTL:PT1H
BEGIN:VTIMEZONE
TZID:America/New_York
BEGIN:DAYLIGHT
TZOFFSETFROM:-0500
TZOFFSETTO:-0400
TZNAME:EDT
DTSTART:20240310T070000
END:DAYLIGHT
BEGIN:STANDARD
TZOFFSETFROM:-0400
TZOFFSETTO:-0500
TZNAME:EST
DTSTART:20241103T060000
END:STANDARD
BEGIN:DAYLIGHT
TZOFFSETFROM:-0500
TZOFFSETTO:-0400
TZNAME:EDT
DTSTART:20250309T070000
END:DAYLIGHT
BEGIN:STANDARD
TZOFFSETFROM:-0400
TZOFFSETTO:-0500
TZNAME:EST
DTSTART:20251102T060000
END:STANDARD
BEGIN:DAYLIGHT
TZOFFSETFROM:-0500
TZOFFSETTO:-0400
TZNAME:EDT
DTSTART:20260308T070000
END:DAYLIGHT
BEGIN:STANDARD
TZOFFSETFROM:-0400
TZOFFSETTO:-0500
TZNAME:EST
DTSTART:20261101T060000
END:STANDARD
END:VTIMEZONE
BEGIN:VEVENT
DTSTART;TZID=America/New_York:20250323T091500
DTEND;TZID=America/New_York:20250323T103000
DTSTAMP:20260419T193405
CREATED:20250318T133119Z
LAST-MODIFIED:20250318T133119Z
UID:44956-1742721300-1742725800@www.frsuu.org
SUMMARY:Community Outreach Meeting
DESCRIPTION:Sunday\, March 23\, LMH Room A\, 9:15-10:30am. Community Outreach Committee meeting.
URL:https://www.frsuu.org/event/community-outreach-meeting/
LOCATION:LMH Room A\, 26 Pleasant St\, Newburyport\, MA\, 01950\, United States
END:VEVENT
BEGIN:VEVENT
DTSTART;TZID=America/New_York:20250323T100000
DTEND;TZID=America/New_York:20250323T113000
DTSTAMP:20260419T193405
CREATED:20240819T154433Z
LAST-MODIFIED:20240906T190649Z
UID:40420-1742724000-1742729400@www.frsuu.org
SUMMARY:Reserved for Nursery
DESCRIPTION:Reserved from 10:00am-11:30am
URL:https://www.frsuu.org/event/reserved-for-nursery/2025-03-23/
LOCATION:LMH Main Room\, 26 Pleasant St\, Newburyport\, MA\, 01950\, United States
CATEGORIES:Room Reservations
END:VEVENT
BEGIN:VEVENT
DTSTART;TZID=America/New_York:20250323T103000
DTEND;TZID=America/New_York:20250323T113000
DTSTAMP:20260419T193405
CREATED:20240814T231136Z
LAST-MODIFIED:20250515T191742Z
UID:39574-1742725800-1742729400@www.frsuu.org
SUMMARY:Sunday Worship Service
DESCRIPTION:Join us for services at 10:30am on Sundays\, from the Sunday after Labor Day through late spring. Experience elements of the world religions\, including our Christian roots and humanism. Find inspiration in choral and instrumental music (including organ)\, congregational singing\, a time for children\, readings\, an offering\, and meditative silence. Hear a sermon on social justice\, spirituality\, dealing with life’s challenges\, or other issues. We may celebrate a holiday\, act out a skit\, hold a coming-of-age ceremony\, or hear a member’s Journeys of Faith. Services end around 11:30am and are usually followed by a 30-minute fellowship gathering. \nFor a relaxed service with music from the jazz tradition\, come to a Jazz Vespers. Our Christmas Eve service and Christmas Candlelight service are community traditions.
URL:https://www.frsuu.org/event/sunday-worship-service/2025-03-23/
LOCATION:FRS Church\, 10 Main Street\, Newburyport\, MA\, 01950\, United States
CATEGORIES:Worship
END:VEVENT
BEGIN:VEVENT
DTSTART;TZID=America/New_York:20250323T103000
DTEND;TZID=America/New_York:20250323T113000
DTSTAMP:20260419T193405
CREATED:20240814T231615Z
LAST-MODIFIED:20250507T211959Z
UID:39612-1742725800-1742729400@www.frsuu.org
SUMMARY:Young Church
DESCRIPTION:Young Church is for children up through 8th grade. Children sit with their families for the beginning of worship service (about 15 minutes)\, and then head downstairs to the Lower Meetinghouse with volunteers and the Director of Youth and Children’s Ministry\, Mara Flynn. \nWe offer nursery care for children under age 5 – and “littles” are also welcome to join us in Young Church with a parent/guardian in attendance. \nOur Young Church programming engages and allows our K-8th grade children to experience and create meaningful connection through: \n\nRitual\, stories\, crafts\, games and joyful community building\nSpecial guests\, activities and projects that support curiosity and spiritual growth\nExplorations of the 7 UU Principles and social justice engagement\n\nIf your child will be attending\, please fill out our registration form HERE \nQuestions? Email Mara Flynn\, Director of Youth and Children’s Ministry at mara.flynn@frsuu.org.
URL:https://www.frsuu.org/event/young-church-2/2025-03-23/
LOCATION:LMH Main Room\, 26 Pleasant St\, Newburyport\, MA\, 01950\, United States
CATEGORIES:Worship
ORGANIZER;CN="Mara Flynn":MAILTO:mara.flynn@frsuu.org
END:VEVENT
BEGIN:VEVENT
DTSTART;TZID=America/New_York:20250323T120000
DTEND;TZID=America/New_York:20250323T130000
DTSTAMP:20260419T193405
CREATED:20250304T192446Z
LAST-MODIFIED:20250317T172457Z
UID:44752-1742731200-1742734800@www.frsuu.org
SUMMARY:The Kenyan Community in an Uncertain Time
DESCRIPTION:Sunday\, March 23\, Parish Hall\, noon-1pm. Meet members of the Kenyan community; hear from them the effects that the policies of the current administration are having on their community and what we can do to support them. \n(Internal note: setup required)
URL:https://www.frsuu.org/event/the-kenyan-community-in-an-uncertain-time/
LOCATION:Parish Hall 1st Floor
END:VEVENT
BEGIN:VEVENT
DTSTART;TZID=America/New_York:20250323T133000
DTEND;TZID=America/New_York:20250323T153000
DTSTAMP:20260419T193405
CREATED:20250116T201134Z
LAST-MODIFIED:20250116T201134Z
UID:43770-1742736600-1742743800@www.frsuu.org
SUMMARY:Reserved for Organ Rehearsal
DESCRIPTION:Sunday\, March 23\, Sanctuary\, 1:30-3:30pm.
URL:https://www.frsuu.org/event/reserved-for-organ-rehearsal-4/
LOCATION:FRS Sanctuary\, 26 Pleasant St\, Newburyport\, MA\, 01950\, United States
END:VEVENT
BEGIN:VEVENT
DTSTART;TZID=America/New_York:20250323T140000
DTEND;TZID=America/New_York:20250323T160000
DTSTAMP:20260419T193405
CREATED:20250209T182306Z
LAST-MODIFIED:20250209T182306Z
UID:44439-1742738400-1742745600@www.frsuu.org
SUMMARY:Reserved for Wilson Concert
DESCRIPTION:Sundays\, February 23\, March 2\, March 23\, LMH Room A\, 2-4pm.
URL:https://www.frsuu.org/event/reserved-for-wilson-concert/2025-03-23/
LOCATION:LMH Room A\, 26 Pleasant St\, Newburyport\, MA\, 01950\, United States
END:VEVENT
BEGIN:VEVENT
DTSTART;TZID=America/New_York:20250323T160000
DTEND;TZID=America/New_York:20250323T170000
DTSTAMP:20260419T193405
CREATED:20240820T142114Z
LAST-MODIFIED:20250318T213435Z
UID:39835-1742745600-1742749200@www.frsuu.org
SUMMARY:Wilson Music Series 2025: Justin Murphy-Mancini
DESCRIPTION:Sunday\, March 23\, Sanctuary\, 4pm – Justin Murphy-Mancini\, organist. \nThis concert will be performed in honor and memory of Barbara Owen\, former FRSUU Director of Church Music and international organist. \nFormer Director of Church Music at First Religious Society UU and current Paul Fritts Endowed Chair; Assistant Professor of Music\, Organ at Pacific Lutheran University\, Justin is a keyboardist and composer dedicated to exciting and enriching audiences with music from many eras. He appears regularly in concert as an organist\, harpsichordist\, and collaborative pianist\, with a repertoire that spans the entire written history of keyboard music.  More about Justin here. \nFollowing the concert there will be a reception in the Lower Meetinghouse. \nTickets are complimentary on Eventbrite: https://bit.ly/Wilson2025-03-23
URL:https://www.frsuu.org/event/wilson-concert-justin-murphy-mancini/
LOCATION:FRS Sanctuary\, 26 Pleasant St\, Newburyport\, MA\, 01950\, United States
CATEGORIES:Music
END:VEVENT
BEGIN:VEVENT
DTSTART;TZID=America/New_York:20250323T170000
DTEND;TZID=America/New_York:20250323T180000
DTSTAMP:20260419T193405
CREATED:20250316T140128Z
LAST-MODIFIED:20250316T140210Z
UID:44930-1742749200-1742752800@www.frsuu.org
SUMMARY:Concert Reception
DESCRIPTION:Sunday\, March 23\, LMH Main Room\, 5pm. Space reserved from 3-6pm. Reception following Justin Murphy-Mancini’s concert in memory of Barbara Owen.
URL:https://www.frsuu.org/event/concert-reception/
LOCATION:LMH Main Room\, 26 Pleasant St\, Newburyport\, MA\, 01950\, United States
END:VEVENT
END:VCALENDAR