BEGIN:VCALENDAR
VERSION:2.0
PRODID:-//First Religious Society of Newburyport - ECPv6.15.20//NONSGML v1.0//EN
CALSCALE:GREGORIAN
METHOD:PUBLISH
X-ORIGINAL-URL:https://www.frsuu.org
X-WR-CALDESC:Events for First Religious Society of Newburyport
REFRESH-INTERVAL;VALUE=DURATION:PT1H
X-Robots-Tag:noindex
X-PUBLISHED-TTL:PT1H
BEGIN:VTIMEZONE
TZID:America/New_York
BEGIN:DAYLIGHT
TZOFFSETFROM:-0500
TZOFFSETTO:-0400
TZNAME:EDT
DTSTART:20240310T070000
END:DAYLIGHT
BEGIN:STANDARD
TZOFFSETFROM:-0400
TZOFFSETTO:-0500
TZNAME:EST
DTSTART:20241103T060000
END:STANDARD
BEGIN:DAYLIGHT
TZOFFSETFROM:-0500
TZOFFSETTO:-0400
TZNAME:EDT
DTSTART:20250309T070000
END:DAYLIGHT
BEGIN:STANDARD
TZOFFSETFROM:-0400
TZOFFSETTO:-0500
TZNAME:EST
DTSTART:20251102T060000
END:STANDARD
BEGIN:DAYLIGHT
TZOFFSETFROM:-0500
TZOFFSETTO:-0400
TZNAME:EDT
DTSTART:20260308T070000
END:DAYLIGHT
BEGIN:STANDARD
TZOFFSETFROM:-0400
TZOFFSETTO:-0500
TZNAME:EST
DTSTART:20261101T060000
END:STANDARD
END:VTIMEZONE
BEGIN:VEVENT
DTSTART;TZID=America/New_York:20250326T100000
DTEND;TZID=America/New_York:20250326T103000
DTSTAMP:20260421T173720
CREATED:20240802T135026Z
LAST-MODIFIED:20250926T154251Z
UID:39942-1742983200-1742985000@www.frsuu.org
SUMMARY:Wednesday Guided Meditation (Zoom)
DESCRIPTION:Join FRS member and LICSW Woman Cooper on Wednesdays at 10am for a brief period of mid-week relaxation and renewal. Each 30-minute session will include a guided visualization and reflection on questions around where we hold stress and how we can release it. You’ll also learn some relaxation techniques to use on your own. This is a drop-in program; come one time or many. \nIf you’d like to reach out to Woman\, email susanc0805@gmail.com. \nJoin Zoom Meeting: \n\nhttps://us02web.zoom.us/j/87349458812?pwd=dXdIUVBJb0F1MnVjL0ZDakErVlRIdz09
URL:https://www.frsuu.org/event/wednesday-guided-relaxation-2/2025-03-26/
LOCATION:Zoom
CATEGORIES:Recovery
END:VEVENT
BEGIN:VEVENT
DTSTART;TZID=America/New_York:20250326T103000
DTEND;TZID=America/New_York:20250326T120000
DTSTAMP:20260421T173720
CREATED:20240904T201517Z
LAST-MODIFIED:20241203T183656Z
UID:40244-1742985000-1742990400@www.frsuu.org
SUMMARY:Worship Planning
DESCRIPTION:Lower Meetinghouse\, 10:30am-noon.
URL:https://www.frsuu.org/event/worship-planning-2/2025-03-26/
LOCATION:LMH Main Room\, 26 Pleasant St\, Newburyport\, MA\, 01950\, United States
END:VEVENT
BEGIN:VEVENT
DTSTART;TZID=America/New_York:20250326T123000
DTEND;TZID=America/New_York:20250326T140000
DTSTAMP:20260421T173720
CREATED:20240906T183347Z
LAST-MODIFIED:20251219T145913Z
UID:47805-1742992200-1742997600@www.frsuu.org
SUMMARY:Caregivers Support Group
DESCRIPTION:Meets monthly on the 4th Wednesdays\, LMH Room A\, 12:30-2pm \nThis group supports those caregivers who care for loved ones with some type of dementia. Members share their coping strategies\, suggestions about supportive agencies\, medical references\, etc. The group is facilitated by Nancy Kidd\, LICSW\, Rev. Jane Tuohy\, and Linda Harding. \nFor more information\, contact Nancy Kidd at nankdd@gmail.com or 978-376-8687.
URL:https://www.frsuu.org/event/caregivers-support-group/2025-03-26/
LOCATION:LMH Room A\, 26 Pleasant St\, Newburyport\, MA\, 01950\, United States
CATEGORIES:Spiritual Development
END:VEVENT
BEGIN:VEVENT
DTSTART;TZID=America/New_York:20250326T180000
DTEND;TZID=America/New_York:20250326T210000
DTSTAMP:20260421T173720
CREATED:20250318T210200Z
LAST-MODIFIED:20250318T210200Z
UID:44983-1743012000-1743022800@www.frsuu.org
SUMMARY:April 5 Event Rehearsal
DESCRIPTION:Wednesday\, March 26\, Sanctuary\, 6-9pm.
URL:https://www.frsuu.org/event/april-5-event-rehearsal/
LOCATION:FRS Sanctuary\, 26 Pleasant St\, Newburyport\, MA\, 01950\, United States
END:VEVENT
END:VCALENDAR