BEGIN:VCALENDAR
VERSION:2.0
PRODID:-//First Religious Society of Newburyport - ECPv6.15.20//NONSGML v1.0//EN
CALSCALE:GREGORIAN
METHOD:PUBLISH
X-WR-CALNAME:First Religious Society of Newburyport
X-ORIGINAL-URL:https://www.frsuu.org
X-WR-CALDESC:Events for First Religious Society of Newburyport
REFRESH-INTERVAL;VALUE=DURATION:PT1H
X-Robots-Tag:noindex
X-PUBLISHED-TTL:PT1H
BEGIN:VTIMEZONE
TZID:America/New_York
BEGIN:DAYLIGHT
TZOFFSETFROM:-0500
TZOFFSETTO:-0400
TZNAME:EDT
DTSTART:20240310T070000
END:DAYLIGHT
BEGIN:STANDARD
TZOFFSETFROM:-0400
TZOFFSETTO:-0500
TZNAME:EST
DTSTART:20241103T060000
END:STANDARD
BEGIN:DAYLIGHT
TZOFFSETFROM:-0500
TZOFFSETTO:-0400
TZNAME:EDT
DTSTART:20250309T070000
END:DAYLIGHT
BEGIN:STANDARD
TZOFFSETFROM:-0400
TZOFFSETTO:-0500
TZNAME:EST
DTSTART:20251102T060000
END:STANDARD
BEGIN:DAYLIGHT
TZOFFSETFROM:-0500
TZOFFSETTO:-0400
TZNAME:EDT
DTSTART:20260308T070000
END:DAYLIGHT
BEGIN:STANDARD
TZOFFSETFROM:-0400
TZOFFSETTO:-0500
TZNAME:EST
DTSTART:20261101T060000
END:STANDARD
END:VTIMEZONE
BEGIN:VEVENT
DTSTART;TZID=America/New_York:20250602T110000
DTEND;TZID=America/New_York:20250602T123000
DTSTAMP:20260422T111857
CREATED:20250408T164145Z
LAST-MODIFIED:20250910T151517Z
UID:45675-1748862000-1748867400@www.frsuu.org
SUMMARY:Support Group for Mild Cognitive Impairment
DESCRIPTION:First Mondays\, LMH Room A\, 11-12:30pm. Led by Nancy Kidd.
URL:https://www.frsuu.org/event/support-group-for-mild-cognitive-impairment-2/2025-06-02/
LOCATION:LMH Room A\, 26 Pleasant St\, Newburyport\, MA\, 01950\, United States
END:VEVENT
BEGIN:VEVENT
DTSTART;TZID=America/New_York:20250602T110000
DTEND;TZID=America/New_York:20250602T130000
DTSTAMP:20260422T111857
CREATED:20241104T185459Z
LAST-MODIFIED:20250611T182631Z
UID:43830-1748862000-1748869200@www.frsuu.org
SUMMARY:Maker Mondays: Craft Circle with Rev. Laurel
DESCRIPTION:First and third Mondays\, LMH Nursery/Conference Room\, 11am-1pm. Join Rev. Laurel for our Maker Monday offering during lunch hour on the first and third Monday of each month. Bring a creative project\, start a new hobby and connect with other makers in our FRS community. Invite a friend if you feel called\, and bring a lunch if you prefer. All are welcome. \n 
URL:https://www.frsuu.org/event/maker-monday-craft-circle-with-rev-laurel/2025-06-02/
LOCATION:LMH Nursery/Conf Room
CATEGORIES:Community Events
END:VEVENT
BEGIN:VEVENT
DTSTART;TZID=America/New_York:20250602T130000
DTEND;TZID=America/New_York:20250602T150000
DTSTAMP:20260422T111857
CREATED:20250530T163116Z
LAST-MODIFIED:20250530T163116Z
UID:46667-1748869200-1748876400@www.frsuu.org
SUMMARY:Reserved for Meeting Bag Assembly
DESCRIPTION:Monday\, June 2\, LMH Room A\, 1-3pm
URL:https://www.frsuu.org/event/reserved-for-meeting-bag-assembly/
LOCATION:LMH Room A\, 26 Pleasant St\, Newburyport\, MA\, 01950\, United States
END:VEVENT
BEGIN:VEVENT
DTSTART;TZID=America/New_York:20250602T183000
DTEND;TZID=America/New_York:20250602T193000
DTSTAMP:20260422T111857
CREATED:20240605T195817Z
LAST-MODIFIED:20240605T195817Z
UID:45725-1748889000-1748892600@www.frsuu.org
SUMMARY:Monday Evening Meditation (In Person)
DESCRIPTION:Monday Night Meditation at 6:30pm in Lower Meeting House (enter via Unicorn Street entrance). These weekly sessions are led by Joyce Haydock\, Senior Dharma Teacher with the International Kwan Um School of Zen. She has been with the school since 1989. This FRSUU Monday group was established over ten years ago. Our sessions consist of two or three chants\, two readings/teachings and 30 minutes of sitting meditation. Beginners are welcome. \nContact Joyce at 978-363-5457 or email joycehaydock@outlook.com to be added to our list and receive access information. \n  \n 
URL:https://www.frsuu.org/event/monday-evening-meditation-in-person/2025-06-02/
LOCATION:Lower Meetinghouse\, 26 Pleasant St\, Newburyport\, MA\, 01950\, United States
ORGANIZER;CN="Joyce Haydock":MAILTO:joycehaydock@outlook.com
END:VEVENT
BEGIN:VEVENT
DTSTART;TZID=America/New_York:20250602T184500
DTEND;TZID=America/New_York:20250602T200000
DTSTAMP:20260422T111857
CREATED:20240614T153123Z
LAST-MODIFIED:20240614T153539Z
UID:38708-1748889900-1748894400@www.frsuu.org
SUMMARY:Adult Children of Alcoholics
DESCRIPTION:Meets in the Hayward Room
URL:https://www.frsuu.org/event/adult-children-of-alcoholics-3/2025-06-02/
LOCATION:Hayward Room\, 26 Pleasant St\, Newburyport\, MA\, 01950\, United States
CATEGORIES:Recovery
END:VEVENT
END:VCALENDAR