BEGIN:VCALENDAR
VERSION:2.0
PRODID:-//First Religious Society of Newburyport - ECPv6.15.20//NONSGML v1.0//EN
CALSCALE:GREGORIAN
METHOD:PUBLISH
X-ORIGINAL-URL:https://www.frsuu.org
X-WR-CALDESC:Events for First Religious Society of Newburyport
REFRESH-INTERVAL;VALUE=DURATION:PT1H
X-Robots-Tag:noindex
X-PUBLISHED-TTL:PT1H
BEGIN:VTIMEZONE
TZID:America/New_York
BEGIN:DAYLIGHT
TZOFFSETFROM:-0500
TZOFFSETTO:-0400
TZNAME:EDT
DTSTART:20240310T070000
END:DAYLIGHT
BEGIN:STANDARD
TZOFFSETFROM:-0400
TZOFFSETTO:-0500
TZNAME:EST
DTSTART:20241103T060000
END:STANDARD
BEGIN:DAYLIGHT
TZOFFSETFROM:-0500
TZOFFSETTO:-0400
TZNAME:EDT
DTSTART:20250309T070000
END:DAYLIGHT
BEGIN:STANDARD
TZOFFSETFROM:-0400
TZOFFSETTO:-0500
TZNAME:EST
DTSTART:20251102T060000
END:STANDARD
BEGIN:DAYLIGHT
TZOFFSETFROM:-0500
TZOFFSETTO:-0400
TZNAME:EDT
DTSTART:20260308T070000
END:DAYLIGHT
BEGIN:STANDARD
TZOFFSETFROM:-0400
TZOFFSETTO:-0500
TZNAME:EST
DTSTART:20261101T060000
END:STANDARD
END:VTIMEZONE
BEGIN:VEVENT
DTSTART;TZID=America/New_York:20250604T080000
DTEND;TZID=America/New_York:20250604T090000
DTSTAMP:20260419T152736
CREATED:20250603T144211Z
LAST-MODIFIED:20250603T144211Z
UID:46684-1749024000-1749027600@www.frsuu.org
SUMMARY:Facilities Team Meeting
DESCRIPTION:Wednesday\, June 4\, Room A\, 8-9am.
URL:https://www.frsuu.org/event/facilities-team-meeting/
LOCATION:LMH Room A\, 26 Pleasant St\, Newburyport\, MA\, 01950\, United States
END:VEVENT
BEGIN:VEVENT
DTSTART;TZID=America/New_York:20250604T090000
DTEND;TZID=America/New_York:20250604T100000
DTSTAMP:20260419T152736
CREATED:20241106T143709Z
LAST-MODIFIED:20241106T143709Z
UID:42935-1749027600-1749031200@www.frsuu.org
SUMMARY:4th Century Visioning Team (Hybrid)
DESCRIPTION:Meets 1st Wednesdays\, LMH Main Room\, 9-10am (Hybrid).
URL:https://www.frsuu.org/event/4th-century-visioning-team-hybrid/2025-06-04/
END:VEVENT
BEGIN:VEVENT
DTSTART;TZID=America/New_York:20250604T100000
DTEND;TZID=America/New_York:20250604T103000
DTSTAMP:20260419T152736
CREATED:20240802T135026Z
LAST-MODIFIED:20250926T154303Z
UID:39952-1749031200-1749033000@www.frsuu.org
SUMMARY:Wednesday Guided Meditation (Zoom)
DESCRIPTION:Join FRS member and LICSW Woman Cooper on Wednesdays at 10am for a brief period of mid-week relaxation and renewal. Each 30-minute session will include a guided visualization and reflection on questions around where we hold stress and how we can release it. You’ll also learn some relaxation techniques to use on your own. This is a drop-in program; come one time or many. \nIf you’d like to reach out to Woman\, email susanc0805@gmail.com. \nJoin Zoom Meeting: \n\nhttps://us02web.zoom.us/j/87349458812?pwd=dXdIUVBJb0F1MnVjL0ZDakErVlRIdz09
URL:https://www.frsuu.org/event/wednesday-guided-relaxation-2/2025-06-04/
LOCATION:Zoom
CATEGORIES:Recovery
END:VEVENT
BEGIN:VEVENT
DTSTART;TZID=America/New_York:20250604T100000
DTEND;TZID=America/New_York:20250604T110000
DTSTAMP:20260419T152736
CREATED:20250502T191133Z
LAST-MODIFIED:20250630T151848Z
UID:45843-1749031200-1749034800@www.frsuu.org
SUMMARY:Centering Prayer Group
DESCRIPTION:Wednesdays\, May 28 – July 9\, LMH Room A\, 10-11am. Led by Cynthia Tolbert. \nFor almost 20 years Cynthia Tolbert has practiced Centering Prayer\, a silent meditation of consent to the presence and action of the Divine within. In essence\, contemplative prayer is simply a wordless\, trusting opening of self to the Divine presence\, however you name that presence\, The Divine\, the One Light\, God\, the Creator. It is not a guided meditation\, you do not offer any words in prayer\, you just listen and open yourself to the Divine. \nCentering Prayer will be on hiatus after July 9 until September.
URL:https://www.frsuu.org/event/centering-prayer-group/2025-06-04/
LOCATION:LMH Room A\, 26 Pleasant St\, Newburyport\, MA\, 01950\, United States
CATEGORIES:Spiritual Development
END:VEVENT
BEGIN:VEVENT
DTSTART;TZID=America/New_York:20250604T120000
DTEND;TZID=America/New_York:20250604T130000
DTSTAMP:20260419T152736
CREATED:20250528T143131Z
LAST-MODIFIED:20250528T143132Z
UID:46264-1749038400-1749042000@www.frsuu.org
SUMMARY:Ladies Who Lunch
DESCRIPTION:Wednesday\, June 4\, Michael’s Harborside\, noon. \nJoin us for good food and conversation. This will be our last lunch together this church year. Text or call Nancy or Annie if you plan to join us.
URL:https://www.frsuu.org/event/ladies-who-lunch-6/
LOCATION:Michael’s Harborside Restaurant & Bar\, 1 Tournament Wharft\, Newburyport\, MA\, 01950\, United States
END:VEVENT
BEGIN:VEVENT
DTSTART;TZID=America/New_York:20250604T123000
DTEND;TZID=America/New_York:20250604T140000
DTSTAMP:20260419T152736
CREATED:20250519T201304Z
LAST-MODIFIED:20250723T164646Z
UID:46054-1749040200-1749045600@www.frsuu.org
SUMMARY:Grief Support Group (offsite)
DESCRIPTION:First and third Wednesdays of the month\, Morse Conference Room (across from Gift Shop) at Anna Jaques Hospital\, 12:30-2pm. \nThis support group for patient family members and staff is facilitated by Rev. Jane Tuohy\, interfaith minister and chaplain; Nancy Kidd\, retired hospice trainer and bereavement support counselor; and Linda Harding. For information\, email Rev. Jane at jane.tuohy@frsuu.org or Nancy Kidd at nankdd@gmail.com.
URL:https://www.frsuu.org/event/grief-support-group/2025-06-04/
LOCATION:Anna Jaques Hospital\, 25 Highland Ave\, Newburyport\, MA\, United States
END:VEVENT
BEGIN:VEVENT
DTSTART;TZID=America/New_York:20250604T150000
DTEND;TZID=America/New_York:20250604T160000
DTSTAMP:20260419T152736
CREATED:20240802T134035Z
LAST-MODIFIED:20241121T222101Z
UID:40350-1749049200-1749052800@www.frsuu.org
SUMMARY:Addictions Ministry Team
DESCRIPTION:The Addictions Ministry Team occurs monthly on the first Wednesday from 3:00pm-4:00pm in the LMH Nursery/Conference Room.
URL:https://www.frsuu.org/event/addictions-team-meeting/2025-06-04/
LOCATION:LMH Nursery/Conf Room
CATEGORIES:Spiritual Development
END:VEVENT
BEGIN:VEVENT
DTSTART;TZID=America/New_York:20250604T180000
DTEND;TZID=America/New_York:20250604T193000
DTSTAMP:20260419T152736
CREATED:20250408T171219Z
LAST-MODIFIED:20250408T171219Z
UID:45477-1749060000-1749065400@www.frsuu.org
SUMMARY:Meeting the Moment with Rev. Laurel & Marianne Vesey
DESCRIPTION:Wednesdays\, May 21\, May 28\, June 4\, LMH Nursery/Conf Room\, 6-7:30pm. \nJoin Marianne Vesey\, co-chair of Newburyport’s Human Rights Coalition\, and Rev. Laurel Gray for this three-part series about different ways to take action against authoritarianism\, discern the work that is best for us to do\, and make sure we have the tools to sustain our efforts.
URL:https://www.frsuu.org/event/meeting-the-moment-with-rev-laurel-marianne-vesey-2/2025-06-04/
LOCATION:LMH Nursery/Conf Room
END:VEVENT
BEGIN:VEVENT
DTSTART;TZID=America/New_York:20250604T183000
DTEND;TZID=America/New_York:20250604T200000
DTSTAMP:20260419T152736
CREATED:20241017T192455Z
LAST-MODIFIED:20241122T221930Z
UID:42726-1749061800-1749067200@www.frsuu.org
SUMMARY:Stewardship Meeting (Zoom)
DESCRIPTION:Meets on the second Wednesday of each month at 6:30pm on Zoom.
URL:https://www.frsuu.org/event/stewardship-meeting-2/2025-06-04/
LOCATION:Zoom
END:VEVENT
END:VCALENDAR