BEGIN:VCALENDAR
VERSION:2.0
PRODID:-//First Religious Society of Newburyport - ECPv6.15.20//NONSGML v1.0//EN
CALSCALE:GREGORIAN
METHOD:PUBLISH
X-WR-CALNAME:First Religious Society of Newburyport
X-ORIGINAL-URL:https://www.frsuu.org
X-WR-CALDESC:Events for First Religious Society of Newburyport
REFRESH-INTERVAL;VALUE=DURATION:PT1H
X-Robots-Tag:noindex
X-PUBLISHED-TTL:PT1H
BEGIN:VTIMEZONE
TZID:America/New_York
BEGIN:DAYLIGHT
TZOFFSETFROM:-0500
TZOFFSETTO:-0400
TZNAME:EDT
DTSTART:20240310T070000
END:DAYLIGHT
BEGIN:STANDARD
TZOFFSETFROM:-0400
TZOFFSETTO:-0500
TZNAME:EST
DTSTART:20241103T060000
END:STANDARD
BEGIN:DAYLIGHT
TZOFFSETFROM:-0500
TZOFFSETTO:-0400
TZNAME:EDT
DTSTART:20250309T070000
END:DAYLIGHT
BEGIN:STANDARD
TZOFFSETFROM:-0400
TZOFFSETTO:-0500
TZNAME:EST
DTSTART:20251102T060000
END:STANDARD
BEGIN:DAYLIGHT
TZOFFSETFROM:-0500
TZOFFSETTO:-0400
TZNAME:EDT
DTSTART:20260308T070000
END:DAYLIGHT
BEGIN:STANDARD
TZOFFSETFROM:-0400
TZOFFSETTO:-0500
TZNAME:EST
DTSTART:20261101T060000
END:STANDARD
END:VTIMEZONE
BEGIN:VEVENT
DTSTART;TZID=America/New_York:20251011T080000
DTEND;TZID=America/New_York:20251011T110000
DTSTAMP:20260419T215700
CREATED:20240814T231956Z
LAST-MODIFIED:20240814T231956Z
UID:43956-1760169600-1760180400@www.frsuu.org
SUMMARY:Merrimack Valley Ship Model Club (MVSMC)
DESCRIPTION:Second Saturdays\, Lower Meetinghouse Main Room\, 8-11am.
URL:https://www.frsuu.org/event/merrimack-valley-ship-model-club-mvsmc/2025-10-11/
LOCATION:LMH Main Room\, 26 Pleasant St\, Newburyport\, MA\, 01950\, United States
END:VEVENT
BEGIN:VEVENT
DTSTART;TZID=America/New_York:20251011T110000
DTEND;TZID=America/New_York:20251011T150000
DTSTAMP:20260419T215700
CREATED:20250724T201408Z
LAST-MODIFIED:20250724T201408Z
UID:46988-1760180400-1760194800@www.frsuu.org
SUMMARY:Memorial Service
DESCRIPTION:Saturday\, October 11\, Sanctuary & Lower Meetinghouse\, 11am – 3pm.
URL:https://www.frsuu.org/event/memorial-service-2/
LOCATION:FRS Sanctuary\, 26 Pleasant St\, Newburyport\, MA\, 01950\, United States
END:VEVENT
BEGIN:VEVENT
DTSTART;TZID=America/New_York:20251011T160000
DTEND;TZID=America/New_York:20251011T190000
DTSTAMP:20260419T215700
CREATED:20250724T202302Z
LAST-MODIFIED:20250724T202302Z
UID:46992-1760198400-1760209200@www.frsuu.org
SUMMARY:Renaissance New England
DESCRIPTION:Meets Saturdays every other month\, 4pm. On this date the meeting will take place in the Parish Hall.
URL:https://www.frsuu.org/event/renaissance-new-england-2/
LOCATION:Parish Hall 1st Floor
END:VEVENT
BEGIN:VEVENT
DTSTART;TZID=America/New_York:20251011T173000
DTEND;TZID=America/New_York:20251011T190000
DTSTAMP:20260419T215700
CREATED:20250724T201739Z
LAST-MODIFIED:20250918T184052Z
UID:46990-1760203800-1760209200@www.frsuu.org
SUMMARY:Sing Out: Shower The People
DESCRIPTION:Saturday\, October 11\, Sanctuary\, 5:30-7pm. \n  \n \nClick here for free registration: https://linktr.ee/ArtsCultureFRSUU
URL:https://www.frsuu.org/event/reserved-for-sing-out/
LOCATION:FRS Sanctuary\, 26 Pleasant St\, Newburyport\, MA\, 01950\, United States
END:VEVENT
END:VCALENDAR