BEGIN:VCALENDAR
VERSION:2.0
PRODID:-//First Religious Society of Newburyport - ECPv6.15.20//NONSGML v1.0//EN
CALSCALE:GREGORIAN
METHOD:PUBLISH
X-WR-CALNAME:First Religious Society of Newburyport
X-ORIGINAL-URL:https://www.frsuu.org
X-WR-CALDESC:Events for First Religious Society of Newburyport
REFRESH-INTERVAL;VALUE=DURATION:PT1H
X-Robots-Tag:noindex
X-PUBLISHED-TTL:PT1H
BEGIN:VTIMEZONE
TZID:America/New_York
BEGIN:DAYLIGHT
TZOFFSETFROM:-0500
TZOFFSETTO:-0400
TZNAME:EDT
DTSTART:20240310T070000
END:DAYLIGHT
BEGIN:STANDARD
TZOFFSETFROM:-0400
TZOFFSETTO:-0500
TZNAME:EST
DTSTART:20241103T060000
END:STANDARD
BEGIN:DAYLIGHT
TZOFFSETFROM:-0500
TZOFFSETTO:-0400
TZNAME:EDT
DTSTART:20250309T070000
END:DAYLIGHT
BEGIN:STANDARD
TZOFFSETFROM:-0400
TZOFFSETTO:-0500
TZNAME:EST
DTSTART:20251102T060000
END:STANDARD
BEGIN:DAYLIGHT
TZOFFSETFROM:-0500
TZOFFSETTO:-0400
TZNAME:EDT
DTSTART:20260308T070000
END:DAYLIGHT
BEGIN:STANDARD
TZOFFSETFROM:-0400
TZOFFSETTO:-0500
TZNAME:EST
DTSTART:20261101T060000
END:STANDARD
END:VTIMEZONE
BEGIN:VEVENT
DTSTART;TZID=America/New_York:20251101T180000
DTEND;TZID=America/New_York:20251101T220000
DTSTAMP:20260422T074420
CREATED:20250909T231216Z
LAST-MODIFIED:20251014T210515Z
UID:47676-1762020000-1762034400@www.frsuu.org
SUMMARY:Bluebird Concert
DESCRIPTION:Saturday\, Nov 1 – Parish Hall – 6-10pm (7pm Concert) Concert featuring many local musicians and poets including: \n\n\n\n\nAneesh Kashalikar and Krysta Brianna Stone \n\n\n\n\nTom Miller \nColbie Lind \n\n\n\n\nDanny Harrington and Rusty Scott
URL:https://www.frsuu.org/event/hold-for-bluebird/
LOCATION:Parish Hall 1st Floor
ATTACH;FMTTYPE=image/jpeg:https://www.frsuu.org/wp-content/uploads/2025/09/BlueBirdNov1.jpeg
END:VEVENT
END:VCALENDAR