BEGIN:VCALENDAR
VERSION:2.0
PRODID:-//First Religious Society of Newburyport - ECPv6.15.20//NONSGML v1.0//EN
CALSCALE:GREGORIAN
METHOD:PUBLISH
X-WR-CALNAME:First Religious Society of Newburyport
X-ORIGINAL-URL:https://www.frsuu.org
X-WR-CALDESC:Events for First Religious Society of Newburyport
REFRESH-INTERVAL;VALUE=DURATION:PT1H
X-Robots-Tag:noindex
X-PUBLISHED-TTL:PT1H
BEGIN:VTIMEZONE
TZID:America/New_York
BEGIN:DAYLIGHT
TZOFFSETFROM:-0500
TZOFFSETTO:-0400
TZNAME:EDT
DTSTART:20240310T070000
END:DAYLIGHT
BEGIN:STANDARD
TZOFFSETFROM:-0400
TZOFFSETTO:-0500
TZNAME:EST
DTSTART:20241103T060000
END:STANDARD
BEGIN:DAYLIGHT
TZOFFSETFROM:-0500
TZOFFSETTO:-0400
TZNAME:EDT
DTSTART:20250309T070000
END:DAYLIGHT
BEGIN:STANDARD
TZOFFSETFROM:-0400
TZOFFSETTO:-0500
TZNAME:EST
DTSTART:20251102T060000
END:STANDARD
BEGIN:DAYLIGHT
TZOFFSETFROM:-0500
TZOFFSETTO:-0400
TZNAME:EDT
DTSTART:20260308T070000
END:DAYLIGHT
BEGIN:STANDARD
TZOFFSETFROM:-0400
TZOFFSETTO:-0500
TZNAME:EST
DTSTART:20261101T060000
END:STANDARD
END:VTIMEZONE
BEGIN:VEVENT
DTSTART;TZID=America/New_York:20251106T130000
DTEND;TZID=America/New_York:20251106T143000
DTSTAMP:20260419T171323
CREATED:20251022T135546Z
LAST-MODIFIED:20251022T135546Z
UID:49097-1762434000-1762439400@www.frsuu.org
SUMMARY:On Tyranny Zoom Discussions
DESCRIPTION:Wednesdays\, October 23 and 30\, November 6\, 1-2:30pm\, Zoom only
URL:https://www.frsuu.org/event/on-tyranny-zoom-discussions/2025-11-06/
LOCATION:Zoom
END:VEVENT
BEGIN:VEVENT
DTSTART;TZID=America/New_York:20251106T160000
DTEND;TZID=America/New_York:20251106T173000
DTSTAMP:20260419T171323
CREATED:20250926T135533Z
LAST-MODIFIED:20250926T135559Z
UID:48335-1762444800-1762450200@www.frsuu.org
SUMMARY:Theater in the Open
DESCRIPTION:Thursdays\, November 6\, 13\, 20; December 4\, 11\, 18; Parish Hall 1st Floor\, 4-5:30pm
URL:https://www.frsuu.org/event/theater-in-the-open/2025-11-06/
LOCATION:Parish Hall 1st Floor
ORGANIZER;CN="Mara Flynn":MAILTO:mara.flynn@frsuu.org
END:VEVENT
BEGIN:VEVENT
DTSTART;TZID=America/New_York:20251106T180000
DTEND;TZID=America/New_York:20251106T190000
DTSTAMP:20260419T171323
CREATED:20250905T190914Z
LAST-MODIFIED:20250905T190914Z
UID:49688-1762452000-1762455600@www.frsuu.org
SUMMARY:Big Questions Discussion Group w/ Rev. Laurel
DESCRIPTION:First Thursdays beginning October 2\, LMH Nursery/Conf Room\, 6-7pm. \nJoin Rev. Laurel for an informal monthly conversation in which we ponder the mysteries of life’s big questions. What is evil? Is goodness inherent? What happens when we die? Bring your questions and your curiosity.
URL:https://www.frsuu.org/event/big-questions-discussion-group-w-rev-laurel/2025-11-06/
LOCATION:LMH Nursery/Conf Room
END:VEVENT
BEGIN:VEVENT
DTSTART;TZID=America/New_York:20251106T190000
DTEND;TZID=America/New_York:20251106T203000
DTSTAMP:20260419T171323
CREATED:20250124T200119Z
LAST-MODIFIED:20260417T150549Z
UID:44007-1762455600-1762461000@www.frsuu.org
SUMMARY:Adult Choir
DESCRIPTION:Thursdays\, LMH Main Room\, 7-8:30pm.
URL:https://www.frsuu.org/event/adult-choir-2/2025-11-06/
LOCATION:LMH Main Room\, 26 Pleasant St\, Newburyport\, MA\, 01950\, United States
END:VEVENT
END:VCALENDAR