BEGIN:VCALENDAR
VERSION:2.0
PRODID:-//First Religious Society of Newburyport - ECPv6.15.20//NONSGML v1.0//EN
CALSCALE:GREGORIAN
METHOD:PUBLISH
X-WR-CALNAME:First Religious Society of Newburyport
X-ORIGINAL-URL:https://www.frsuu.org
X-WR-CALDESC:Events for First Religious Society of Newburyport
REFRESH-INTERVAL;VALUE=DURATION:PT1H
X-Robots-Tag:noindex
X-PUBLISHED-TTL:PT1H
BEGIN:VTIMEZONE
TZID:America/New_York
BEGIN:DAYLIGHT
TZOFFSETFROM:-0500
TZOFFSETTO:-0400
TZNAME:EDT
DTSTART:20240310T070000
END:DAYLIGHT
BEGIN:STANDARD
TZOFFSETFROM:-0400
TZOFFSETTO:-0500
TZNAME:EST
DTSTART:20241103T060000
END:STANDARD
BEGIN:DAYLIGHT
TZOFFSETFROM:-0500
TZOFFSETTO:-0400
TZNAME:EDT
DTSTART:20250309T070000
END:DAYLIGHT
BEGIN:STANDARD
TZOFFSETFROM:-0400
TZOFFSETTO:-0500
TZNAME:EST
DTSTART:20251102T060000
END:STANDARD
BEGIN:DAYLIGHT
TZOFFSETFROM:-0500
TZOFFSETTO:-0400
TZNAME:EDT
DTSTART:20260308T070000
END:DAYLIGHT
BEGIN:STANDARD
TZOFFSETFROM:-0400
TZOFFSETTO:-0500
TZNAME:EST
DTSTART:20261101T060000
END:STANDARD
END:VTIMEZONE
BEGIN:VEVENT
DTSTART;TZID=America/New_York:20251114T080000
DTEND;TZID=America/New_York:20251114T093000
DTSTAMP:20260422T173538
CREATED:20251104T185515Z
LAST-MODIFIED:20251104T185515Z
UID:49228-1763107200-1763112600@www.frsuu.org
SUMMARY:Capital Campaign Meeting (hybrid)
DESCRIPTION:Fridays starting October 31\, LMH Room A\, 8-9:30am
URL:https://www.frsuu.org/event/capital-campaign-meeting-hybrid/2025-11-14/
LOCATION:LMH Room A\, 26 Pleasant St\, Newburyport\, MA\, 01950\, United States
END:VEVENT
BEGIN:VEVENT
DTSTART;TZID=America/New_York:20251114T100000
DTEND;TZID=America/New_York:20251114T113000
DTSTAMP:20260422T173538
CREATED:20240607T153804Z
LAST-MODIFIED:20251224T212339Z
UID:46382-1763114400-1763119800@www.frsuu.org
SUMMARY:Friday Book Group (Hybrid)
DESCRIPTION:Fridays\, LMH Room A\, 10-11:30am. \nWe meet weekly and read both fiction and non-fiction books chosen by participants. Each book is read and discussed over a period of several meetings\, with the reading for each determined by the group.
URL:https://www.frsuu.org/event/friday-book-group/2025-11-14/
LOCATION:LMH Room A\, 26 Pleasant St\, Newburyport\, MA\, 01950\, United States
END:VEVENT
BEGIN:VEVENT
DTSTART;TZID=America/New_York:20251114T110000
DTEND;TZID=America/New_York:20251114T120000
DTSTAMP:20260422T173538
CREATED:20250903T210908Z
LAST-MODIFIED:20260107T181545Z
UID:47393-1763118000-1763121600@www.frsuu.org
SUMMARY:Friday Peace Vigil (offsite)
DESCRIPTION:Every Friday\, Market Square Bullnose\, 11am. \nRev. Rebecca leads this weekly gathering to reflect on and remember our commitment to peace\, love\, and compassion as we navigate the turbulence and daily horrors of our troubled world.
URL:https://www.frsuu.org/event/friday-peace-vigil-offsite/2025-11-14/
LOCATION:Market Square Bullnose\, Newburyport\, 01950\, United States
END:VEVENT
BEGIN:VEVENT
DTSTART;TZID=America/New_York:20251114T120000
DTEND;TZID=America/New_York:20251114T130000
DTSTAMP:20260422T173538
CREATED:20251105T185516Z
LAST-MODIFIED:20251105T185516Z
UID:49240-1763121600-1763125200@www.frsuu.org
SUMMARY:Annual Campaign Preliminary Discussion
DESCRIPTION:Friday\, November 14\, LMH Room A\, 12pm
URL:https://www.frsuu.org/event/annual-campaign-preliminary-discussion/
LOCATION:LMH Room A\, 26 Pleasant St\, Newburyport\, MA\, 01950\, United States
END:VEVENT
BEGIN:VEVENT
DTSTART;TZID=America/New_York:20251114T180000
DTEND;TZID=America/New_York:20251114T193000
DTSTAMP:20260422T173538
CREATED:20240906T220128Z
LAST-MODIFIED:20240906T220128Z
UID:40870-1763143200-1763148600@www.frsuu.org
SUMMARY:SMART Recovery (Contact: 678-378-0786)
DESCRIPTION:Meets weekly on Friday
URL:https://www.frsuu.org/event/smart-recovery-contact-678-378-0786-3/2025-11-14/
LOCATION:Hayward Room\, 26 Pleasant St\, Newburyport\, MA\, 01950\, United States
CATEGORIES:Recovery
END:VEVENT
END:VCALENDAR