BEGIN:VCALENDAR
VERSION:2.0
PRODID:-//First Religious Society of Newburyport - ECPv6.15.20//NONSGML v1.0//EN
CALSCALE:GREGORIAN
METHOD:PUBLISH
X-ORIGINAL-URL:https://www.frsuu.org
X-WR-CALDESC:Events for First Religious Society of Newburyport
REFRESH-INTERVAL;VALUE=DURATION:PT1H
X-Robots-Tag:noindex
X-PUBLISHED-TTL:PT1H
BEGIN:VTIMEZONE
TZID:America/New_York
BEGIN:DAYLIGHT
TZOFFSETFROM:-0500
TZOFFSETTO:-0400
TZNAME:EDT
DTSTART:20240310T070000
END:DAYLIGHT
BEGIN:STANDARD
TZOFFSETFROM:-0400
TZOFFSETTO:-0500
TZNAME:EST
DTSTART:20241103T060000
END:STANDARD
BEGIN:DAYLIGHT
TZOFFSETFROM:-0500
TZOFFSETTO:-0400
TZNAME:EDT
DTSTART:20250309T070000
END:DAYLIGHT
BEGIN:STANDARD
TZOFFSETFROM:-0400
TZOFFSETTO:-0500
TZNAME:EST
DTSTART:20251102T060000
END:STANDARD
BEGIN:DAYLIGHT
TZOFFSETFROM:-0500
TZOFFSETTO:-0400
TZNAME:EDT
DTSTART:20260308T070000
END:DAYLIGHT
BEGIN:STANDARD
TZOFFSETFROM:-0400
TZOFFSETTO:-0500
TZNAME:EST
DTSTART:20261101T060000
END:STANDARD
END:VTIMEZONE
BEGIN:VEVENT
DTSTART;TZID=America/New_York:20251116T094500
DTEND;TZID=America/New_York:20251116T101500
DTSTAMP:20260423T012204
CREATED:20251111T190446Z
LAST-MODIFIED:20251112T202929Z
UID:49293-1763286300-1763288100@www.frsuu.org
SUMMARY:Young Church Singers
DESCRIPTION:Sundays\, November 16 and 23\, LMH Room A\, 9:45-10:15am. \nSunday\, December 7\, LMH Nursery/Conf Room\, 9:45-10:15am.
URL:https://www.frsuu.org/event/young-church-singers-2/2025-11-16/
LOCATION:LMH Room A\, 26 Pleasant St\, Newburyport\, MA\, 01950\, United States
ORGANIZER;CN="Mara Flynn":MAILTO:mara.flynn@frsuu.org
END:VEVENT
BEGIN:VEVENT
DTSTART;TZID=America/New_York:20251116T103000
DTEND;TZID=America/New_York:20251116T113000
DTSTAMP:20260423T012204
CREATED:20250520T205919Z
LAST-MODIFIED:20260407T154156Z
UID:46144-1763289000-1763292600@www.frsuu.org
SUMMARY:Sunday Worship Service
DESCRIPTION:Sundays\, Sanctuary\, 10:30-11:30am with livestream on YouTube. \nJoin us for worship from the Sunday after Labor Day through late spring. Experience elements of the world religions\, including our Christian roots and humanism. Find inspiration in choral and instrumental music (including organ)\, congregational singing\, a time for children\, readings\, an offering\, and meditative silence. Hear a sermon on social justice\, spirituality\, dealing with life’s challenges\, or other issues. We may celebrate a holiday\, act out a skit\, or hold a coming-of-age ceremony. Services are usually followed by a 30-minute fellowship gathering or a monthly Justice Sunday program.
URL:https://www.frsuu.org/event/sunday-worship-service-3/2025-11-16/
LOCATION:FRS Sanctuary\, 26 Pleasant St\, Newburyport\, MA\, 01950\, United States
CATEGORIES:Music,Worship
END:VEVENT
BEGIN:VEVENT
DTSTART;TZID=America/New_York:20251116T103000
DTEND;TZID=America/New_York:20251116T113000
DTSTAMP:20260423T012204
CREATED:20250922T163733Z
LAST-MODIFIED:20260403T151600Z
UID:48103-1763289000-1763292600@www.frsuu.org
SUMMARY:Young Church
DESCRIPTION:Sundays\, from September 14\, 2025 until May 17\, 2026\, LMH Main Room and Nursery/Conf Room\, 10:30-11:30am
URL:https://www.frsuu.org/event/young-church-3/2025-11-16/
LOCATION:LMH Main Room\, 26 Pleasant St\, Newburyport\, MA\, 01950\, United States
CATEGORIES:Young Church
ORGANIZER;CN="Mara Flynn":MAILTO:mara.flynn@frsuu.org
END:VEVENT
BEGIN:VEVENT
DTSTART;TZID=America/New_York:20251116T113000
DTEND;TZID=America/New_York:20251116T123000
DTSTAMP:20260423T012204
CREATED:20250502T185010Z
LAST-MODIFIED:20250502T185013Z
UID:45719-1763292600-1763296200@www.frsuu.org
SUMMARY:Parish Board-Congregational Meeting
DESCRIPTION:Sunday\, November 16\, LMH Main Room\, 11:30am-12:30pm
URL:https://www.frsuu.org/event/parish-board-congregational-meeting-3/
LOCATION:LMH Main Room\, 26 Pleasant St\, Newburyport\, MA\, 01950\, United States
END:VEVENT
BEGIN:VEVENT
DTSTART;TZID=America/New_York:20251116T130000
DTEND;TZID=America/New_York:20251116T150000
DTSTAMP:20260423T012204
CREATED:20250324T190500Z
LAST-MODIFIED:20250520T212617Z
UID:45314-1763298000-1763305200@www.frsuu.org
SUMMARY:Candlelight Chorale Rehearsal
DESCRIPTION:Sunday afternoons\, October 29 to December 14\, LMH Main Room\, 1-3pm
URL:https://www.frsuu.org/event/candlelight-chorale-rehearsals/2025-11-16/
LOCATION:LMH Main Room\, 26 Pleasant St\, Newburyport\, MA\, 01950\, United States
CATEGORIES:Music
END:VEVENT
END:VCALENDAR