BEGIN:VCALENDAR
VERSION:2.0
PRODID:-//First Religious Society of Newburyport - ECPv6.15.20//NONSGML v1.0//EN
CALSCALE:GREGORIAN
METHOD:PUBLISH
X-WR-CALNAME:First Religious Society of Newburyport
X-ORIGINAL-URL:https://www.frsuu.org
X-WR-CALDESC:Events for First Religious Society of Newburyport
REFRESH-INTERVAL;VALUE=DURATION:PT1H
X-Robots-Tag:noindex
X-PUBLISHED-TTL:PT1H
BEGIN:VTIMEZONE
TZID:America/New_York
BEGIN:DAYLIGHT
TZOFFSETFROM:-0500
TZOFFSETTO:-0400
TZNAME:EDT
DTSTART:20240310T070000
END:DAYLIGHT
BEGIN:STANDARD
TZOFFSETFROM:-0400
TZOFFSETTO:-0500
TZNAME:EST
DTSTART:20241103T060000
END:STANDARD
BEGIN:DAYLIGHT
TZOFFSETFROM:-0500
TZOFFSETTO:-0400
TZNAME:EDT
DTSTART:20250309T070000
END:DAYLIGHT
BEGIN:STANDARD
TZOFFSETFROM:-0400
TZOFFSETTO:-0500
TZNAME:EST
DTSTART:20251102T060000
END:STANDARD
BEGIN:DAYLIGHT
TZOFFSETFROM:-0500
TZOFFSETTO:-0400
TZNAME:EDT
DTSTART:20260308T070000
END:DAYLIGHT
BEGIN:STANDARD
TZOFFSETFROM:-0400
TZOFFSETTO:-0500
TZNAME:EST
DTSTART:20261101T060000
END:STANDARD
END:VTIMEZONE
BEGIN:VEVENT
DTSTART;TZID=America/New_York:20251123T094500
DTEND;TZID=America/New_York:20251123T101500
DTSTAMP:20260419T155910
CREATED:20251111T190446Z
LAST-MODIFIED:20251112T202930Z
UID:49295-1763891100-1763892900@www.frsuu.org
SUMMARY:Young Church Singers
DESCRIPTION:Sundays\, November 16 and 23\, LMH Room A\, 9:45-10:15am. \nSunday\, December 7\, LMH Nursery/Conf Room\, 9:45-10:15am.
URL:https://www.frsuu.org/event/young-church-singers-2/2025-11-23/
LOCATION:LMH Room A\, 26 Pleasant St\, Newburyport\, MA\, 01950\, United States
ORGANIZER;CN="Mara Flynn":MAILTO:mara.flynn@frsuu.org
END:VEVENT
BEGIN:VEVENT
DTSTART;TZID=America/New_York:20251123T103000
DTEND;TZID=America/New_York:20251123T113000
DTSTAMP:20260419T155910
CREATED:20250520T205919Z
LAST-MODIFIED:20260407T154157Z
UID:46145-1763893800-1763897400@www.frsuu.org
SUMMARY:Sunday Worship Service
DESCRIPTION:Sundays\, Sanctuary\, 10:30-11:30am with livestream on YouTube. \nJoin us for worship from the Sunday after Labor Day through late spring. Experience elements of the world religions\, including our Christian roots and humanism. Find inspiration in choral and instrumental music (including organ)\, congregational singing\, a time for children\, readings\, an offering\, and meditative silence. Hear a sermon on social justice\, spirituality\, dealing with life’s challenges\, or other issues. We may celebrate a holiday\, act out a skit\, or hold a coming-of-age ceremony. Services are usually followed by a 30-minute fellowship gathering or a monthly Justice Sunday program.
URL:https://www.frsuu.org/event/sunday-worship-service-3/2025-11-23/
LOCATION:FRS Sanctuary\, 26 Pleasant St\, Newburyport\, MA\, 01950\, United States
CATEGORIES:Music,Worship
END:VEVENT
BEGIN:VEVENT
DTSTART;TZID=America/New_York:20251123T103000
DTEND;TZID=America/New_York:20251123T113000
DTSTAMP:20260419T155910
CREATED:20250922T163733Z
LAST-MODIFIED:20260403T151613Z
UID:48104-1763893800-1763897400@www.frsuu.org
SUMMARY:Young Church
DESCRIPTION:Sundays\, from September 14\, 2025 until May 17\, 2026\, LMH Main Room and Nursery/Conf Room\, 10:30-11:30am
URL:https://www.frsuu.org/event/young-church-3/2025-11-23/
LOCATION:LMH Main Room\, 26 Pleasant St\, Newburyport\, MA\, 01950\, United States
CATEGORIES:Young Church
ORGANIZER;CN="Mara Flynn":MAILTO:mara.flynn@frsuu.org
END:VEVENT
END:VCALENDAR