BEGIN:VCALENDAR
VERSION:2.0
PRODID:-//First Religious Society of Newburyport - ECPv6.15.20//NONSGML v1.0//EN
CALSCALE:GREGORIAN
METHOD:PUBLISH
X-ORIGINAL-URL:https://www.frsuu.org
X-WR-CALDESC:Events for First Religious Society of Newburyport
REFRESH-INTERVAL;VALUE=DURATION:PT1H
X-Robots-Tag:noindex
X-PUBLISHED-TTL:PT1H
BEGIN:VTIMEZONE
TZID:America/New_York
BEGIN:DAYLIGHT
TZOFFSETFROM:-0500
TZOFFSETTO:-0400
TZNAME:EDT
DTSTART:20240310T070000
END:DAYLIGHT
BEGIN:STANDARD
TZOFFSETFROM:-0400
TZOFFSETTO:-0500
TZNAME:EST
DTSTART:20241103T060000
END:STANDARD
BEGIN:DAYLIGHT
TZOFFSETFROM:-0500
TZOFFSETTO:-0400
TZNAME:EDT
DTSTART:20250309T070000
END:DAYLIGHT
BEGIN:STANDARD
TZOFFSETFROM:-0400
TZOFFSETTO:-0500
TZNAME:EST
DTSTART:20251102T060000
END:STANDARD
BEGIN:DAYLIGHT
TZOFFSETFROM:-0500
TZOFFSETTO:-0400
TZNAME:EDT
DTSTART:20260308T070000
END:DAYLIGHT
BEGIN:STANDARD
TZOFFSETFROM:-0400
TZOFFSETTO:-0500
TZNAME:EST
DTSTART:20261101T060000
END:STANDARD
END:VTIMEZONE
BEGIN:VEVENT
DTSTART;TZID=America/New_York:20251130T103000
DTEND;TZID=America/New_York:20251130T113000
DTSTAMP:20260423T012257
CREATED:20250520T212428Z
LAST-MODIFIED:20250520T212428Z
UID:46205-1764498600-1764502200@www.frsuu.org
SUMMARY:Thanksgiving Worship Service
DESCRIPTION:Sunday\, November 30\, Sanctuary\, 10:30-11:30am with livestream on YouTube. \nJoin Rev. Rebecca for this special Thanksgiving service. She will read a sermon by Rev. Thomas Wentworth Higginson\, FRSUU minister\, 1847-1849\, about abolishing slavery.
URL:https://www.frsuu.org/event/thanksgiving-worship-service/
LOCATION:FRS Sanctuary\, 26 Pleasant St\, Newburyport\, MA\, 01950\, United States
CATEGORIES:Worship
END:VEVENT
BEGIN:VEVENT
DTSTART;TZID=America/New_York:20251130T113000
DTEND;TZID=America/New_York:20251130T123000
DTSTAMP:20260423T012257
CREATED:20251126T204125Z
LAST-MODIFIED:20251126T204127Z
UID:49491-1764502200-1764505800@www.frsuu.org
SUMMARY:Postcards at Coffee Hour
DESCRIPTION:Sundays\, November 30 & December 7\, Parish Hall\, 11:30am-12:30pm \nJoin us for coffee and send a postcard to Governor Healy urging her to use executive action to affirm that Massachusetts will follow its constitution and provide support and protection to all residents of our state in the face of actions by the federal government. Refer to last Wednesday՚s Steeple newsletter for more information.
URL:https://www.frsuu.org/event/postcards-at-coffee-hour/2025-11-30/
LOCATION:Parish Hall 1st Floor
END:VEVENT
BEGIN:VEVENT
DTSTART;TZID=America/New_York:20251130T130000
DTEND;TZID=America/New_York:20251130T150000
DTSTAMP:20260423T012257
CREATED:20250324T190500Z
LAST-MODIFIED:20250520T212618Z
UID:45315-1764507600-1764514800@www.frsuu.org
SUMMARY:Candlelight Chorale Rehearsal
DESCRIPTION:Sunday afternoons\, October 29 to December 14\, LMH Main Room\, 1-3pm
URL:https://www.frsuu.org/event/candlelight-chorale-rehearsals/2025-11-30/
LOCATION:LMH Main Room\, 26 Pleasant St\, Newburyport\, MA\, 01950\, United States
CATEGORIES:Music
END:VEVENT
END:VCALENDAR