BEGIN:VCALENDAR
VERSION:2.0
PRODID:-//First Religious Society of Newburyport - ECPv6.15.20//NONSGML v1.0//EN
CALSCALE:GREGORIAN
METHOD:PUBLISH
X-WR-CALNAME:First Religious Society of Newburyport
X-ORIGINAL-URL:https://www.frsuu.org
X-WR-CALDESC:Events for First Religious Society of Newburyport
REFRESH-INTERVAL;VALUE=DURATION:PT1H
X-Robots-Tag:noindex
X-PUBLISHED-TTL:PT1H
BEGIN:VTIMEZONE
TZID:America/New_York
BEGIN:DAYLIGHT
TZOFFSETFROM:-0500
TZOFFSETTO:-0400
TZNAME:EDT
DTSTART:20240310T070000
END:DAYLIGHT
BEGIN:STANDARD
TZOFFSETFROM:-0400
TZOFFSETTO:-0500
TZNAME:EST
DTSTART:20241103T060000
END:STANDARD
BEGIN:DAYLIGHT
TZOFFSETFROM:-0500
TZOFFSETTO:-0400
TZNAME:EDT
DTSTART:20250309T070000
END:DAYLIGHT
BEGIN:STANDARD
TZOFFSETFROM:-0400
TZOFFSETTO:-0500
TZNAME:EST
DTSTART:20251102T060000
END:STANDARD
BEGIN:DAYLIGHT
TZOFFSETFROM:-0500
TZOFFSETTO:-0400
TZNAME:EDT
DTSTART:20260308T070000
END:DAYLIGHT
BEGIN:STANDARD
TZOFFSETFROM:-0400
TZOFFSETTO:-0500
TZNAME:EST
DTSTART:20261101T060000
END:STANDARD
END:VTIMEZONE
BEGIN:VEVENT
DTSTART;VALUE=DATE:20251201
DTEND;VALUE=DATE:20251202
DTSTAMP:20260423T190336
CREATED:20251006T212904Z
LAST-MODIFIED:20260318T150150Z
UID:48659-1764547200-1764633599@www.frsuu.org
SUMMARY:Guided by Love: The Podcast
DESCRIPTION:NEW EPISODE DROPS TODAY
URL:https://www.frsuu.org/event/guided-by-love-the-podcast/2025-12-01/
LOCATION:MA
ATTACH;FMTTYPE=image/jpeg:https://www.frsuu.org/wp-content/uploads/2025/10/Logo-For-Real.jpg
END:VEVENT
BEGIN:VEVENT
DTSTART;TZID=America/New_York:20251201T110000
DTEND;TZID=America/New_York:20251201T130000
DTSTAMP:20260423T190336
CREATED:20250908T173715Z
LAST-MODIFIED:20260416T180212Z
UID:47647-1764586800-1764594000@www.frsuu.org
SUMMARY:Maker Monday w/ Rev. Laurel
DESCRIPTION:First and third Mondays\, LMH Nursery/Conference Room\, 11am-1pm. Join Rev. Laurel for our Maker Monday offering during lunch hour on the first and third Monday of each month. Bring a creative project\, or start a new one\, and connect with other makers in our FRS community. All are welcome. Craft supplies available.
URL:https://www.frsuu.org/event/maker-monday-w-rev-laurel-2/2025-12-01/
LOCATION:LMH Nursery/Conf Room
END:VEVENT
BEGIN:VEVENT
DTSTART;TZID=America/New_York:20251201T140000
DTEND;TZID=America/New_York:20251201T160000
DTSTAMP:20260423T190336
CREATED:20251003T191755Z
LAST-MODIFIED:20251016T144416Z
UID:48607-1764597600-1764604800@www.frsuu.org
SUMMARY:Chalice Circle
DESCRIPTION:Mondays\, October 27 – January 19\, LMH Room A\, 2-4pm. Led by Ted Stedman. In person only. No meeting on 11/24\, 12/22\, and 12/29.
URL:https://www.frsuu.org/event/chalice-circle/2025-12-01/
LOCATION:LMH Room A\, 26 Pleasant St\, Newburyport\, MA\, 01950\, United States
CATEGORIES:Spiritual Development
END:VEVENT
BEGIN:VEVENT
DTSTART;TZID=America/New_York:20251201T180000
DTEND;TZID=America/New_York:20251201T200000
DTSTAMP:20260423T190336
CREATED:20251016T145241Z
LAST-MODIFIED:20251016T145241Z
UID:49041-1764612000-1764619200@www.frsuu.org
SUMMARY:Chalice Circle
DESCRIPTION:Mondays\, October 27 – January 19\, LMH Nursery/Conf Room\, 6-8pm. Led by Jim Lacey. In person only. No meeting on 11/24\, 12/22\, and 12/29.
URL:https://www.frsuu.org/event/chalice-circle-3/2025-12-01/
LOCATION:LMH Nursery/Conf Room
CATEGORIES:Spiritual Development
END:VEVENT
BEGIN:VEVENT
DTSTART;TZID=America/New_York:20251201T183000
DTEND;TZID=America/New_York:20251201T193000
DTSTAMP:20260423T190336
CREATED:20240605T195817Z
LAST-MODIFIED:20240605T195817Z
UID:45751-1764613800-1764617400@www.frsuu.org
SUMMARY:Monday Evening Meditation (In Person)
DESCRIPTION:Monday Night Meditation at 6:30pm in Lower Meeting House (enter via Unicorn Street entrance). These weekly sessions are led by Joyce Haydock\, Senior Dharma Teacher with the International Kwan Um School of Zen. She has been with the school since 1989. This FRSUU Monday group was established over ten years ago. Our sessions consist of two or three chants\, two readings/teachings and 30 minutes of sitting meditation. Beginners are welcome. \nContact Joyce at 978-363-5457 or email joycehaydock@outlook.com to be added to our list and receive access information. \n  \n 
URL:https://www.frsuu.org/event/monday-evening-meditation-in-person/2025-12-01/
LOCATION:Lower Meetinghouse\, 26 Pleasant St\, Newburyport\, MA\, 01950\, United States
ORGANIZER;CN="Joyce Haydock":MAILTO:joycehaydock@outlook.com
END:VEVENT
BEGIN:VEVENT
DTSTART;TZID=America/New_York:20251201T184500
DTEND;TZID=America/New_York:20251201T200000
DTSTAMP:20260423T190336
CREATED:20240614T153123Z
LAST-MODIFIED:20240614T153546Z
UID:38734-1764614700-1764619200@www.frsuu.org
SUMMARY:Adult Children of Alcoholics
DESCRIPTION:Meets in the Hayward Room
URL:https://www.frsuu.org/event/adult-children-of-alcoholics-3/2025-12-01/
LOCATION:Hayward Room\, 26 Pleasant St\, Newburyport\, MA\, 01950\, United States
CATEGORIES:Recovery
END:VEVENT
END:VCALENDAR