BEGIN:VCALENDAR
VERSION:2.0
PRODID:-//First Religious Society of Newburyport - ECPv6.15.20//NONSGML v1.0//EN
CALSCALE:GREGORIAN
METHOD:PUBLISH
X-WR-CALNAME:First Religious Society of Newburyport
X-ORIGINAL-URL:https://www.frsuu.org
X-WR-CALDESC:Events for First Religious Society of Newburyport
REFRESH-INTERVAL;VALUE=DURATION:PT1H
X-Robots-Tag:noindex
X-PUBLISHED-TTL:PT1H
BEGIN:VTIMEZONE
TZID:America/New_York
BEGIN:DAYLIGHT
TZOFFSETFROM:-0500
TZOFFSETTO:-0400
TZNAME:EDT
DTSTART:20240310T070000
END:DAYLIGHT
BEGIN:STANDARD
TZOFFSETFROM:-0400
TZOFFSETTO:-0500
TZNAME:EST
DTSTART:20241103T060000
END:STANDARD
BEGIN:DAYLIGHT
TZOFFSETFROM:-0500
TZOFFSETTO:-0400
TZNAME:EDT
DTSTART:20250309T070000
END:DAYLIGHT
BEGIN:STANDARD
TZOFFSETFROM:-0400
TZOFFSETTO:-0500
TZNAME:EST
DTSTART:20251102T060000
END:STANDARD
BEGIN:DAYLIGHT
TZOFFSETFROM:-0500
TZOFFSETTO:-0400
TZNAME:EDT
DTSTART:20260308T070000
END:DAYLIGHT
BEGIN:STANDARD
TZOFFSETFROM:-0400
TZOFFSETTO:-0500
TZNAME:EST
DTSTART:20261101T060000
END:STANDARD
END:VTIMEZONE
BEGIN:VEVENT
DTSTART;TZID=America/New_York:20250601T120000
DTEND;TZID=America/New_York:20250601T130000
DTSTAMP:20260419T141924
CREATED:20240820T143249Z
LAST-MODIFIED:20250528T165958Z
UID:39845-1748779200-1748782800@www.frsuu.org
SUMMARY:Justice Sunday: Accessible Communication
DESCRIPTION:Sunday\, June 1\, Parish Hall\, 12-1pm. \nIf you ever want to write a newsletter item\, email\, or report\, or simply read church documents\, this is for you! \nHow do we make communication welcoming for people of all ages\, abilities\, identities\, and backgrounds? \nIn this session we will explore our written and graphic communication styles according to the principles of Universal Design. Developed in the 1990s\, Universal Design aims to create products and environments that are simple and useable for everyone. By looking at examples of emails\, newsletters\, posters\, and virtual presentations\, we will boost our own communication skills. Bring a laptop if you have one. \nPizza will be provided. Hosted by the Accessibility & Inclusion Ministry (AIM) and led by Lance Hidy and Lea Pearson.
URL:https://www.frsuu.org/event/accessible-communication/
LOCATION:Parish Hall 1st Floor
CATEGORIES:Justice Action MInistry
ORGANIZER;CN="Lea Pearson":MAILTO:leapearson@mac.com
END:VEVENT
BEGIN:VEVENT
DTSTART;TZID=America/New_York:20250619T100000
DTEND;TZID=America/New_York:20250619T110000
DTSTAMP:20260419T141924
CREATED:20250528T194313Z
LAST-MODIFIED:20250528T194313Z
UID:46660-1750327200-1750330800@www.frsuu.org
SUMMARY:Juneteenth Flag Raising
DESCRIPTION:Thursday\, June 19\, Newburyport City Hall\, 10am. Celebration and flag raising in front of City Hall.
URL:https://www.frsuu.org/event/juneteenth-flag-raising/
LOCATION:Newburyport City Hall\, 60 Pleasant St\, Newburyport\, MA\, United States
CATEGORIES:Justice Action MInistry
END:VEVENT
END:VCALENDAR