BEGIN:VCALENDAR
VERSION:2.0
PRODID:-//First Religious Society of Newburyport - ECPv6.15.20//NONSGML v1.0//EN
CALSCALE:GREGORIAN
METHOD:PUBLISH
X-WR-CALNAME:First Religious Society of Newburyport
X-ORIGINAL-URL:https://www.frsuu.org
X-WR-CALDESC:Events for First Religious Society of Newburyport
REFRESH-INTERVAL;VALUE=DURATION:PT1H
X-Robots-Tag:noindex
X-PUBLISHED-TTL:PT1H
BEGIN:VTIMEZONE
TZID:America/New_York
BEGIN:DAYLIGHT
TZOFFSETFROM:-0500
TZOFFSETTO:-0400
TZNAME:EDT
DTSTART:20240310T070000
END:DAYLIGHT
BEGIN:STANDARD
TZOFFSETFROM:-0400
TZOFFSETTO:-0500
TZNAME:EST
DTSTART:20241103T060000
END:STANDARD
BEGIN:DAYLIGHT
TZOFFSETFROM:-0500
TZOFFSETTO:-0400
TZNAME:EDT
DTSTART:20250309T070000
END:DAYLIGHT
BEGIN:STANDARD
TZOFFSETFROM:-0400
TZOFFSETTO:-0500
TZNAME:EST
DTSTART:20251102T060000
END:STANDARD
BEGIN:DAYLIGHT
TZOFFSETFROM:-0500
TZOFFSETTO:-0400
TZNAME:EDT
DTSTART:20260308T070000
END:DAYLIGHT
BEGIN:STANDARD
TZOFFSETFROM:-0400
TZOFFSETTO:-0500
TZNAME:EST
DTSTART:20261101T060000
END:STANDARD
END:VTIMEZONE
BEGIN:VEVENT
DTSTART;TZID=America/New_York:20250921T120000
DTEND;TZID=America/New_York:20250921T130000
DTSTAMP:20260420T022826
CREATED:20250528T174914Z
LAST-MODIFIED:20250918T171140Z
UID:46299-1758456000-1758459600@www.frsuu.org
SUMMARY:Program & Activities Fair
DESCRIPTION:Sunday\, September 21\, Lawn in Front of Parish Hall\, 12pm. \nJoin us after worship to learn more about the many ways that members and friends can engage\, connect\, and take action here at FRSUU!
URL:https://www.frsuu.org/event/program-activities-fair/
LOCATION:Lawn in Front of Parish Hall
CATEGORIES:Justice Action MInistry
END:VEVENT
END:VCALENDAR