BEGIN:VCALENDAR
VERSION:2.0
PRODID:-//First Religious Society of Newburyport - ECPv6.15.20//NONSGML v1.0//EN
CALSCALE:GREGORIAN
METHOD:PUBLISH
X-ORIGINAL-URL:https://www.frsuu.org
X-WR-CALDESC:Events for First Religious Society of Newburyport
REFRESH-INTERVAL;VALUE=DURATION:PT1H
X-Robots-Tag:noindex
X-PUBLISHED-TTL:PT1H
BEGIN:VTIMEZONE
TZID:America/New_York
BEGIN:DAYLIGHT
TZOFFSETFROM:-0500
TZOFFSETTO:-0400
TZNAME:EDT
DTSTART:20250309T070000
END:DAYLIGHT
BEGIN:STANDARD
TZOFFSETFROM:-0400
TZOFFSETTO:-0500
TZNAME:EST
DTSTART:20251102T060000
END:STANDARD
BEGIN:DAYLIGHT
TZOFFSETFROM:-0500
TZOFFSETTO:-0400
TZNAME:EDT
DTSTART:20260308T070000
END:DAYLIGHT
BEGIN:STANDARD
TZOFFSETFROM:-0400
TZOFFSETTO:-0500
TZNAME:EST
DTSTART:20261101T060000
END:STANDARD
BEGIN:DAYLIGHT
TZOFFSETFROM:-0500
TZOFFSETTO:-0400
TZNAME:EDT
DTSTART:20270314T070000
END:DAYLIGHT
BEGIN:STANDARD
TZOFFSETFROM:-0400
TZOFFSETTO:-0500
TZNAME:EST
DTSTART:20271107T060000
END:STANDARD
END:VTIMEZONE
BEGIN:VEVENT
DTSTART;TZID=America/New_York:20260301T103000
DTEND;TZID=America/New_York:20260301T113000
DTSTAMP:20260421T102336
CREATED:20250520T205919Z
LAST-MODIFIED:20260407T154214Z
UID:46159-1772361000-1772364600@www.frsuu.org
SUMMARY:Sunday Worship Service
DESCRIPTION:Sundays\, Sanctuary\, 10:30-11:30am with livestream on YouTube. \nJoin us for worship from the Sunday after Labor Day through late spring. Experience elements of the world religions\, including our Christian roots and humanism. Find inspiration in choral and instrumental music (including organ)\, congregational singing\, a time for children\, readings\, an offering\, and meditative silence. Hear a sermon on social justice\, spirituality\, dealing with life’s challenges\, or other issues. We may celebrate a holiday\, act out a skit\, or hold a coming-of-age ceremony. Services are usually followed by a 30-minute fellowship gathering or a monthly Justice Sunday program.
URL:https://www.frsuu.org/event/sunday-worship-service-3/2026-03-01/
LOCATION:FRS Sanctuary\, 26 Pleasant St\, Newburyport\, MA\, 01950\, United States
CATEGORIES:Music,Worship
END:VEVENT
BEGIN:VEVENT
DTSTART;TZID=America/New_York:20260301T160000
DTEND;TZID=America/New_York:20260301T170000
DTSTAMP:20260421T102336
CREATED:20250829T143551Z
LAST-MODIFIED:20260107T194156Z
UID:47314-1772380800-1772384400@www.frsuu.org
SUMMARY:2026 Wilson Series Concert: Kevin Neel\, Organ
DESCRIPTION:Sunday\, March 1\, Sanctuary\, 4pm. Streamed on YouTube. (Sanctuary and LMH Room A reserved from 2:30-6pm). \nKevin Neel\, organ: A versatile performer who also collaborates as a pianist\, conductor\, and singer\, Kevin Neel holds a Master of Sacred Music degree from Boston University and a Bachelor of Music degree from Indiana University in Organ Performance. As an organist Kevin has performed in many venues including Symphony Hall in Boston; the Cathedral of St. Philip in Atlanta\, GA; Methuen Memorial Music Hall; and Church of the Advent and Trinity Church in Boston. A sought-after organ teacher\, Kevin currently directs the All Saints Choir in Worcester\, MA. \nPurchase advance tickets to all concerts here: https://bit.ly/2026WilsonSeriesTickets
URL:https://www.frsuu.org/event/kevin-neel-organ/
LOCATION:FRS Sanctuary\, 26 Pleasant St\, Newburyport\, MA\, 01950\, United States
CATEGORIES:Music
END:VEVENT
BEGIN:VEVENT
DTSTART;TZID=America/New_York:20260308T103000
DTEND;TZID=America/New_York:20260308T113000
DTSTAMP:20260421T102336
CREATED:20250528T192047Z
LAST-MODIFIED:20250528T192048Z
UID:46642-1772965800-1772969400@www.frsuu.org
SUMMARY:Sunday Worship Service: Giving Sunday
DESCRIPTION:Sunday\, March 8\, Sanctuary\, 10:30-11:30am with livestream on YouTube. Today we kick off our annual giving campaign for the 2026-2027 church year.
URL:https://www.frsuu.org/event/sunday-worship-service-giving-sunday/
LOCATION:FRS Sanctuary\, 26 Pleasant St\, Newburyport\, MA\, 01950\, United States
CATEGORIES:Music,Worship
END:VEVENT
BEGIN:VEVENT
DTSTART;TZID=America/New_York:20260315T103000
DTEND;TZID=America/New_York:20260315T113000
DTSTAMP:20260421T102336
CREATED:20250520T214852Z
LAST-MODIFIED:20250520T214853Z
UID:46224-1773570600-1773574200@www.frsuu.org
SUMMARY:New Member Sunday
DESCRIPTION:Sunday\, March 15\, Sanctuary\, 10:30-11:30am with livestream on YouTube. \nJoin us for this special worship service where we recognize new church members.
URL:https://www.frsuu.org/event/new-member-sunday-2/
LOCATION:FRS Sanctuary\, 26 Pleasant St\, Newburyport\, MA\, 01950\, United States
CATEGORIES:Music,Worship
END:VEVENT
BEGIN:VEVENT
DTSTART;TZID=America/New_York:20260317T190000
DTEND;TZID=America/New_York:20260317T200000
DTSTAMP:20260421T102336
CREATED:20250528T144109Z
LAST-MODIFIED:20260407T162721Z
UID:46292-1773774000-1773777600@www.frsuu.org
SUMMARY:Poetry & Music Service
DESCRIPTION:Third Tuesdays beginning September 16\, Sanctuary\, 7-8pm. Led by Rev. Rebecca and Nick Place.
URL:https://www.frsuu.org/event/poetry-music-service/2026-03-17/
LOCATION:FRS Sanctuary\, 26 Pleasant St\, Newburyport\, MA\, 01950\, United States
CATEGORIES:Music,Worship
END:VEVENT
BEGIN:VEVENT
DTSTART;TZID=America/New_York:20260322T103000
DTEND;TZID=America/New_York:20260322T113000
DTSTAMP:20260421T102336
CREATED:20250520T205919Z
LAST-MODIFIED:20260407T154215Z
UID:46162-1774175400-1774179000@www.frsuu.org
SUMMARY:Sunday Worship Service
DESCRIPTION:Sundays\, Sanctuary\, 10:30-11:30am with livestream on YouTube. \nJoin us for worship from the Sunday after Labor Day through late spring. Experience elements of the world religions\, including our Christian roots and humanism. Find inspiration in choral and instrumental music (including organ)\, congregational singing\, a time for children\, readings\, an offering\, and meditative silence. Hear a sermon on social justice\, spirituality\, dealing with life’s challenges\, or other issues. We may celebrate a holiday\, act out a skit\, or hold a coming-of-age ceremony. Services are usually followed by a 30-minute fellowship gathering or a monthly Justice Sunday program.
URL:https://www.frsuu.org/event/sunday-worship-service-3/2026-03-22/
LOCATION:FRS Sanctuary\, 26 Pleasant St\, Newburyport\, MA\, 01950\, United States
CATEGORIES:Music,Worship
END:VEVENT
BEGIN:VEVENT
DTSTART;TZID=America/New_York:20260329T160000
DTEND;TZID=America/New_York:20260329T170000
DTSTAMP:20260421T102336
CREATED:20250926T182406Z
LAST-MODIFIED:20260107T214439Z
UID:48525-1774800000-1774803600@www.frsuu.org
SUMMARY:2026 Wilson Series Concert: Portsmouth Brass Quintet
DESCRIPTION:Sunday\, March 29\, Sanctuary\, 4pm. Streamed on YouTube. (Sanctuary and LMH Room A reserved from 2:30-6pm). \nPortsmouth Brass Quintet: This chamber group is comprised of brass players from the Portsmouth Symphony Orchestra. Members include Adam Gallant\, trumpet; Greg Bechtold\, trumpet; Orlando Pandolfi\, horn; Brandon Newbould\, trombone; and Jim Griswold\, bass trombone. The quintet offers an entertaining and toe-tapping afternoon of musical theater and jazz transcriptions for brass. \nPurchase advance tickets to all concerts here: https://bit.ly/2026WilsonSeriesTickets
URL:https://www.frsuu.org/event/portsmouth-brass-quintet/
LOCATION:FRS Sanctuary\, 26 Pleasant St\, Newburyport\, MA\, 01950\, United States
CATEGORIES:Music
END:VEVENT
END:VCALENDAR