BEGIN:VCALENDAR
VERSION:2.0
PRODID:-//First Religious Society of Newburyport - ECPv6.15.20//NONSGML v1.0//EN
CALSCALE:GREGORIAN
METHOD:PUBLISH
X-ORIGINAL-URL:https://www.frsuu.org
X-WR-CALDESC:Events for First Religious Society of Newburyport
REFRESH-INTERVAL;VALUE=DURATION:PT1H
X-Robots-Tag:noindex
X-PUBLISHED-TTL:PT1H
BEGIN:VTIMEZONE
TZID:America/New_York
BEGIN:DAYLIGHT
TZOFFSETFROM:-0500
TZOFFSETTO:-0400
TZNAME:EDT
DTSTART:20250309T070000
END:DAYLIGHT
BEGIN:STANDARD
TZOFFSETFROM:-0400
TZOFFSETTO:-0500
TZNAME:EST
DTSTART:20251102T060000
END:STANDARD
BEGIN:DAYLIGHT
TZOFFSETFROM:-0500
TZOFFSETTO:-0400
TZNAME:EDT
DTSTART:20260308T070000
END:DAYLIGHT
BEGIN:STANDARD
TZOFFSETFROM:-0400
TZOFFSETTO:-0500
TZNAME:EST
DTSTART:20261101T060000
END:STANDARD
BEGIN:DAYLIGHT
TZOFFSETFROM:-0500
TZOFFSETTO:-0400
TZNAME:EDT
DTSTART:20270314T070000
END:DAYLIGHT
BEGIN:STANDARD
TZOFFSETFROM:-0400
TZOFFSETTO:-0500
TZNAME:EST
DTSTART:20271107T060000
END:STANDARD
END:VTIMEZONE
BEGIN:VEVENT
DTSTART;TZID=America/New_York:20260301T103000
DTEND;TZID=America/New_York:20260301T113000
DTSTAMP:20260421T115605
CREATED:20250520T205919Z
LAST-MODIFIED:20260407T154214Z
UID:46159-1772361000-1772364600@www.frsuu.org
SUMMARY:Sunday Worship Service
DESCRIPTION:Sundays\, Sanctuary\, 10:30-11:30am with livestream on YouTube. \nJoin us for worship from the Sunday after Labor Day through late spring. Experience elements of the world religions\, including our Christian roots and humanism. Find inspiration in choral and instrumental music (including organ)\, congregational singing\, a time for children\, readings\, an offering\, and meditative silence. Hear a sermon on social justice\, spirituality\, dealing with life’s challenges\, or other issues. We may celebrate a holiday\, act out a skit\, or hold a coming-of-age ceremony. Services are usually followed by a 30-minute fellowship gathering or a monthly Justice Sunday program.
URL:https://www.frsuu.org/event/sunday-worship-service-3/2026-03-01/
LOCATION:FRS Sanctuary\, 26 Pleasant St\, Newburyport\, MA\, 01950\, United States
CATEGORIES:Music,Worship
END:VEVENT
BEGIN:VEVENT
DTSTART;TZID=America/New_York:20260301T160000
DTEND;TZID=America/New_York:20260301T170000
DTSTAMP:20260421T115605
CREATED:20250829T143551Z
LAST-MODIFIED:20260107T194156Z
UID:47314-1772380800-1772384400@www.frsuu.org
SUMMARY:2026 Wilson Series Concert: Kevin Neel\, Organ
DESCRIPTION:Sunday\, March 1\, Sanctuary\, 4pm. Streamed on YouTube. (Sanctuary and LMH Room A reserved from 2:30-6pm). \nKevin Neel\, organ: A versatile performer who also collaborates as a pianist\, conductor\, and singer\, Kevin Neel holds a Master of Sacred Music degree from Boston University and a Bachelor of Music degree from Indiana University in Organ Performance. As an organist Kevin has performed in many venues including Symphony Hall in Boston; the Cathedral of St. Philip in Atlanta\, GA; Methuen Memorial Music Hall; and Church of the Advent and Trinity Church in Boston. A sought-after organ teacher\, Kevin currently directs the All Saints Choir in Worcester\, MA. \nPurchase advance tickets to all concerts here: https://bit.ly/2026WilsonSeriesTickets
URL:https://www.frsuu.org/event/kevin-neel-organ/
LOCATION:FRS Sanctuary\, 26 Pleasant St\, Newburyport\, MA\, 01950\, United States
CATEGORIES:Music
END:VEVENT
END:VCALENDAR