BEGIN:VCALENDAR
VERSION:2.0
PRODID:-//First Religious Society of Newburyport - ECPv6.15.20//NONSGML v1.0//EN
CALSCALE:GREGORIAN
METHOD:PUBLISH
X-ORIGINAL-URL:https://www.frsuu.org
X-WR-CALDESC:Events for First Religious Society of Newburyport
REFRESH-INTERVAL;VALUE=DURATION:PT1H
X-Robots-Tag:noindex
X-PUBLISHED-TTL:PT1H
BEGIN:VTIMEZONE
TZID:America/New_York
BEGIN:DAYLIGHT
TZOFFSETFROM:-0500
TZOFFSETTO:-0400
TZNAME:EDT
DTSTART:20250309T070000
END:DAYLIGHT
BEGIN:STANDARD
TZOFFSETFROM:-0400
TZOFFSETTO:-0500
TZNAME:EST
DTSTART:20251102T060000
END:STANDARD
BEGIN:DAYLIGHT
TZOFFSETFROM:-0500
TZOFFSETTO:-0400
TZNAME:EDT
DTSTART:20260308T070000
END:DAYLIGHT
BEGIN:STANDARD
TZOFFSETFROM:-0400
TZOFFSETTO:-0500
TZNAME:EST
DTSTART:20261101T060000
END:STANDARD
BEGIN:DAYLIGHT
TZOFFSETFROM:-0500
TZOFFSETTO:-0400
TZNAME:EDT
DTSTART:20270314T070000
END:DAYLIGHT
BEGIN:STANDARD
TZOFFSETFROM:-0400
TZOFFSETTO:-0500
TZNAME:EST
DTSTART:20271107T060000
END:STANDARD
END:VTIMEZONE
BEGIN:VEVENT
DTSTART;TZID=America/New_York:20260322T103000
DTEND;TZID=America/New_York:20260322T113000
DTSTAMP:20260420T022221
CREATED:20250520T205919Z
LAST-MODIFIED:20260407T154215Z
UID:46162-1774175400-1774179000@www.frsuu.org
SUMMARY:Sunday Worship Service
DESCRIPTION:Sundays\, Sanctuary\, 10:30-11:30am with livestream on YouTube. \nJoin us for worship from the Sunday after Labor Day through late spring. Experience elements of the world religions\, including our Christian roots and humanism. Find inspiration in choral and instrumental music (including organ)\, congregational singing\, a time for children\, readings\, an offering\, and meditative silence. Hear a sermon on social justice\, spirituality\, dealing with life’s challenges\, or other issues. We may celebrate a holiday\, act out a skit\, or hold a coming-of-age ceremony. Services are usually followed by a 30-minute fellowship gathering or a monthly Justice Sunday program.
URL:https://www.frsuu.org/event/sunday-worship-service-3/2026-03-22/
LOCATION:FRS Sanctuary\, 26 Pleasant St\, Newburyport\, MA\, 01950\, United States
CATEGORIES:Music,Worship
END:VEVENT
END:VCALENDAR