BEGIN:VCALENDAR
VERSION:2.0
PRODID:-//First Religious Society of Newburyport - ECPv6.15.20//NONSGML v1.0//EN
CALSCALE:GREGORIAN
METHOD:PUBLISH
X-ORIGINAL-URL:https://www.frsuu.org
X-WR-CALDESC:Events for First Religious Society of Newburyport
REFRESH-INTERVAL;VALUE=DURATION:PT1H
X-Robots-Tag:noindex
X-PUBLISHED-TTL:PT1H
BEGIN:VTIMEZONE
TZID:America/New_York
BEGIN:DAYLIGHT
TZOFFSETFROM:-0500
TZOFFSETTO:-0400
TZNAME:EDT
DTSTART:20230312T070000
END:DAYLIGHT
BEGIN:STANDARD
TZOFFSETFROM:-0400
TZOFFSETTO:-0500
TZNAME:EST
DTSTART:20231105T060000
END:STANDARD
BEGIN:DAYLIGHT
TZOFFSETFROM:-0500
TZOFFSETTO:-0400
TZNAME:EDT
DTSTART:20240310T070000
END:DAYLIGHT
BEGIN:STANDARD
TZOFFSETFROM:-0400
TZOFFSETTO:-0500
TZNAME:EST
DTSTART:20241103T060000
END:STANDARD
BEGIN:DAYLIGHT
TZOFFSETFROM:-0500
TZOFFSETTO:-0400
TZNAME:EDT
DTSTART:20250309T070000
END:DAYLIGHT
BEGIN:STANDARD
TZOFFSETFROM:-0400
TZOFFSETTO:-0500
TZNAME:EST
DTSTART:20251102T060000
END:STANDARD
BEGIN:DAYLIGHT
TZOFFSETFROM:-0500
TZOFFSETTO:-0400
TZNAME:EDT
DTSTART:20260308T070000
END:DAYLIGHT
BEGIN:STANDARD
TZOFFSETFROM:-0400
TZOFFSETTO:-0500
TZNAME:EST
DTSTART:20261101T060000
END:STANDARD
END:VTIMEZONE
BEGIN:VEVENT
DTSTART;TZID=America/New_York:20241103T130000
DTEND;TZID=America/New_York:20241103T150000
DTSTAMP:20260419T103607
CREATED:20240930T201722Z
LAST-MODIFIED:20240930T201854Z
UID:41735-1730638800-1730646000@www.frsuu.org
SUMMARY:Candlelight Chorale Rehearsal
DESCRIPTION:Sanctuary
URL:https://www.frsuu.org/event/candlelight-chorale-rehearsal-2/
LOCATION:FRS Sanctuary\, 26 Pleasant St\, Newburyport\, MA\, 01950\, United States
CATEGORIES:Music
END:VEVENT
BEGIN:VEVENT
DTSTART;TZID=America/New_York:20241107T190000
DTEND;TZID=America/New_York:20241107T203000
DTSTAMP:20260419T103607
CREATED:20240830T152934Z
LAST-MODIFIED:20250527T194029Z
UID:40033-1731006000-1731011400@www.frsuu.org
SUMMARY:Adult Choir
DESCRIPTION:Thursdays\, LMH Main Room\, 7-8:30pm
URL:https://www.frsuu.org/event/adult-choir/2024-11-07/
LOCATION:LMH Main Room\, 26 Pleasant St\, Newburyport\, MA\, 01950\, United States
CATEGORIES:Music
END:VEVENT
BEGIN:VEVENT
DTSTART;TZID=America/New_York:20241109T150000
DTEND;TZID=America/New_York:20241109T163000
DTSTAMP:20260419T103607
CREATED:20240927T153247Z
LAST-MODIFIED:20241009T202818Z
UID:41699-1731164400-1731169800@www.frsuu.org
SUMMARY:The Spirituals in Concert
DESCRIPTION:Under the direction of Music Department Chair Michael W. Bradley\, this award-winning group of 30 students at Boston Arts Academy returns to FRS in a concert that explores the evolution of the African American sacred choral music tradition. Proceeds from this concert will fund travel to perform at Carnegie Hall and national competition. \nBuy tickets: https://bit.ly/TheSpiritualsBAA2024-11-09
URL:https://www.frsuu.org/event/reserved-15/
LOCATION:FRS Sanctuary\, 26 Pleasant St\, Newburyport\, MA\, 01950\, United States
CATEGORIES:Music
END:VEVENT
BEGIN:VEVENT
DTSTART;TZID=America/New_York:20241114T190000
DTEND;TZID=America/New_York:20241114T203000
DTSTAMP:20260419T103607
CREATED:20240830T152934Z
LAST-MODIFIED:20250527T194029Z
UID:40035-1731610800-1731616200@www.frsuu.org
SUMMARY:Adult Choir
DESCRIPTION:Thursdays\, LMH Main Room\, 7-8:30pm
URL:https://www.frsuu.org/event/adult-choir/2024-11-14/
LOCATION:LMH Main Room\, 26 Pleasant St\, Newburyport\, MA\, 01950\, United States
CATEGORIES:Music
END:VEVENT
BEGIN:VEVENT
DTSTART;TZID=America/New_York:20241121T190000
DTEND;TZID=America/New_York:20241121T203000
DTSTAMP:20260419T103607
CREATED:20240830T152934Z
LAST-MODIFIED:20250527T194030Z
UID:40036-1732215600-1732221000@www.frsuu.org
SUMMARY:Adult Choir
DESCRIPTION:Thursdays\, LMH Main Room\, 7-8:30pm
URL:https://www.frsuu.org/event/adult-choir/2024-11-21/
LOCATION:LMH Main Room\, 26 Pleasant St\, Newburyport\, MA\, 01950\, United States
CATEGORIES:Music
END:VEVENT
BEGIN:VEVENT
DTSTART;TZID=America/New_York:20241205T190000
DTEND;TZID=America/New_York:20241205T203000
DTSTAMP:20260419T103607
CREATED:20240830T152934Z
LAST-MODIFIED:20250527T194031Z
UID:40037-1733425200-1733430600@www.frsuu.org
SUMMARY:Adult Choir
DESCRIPTION:Thursdays\, LMH Main Room\, 7-8:30pm
URL:https://www.frsuu.org/event/adult-choir/2024-12-05/
LOCATION:LMH Main Room\, 26 Pleasant St\, Newburyport\, MA\, 01950\, United States
CATEGORIES:Music
END:VEVENT
BEGIN:VEVENT
DTSTART;TZID=America/New_York:20241206T193000
DTEND;TZID=America/New_York:20241206T203000
DTSTAMP:20260419T103607
CREATED:20240906T215659Z
LAST-MODIFIED:20241204T142830Z
UID:40805-1733513400-1733517000@www.frsuu.org
SUMMARY:December Journeys: An Evening of Jazz\, Chamber Music\, & Poetry for the Holidays
DESCRIPTION:Friday\, December 6\, concert at 7:30pm\, Sanctuary. Row Twelve presents a holiday concert featuring Andy Brewster on bass\, Katherine Kleitz on flute\, Marc Lauritsen on piano\, Jeffrey Wu on saxophone\, and poet Karen Henry. Free admission. LMH Room A is also reserved\, 5-9pm.
URL:https://www.frsuu.org/event/reserved-13/
LOCATION:FRS Sanctuary\, 26 Pleasant St\, Newburyport\, MA\, 01950\, United States
CATEGORIES:Music
END:VEVENT
BEGIN:VEVENT
DTSTART;TZID=America/New_York:20241208T160000
DTEND;TZID=America/New_York:20241208T180000
DTSTAMP:20260419T103607
CREATED:20241203T155542Z
LAST-MODIFIED:20241204T213145Z
UID:42987-1733673600-1733680800@www.frsuu.org
SUMMARY:The Music of Cole Porter: Danny Harrington and Rusty Scott
DESCRIPTION:Sunday\, December 8\, Sanctuary\, concert at 4pm. Join baritone saxophonist Danny Harrington and pianist Rusty Scott for a Cole Porter program. Suggested donation: $20. \nDanny Harrington was born in Providence\, Rhode Island and now lives Newburyport\, Massachusetts with his wife (Risa) and daughter (Nina). He is a Professor of Music at Berklee College of Music\, a position he has held since 1978. He is a member of the college’s Harmony Department\, which teaches the theory of American popular music from the early 20th century to the present. Danny has been teaching and performing in the New England area since 1978. Before joining the faculty at Berklee College\, Danny toured with the Tommy Dorsey Orchestra under the direction of Buddy Morrow. Since then he has performed with Nick Brignola\, Gary Burton\, Herb Pomeroy\, Gary Smulyan\, Joe Lovano\, George Garzone as well as leading his own group since 1980. Danny has recorded three CDs as a leader; Risa’s Waltz\, Live at the Firehouse Theatre with Tony Germain and The Danny Harrington Quartet Live at the Kiwi Grille. Danny continues to perform throughout the New England area with his quartet\, duo\, and as a solo clinician. \nBoth as a leader and a sideman\, Rusty Scott has been one of Boston’s premier talents on the keyboard for over 25 years. He plays piano and Hammond B3 organ and tours worldwide with the B3 Kings\, his own Rusty Scott Trio\, and the five-time Grammy nominee Roomful of Blues. Over the years Rusty has performed with many notable jazz and blues artists\, including James Cotton\, Bill Pierce\, Yoron Israel\, John Hammond\, “Sax” Gordon Beadle\, and “Sugar Ray” Norcia. He has performed at countless venues and festivals including Lincoln Center and the main stage of the Montreal Jazz Festival. In 2013 Rusty was named Outstanding Keyboard / Organ Player in the Blues Audience’s reader’s poll. Rusty grew up in Gillette\, NJ\, and is a graduate of Berklee College of Music.
URL:https://www.frsuu.org/event/the-music-of-cole-porter-danny-harrington-in-concert/
LOCATION:FRS Sanctuary\, 26 Pleasant St\, Newburyport\, MA\, 01950\, United States
CATEGORIES:Music
END:VEVENT
BEGIN:VEVENT
DTSTART;TZID=America/New_York:20241211T193000
DTEND;TZID=America/New_York:20241211T203000
DTSTAMP:20260419T103607
CREATED:20241111T175137Z
LAST-MODIFIED:20241202T174716Z
UID:42716-1733945400-1733949000@www.frsuu.org
SUMMARY:Jazz Vespers
DESCRIPTION:Wednesday\, December 11\, Sanctuary\, 7:30pm. FRS welcomes poet Alfred Nicol of West Newbury for readings and Mark Earley (Room full of Blues) on saxophone\, Chris Plante on piano\, and Josh Schultz on bass. \nAlfred Nicol lives in West Newbury and is an award winning poet who worked in the printing industry for 20 years after graduating from Dartmouth College where he received the Academy of American Poets Prize. A long-time member of the Powwow Poets\, he edited the Powwow River Anthology. He was a recipient of the Richard Wilbur Award in 2004 for his first book of poems\, Winter Light.  His poems have appeared in Poetry\, The New England Review\, Dark Horse\, Commonweal\, The Fromalist\, The Hopkins Review\,and the Best American Poetry in 2018.  \nMark Earley is a two time Grammy nominated and W.C. Handy Award winning saxophonist who knows how to channel the spiritual magic of music to make the flow of a party groove in just the right way. In venues from NYC’s Lincoln Center to the San Francisco Blues Festival\, the Moscow International Performing Arts Centre to Le Meridien Etoile’s Jazz Club in Paris\, he has collaborated with scores of world-class musicians. Jay McShann\, Albert Collins\, Louis Bellson\, Joe Williams\, James Cotton\, Billy Boy Arnold\, Otis Clay\, Gerald Levert\, Joey McIntyre\, Bobby Brown\, Taj Mahal\, The Fabulous Thunderbirds\, Victor Wainwright\, and Roomful of Blues are but a handful of world-renowned artists who have recognized his extraordinary talent. Equally at home as a featured performer or setting the mood for an intimate gathering of friends\, Mark will share the notes from his lifelong musical journey. \nChris Plante\, a.k.a Modslee\, is a composer and producer based in Newburyport\, MA. Chris was studying classical piano and became a member of National Piano Guild from ages 5-15 before being taken under the wing of legendary jazz musician and theorist Les Harris Sr. at the age of 13. As lead singer and songwriter\, Chris helped form nationally touring indie rock band The Brew and performed alongside The Black Keys\, Michael McDonald\, Bruce Hornsby\, The Allman Brothers and many more. In 2015 Chris formed his company CP Pro Audio Inc. to pursue film scoring which was his major during his time at Berklee College of Music. Chris’s produced material has accrued over 50 million streams on Spotify and landed on dozens of editorial Spotify playlists. His work with local lyricist /artist Betsy Woodman has seen over 6 albums released and the duo have written for NBC Sports coverage of the 2020 Olympics and Paralympics. \nJoshua Schultz is a bassist and educator living in Groveland MA. After starting his musical journey on the cello\, Joshua found his passion on the upright bass at age 13\, starting his professional career on the instrument by 15. After a recommendation by Chris Plante\, Joshua studied with Les Harris Sr. and expanded his musical horizon.  Under the mentorship of bassist Keala Kaumeheiwa\, Joshua is studying classical & jazz music on the upright bass; with pianist Rusty Scott\, Joshua is learning jazz piano; with guitarist Al Whitney\, Joshua is studying guitar. Combined with Les’ teachings\, Joshua continues to widen his understanding of small ensemble music. \nPlease come and join us at 730 PM In the Sanctuary for jazz and poetry and a chance to unwind midweek with a stellar ensemble. \nVespers is free – bring some friends!
URL:https://www.frsuu.org/event/jazz-vespers/
LOCATION:FRS Sanctuary\, 26 Pleasant St\, Newburyport\, MA\, 01950\, United States
CATEGORIES:Music,Worship
END:VEVENT
BEGIN:VEVENT
DTSTART;TZID=America/New_York:20241212T190000
DTEND;TZID=America/New_York:20241212T203000
DTSTAMP:20260419T103607
CREATED:20240830T152934Z
LAST-MODIFIED:20250527T194031Z
UID:40038-1734030000-1734035400@www.frsuu.org
SUMMARY:Adult Choir
DESCRIPTION:Thursdays\, LMH Main Room\, 7-8:30pm
URL:https://www.frsuu.org/event/adult-choir/2024-12-12/
LOCATION:LMH Main Room\, 26 Pleasant St\, Newburyport\, MA\, 01950\, United States
CATEGORIES:Music
END:VEVENT
BEGIN:VEVENT
DTSTART;TZID=America/New_York:20241219T190000
DTEND;TZID=America/New_York:20241219T203000
DTSTAMP:20260419T103607
CREATED:20240830T152934Z
LAST-MODIFIED:20250527T194033Z
UID:40039-1734634800-1734640200@www.frsuu.org
SUMMARY:Adult Choir
DESCRIPTION:Thursdays\, LMH Main Room\, 7-8:30pm
URL:https://www.frsuu.org/event/adult-choir/2024-12-19/
LOCATION:LMH Main Room\, 26 Pleasant St\, Newburyport\, MA\, 01950\, United States
CATEGORIES:Music
END:VEVENT
BEGIN:VEVENT
DTSTART;TZID=America/New_York:20241220T170000
DTEND;TZID=America/New_York:20241220T203000
DTSTAMP:20260419T103607
CREATED:20241011T123833Z
LAST-MODIFIED:20241220T214710Z
UID:42082-1734714000-1734726600@www.frsuu.org
SUMMARY:CANCELED: Piano Recital
DESCRIPTION:To be rescheduled.
URL:https://www.frsuu.org/event/piana-recital/
LOCATION:FRS Sanctuary\, 26 Pleasant St\, Newburyport\, MA\, 01950\, United States
CATEGORIES:Music,Private Rental
ORGANIZER;CN="Cynthia Walsh":MAILTO:cynthia.walsh@frsuu.org
END:VEVENT
BEGIN:VEVENT
DTSTART;TZID=America/New_York:20241221T123000
DTEND;TZID=America/New_York:20241221T150000
DTSTAMP:20260419T103607
CREATED:20241001T172343Z
LAST-MODIFIED:20241001T172343Z
UID:41777-1734784200-1734793200@www.frsuu.org
SUMMARY:Candlelight Chorale Dress Rehearsal
DESCRIPTION:Sanctuary
URL:https://www.frsuu.org/event/candlelight-chorale-dress-rehearsal/
LOCATION:FRS Sanctuary\, 26 Pleasant St\, Newburyport\, MA\, 01950\, United States
CATEGORIES:Music
END:VEVENT
BEGIN:VEVENT
DTSTART;TZID=America/New_York:20241226T190000
DTEND;TZID=America/New_York:20241226T203000
DTSTAMP:20260419T103607
CREATED:20240830T152934Z
LAST-MODIFIED:20250527T194033Z
UID:40040-1735239600-1735245000@www.frsuu.org
SUMMARY:Adult Choir
DESCRIPTION:Thursdays\, LMH Main Room\, 7-8:30pm
URL:https://www.frsuu.org/event/adult-choir/2024-12-26/
LOCATION:LMH Main Room\, 26 Pleasant St\, Newburyport\, MA\, 01950\, United States
CATEGORIES:Music
END:VEVENT
BEGIN:VEVENT
DTSTART;TZID=America/New_York:20241229T103000
DTEND;TZID=America/New_York:20241229T113000
DTSTAMP:20260419T103607
CREATED:20241202T215915Z
LAST-MODIFIED:20241202T215915Z
UID:42984-1735468200-1735471800@www.frsuu.org
SUMMARY:Gong Meditation and Relaxation Service
DESCRIPTION:Zach Field returns to FRS for the annual Gong Meditation and Relaxation service to help us bring in the new year with peace and calm. The soothing sounds of pitched gongs distract the mind as Zach leads us in meditation. Zach’s percussion studio and music school\, ZFDM\, is located at the Tannery in Newburyport. \n10:30am\, in-person and on YouTube
URL:https://www.frsuu.org/event/gong-meditation-and-relaxation-service/
LOCATION:FRS Sanctuary\, 26 Pleasant St\, Newburyport\, MA\, 01950\, United States
CATEGORIES:Music,Worship
END:VEVENT
BEGIN:VEVENT
DTSTART;TZID=America/New_York:20250102T190000
DTEND;TZID=America/New_York:20250102T203000
DTSTAMP:20260419T103607
CREATED:20240830T152934Z
LAST-MODIFIED:20250527T194035Z
UID:40041-1735844400-1735849800@www.frsuu.org
SUMMARY:Adult Choir
DESCRIPTION:Thursdays\, LMH Main Room\, 7-8:30pm
URL:https://www.frsuu.org/event/adult-choir/2025-01-02/
LOCATION:LMH Main Room\, 26 Pleasant St\, Newburyport\, MA\, 01950\, United States
CATEGORIES:Music
END:VEVENT
BEGIN:VEVENT
DTSTART;TZID=America/New_York:20250109T190000
DTEND;TZID=America/New_York:20250109T203000
DTSTAMP:20260419T103607
CREATED:20240830T152934Z
LAST-MODIFIED:20250527T194037Z
UID:40042-1736449200-1736454600@www.frsuu.org
SUMMARY:Adult Choir
DESCRIPTION:Thursdays\, LMH Main Room\, 7-8:30pm
URL:https://www.frsuu.org/event/adult-choir/2025-01-09/
LOCATION:LMH Main Room\, 26 Pleasant St\, Newburyport\, MA\, 01950\, United States
CATEGORIES:Music
END:VEVENT
BEGIN:VEVENT
DTSTART;TZID=America/New_York:20250111T150000
DTEND;TZID=America/New_York:20250111T160000
DTSTAMP:20260419T103607
CREATED:20240820T140616Z
LAST-MODIFIED:20250107T194936Z
UID:39813-1736607600-1736611200@www.frsuu.org
SUMMARY:Scott Ouellette Guitar Concert
DESCRIPTION:Saturday\, January 11\, Sanctuary\, 3pm. \nScott Ouellette is a self-taught fingerstyle guitarist living on the east coast of the United States. He first began playing the guitar at age 7\, listening mostly to popular rock music from the 1970s. In his early teen years\, he became interested in the sounds of legendary classical guitarists Andrés Segovia\, Christopher Parkening\, and John Williams. By the age of 16\, Scott had already graced the stage of The Palladium in New York\, performed on television\, and was getting work as a professional guitarist. After graduating high school in 1986\, Scott was accepted to Berklee College of Music in Boston\, Massachusetts where he studied guitar performance. In 2003\, Scott began composing instrumental modern pieces for solo guitar and has been giving concerts of his music since. Scott will be performing a mix of original music\, traditional Spanish pieces\, along with music from Brazil and many other parts of the world. \nPurchase tickets HERE.
URL:https://www.frsuu.org/event/scott-ouellette-guitar-concert/
LOCATION:FRS Sanctuary\, 26 Pleasant St\, Newburyport\, MA\, 01950\, United States
CATEGORIES:Music
END:VEVENT
BEGIN:VEVENT
DTSTART;TZID=America/New_York:20250116T190000
DTEND;TZID=America/New_York:20250116T203000
DTSTAMP:20260419T103607
CREATED:20240830T152934Z
LAST-MODIFIED:20250527T194038Z
UID:40043-1737054000-1737059400@www.frsuu.org
SUMMARY:Adult Choir
DESCRIPTION:Thursdays\, LMH Main Room\, 7-8:30pm
URL:https://www.frsuu.org/event/adult-choir/2025-01-16/
LOCATION:LMH Main Room\, 26 Pleasant St\, Newburyport\, MA\, 01950\, United States
CATEGORIES:Music
END:VEVENT
BEGIN:VEVENT
DTSTART;TZID=America/New_York:20250123T190000
DTEND;TZID=America/New_York:20250123T203000
DTSTAMP:20260419T103607
CREATED:20240830T152934Z
LAST-MODIFIED:20250527T194039Z
UID:40044-1737658800-1737664200@www.frsuu.org
SUMMARY:Adult Choir
DESCRIPTION:Thursdays\, LMH Main Room\, 7-8:30pm
URL:https://www.frsuu.org/event/adult-choir/2025-01-23/
LOCATION:LMH Main Room\, 26 Pleasant St\, Newburyport\, MA\, 01950\, United States
CATEGORIES:Music
END:VEVENT
BEGIN:VEVENT
DTSTART;TZID=America/New_York:20250130T190000
DTEND;TZID=America/New_York:20250130T203000
DTSTAMP:20260419T103607
CREATED:20240830T152934Z
LAST-MODIFIED:20250527T194039Z
UID:40045-1738263600-1738269000@www.frsuu.org
SUMMARY:Adult Choir
DESCRIPTION:Thursdays\, LMH Main Room\, 7-8:30pm
URL:https://www.frsuu.org/event/adult-choir/2025-01-30/
LOCATION:LMH Main Room\, 26 Pleasant St\, Newburyport\, MA\, 01950\, United States
CATEGORIES:Music
END:VEVENT
BEGIN:VEVENT
DTSTART;TZID=America/New_York:20250131T200000
DTEND;TZID=America/New_York:20250131T210000
DTSTAMP:20260419T103607
CREATED:20241111T171654Z
LAST-MODIFIED:20241220T151156Z
UID:42710-1738353600-1738357200@www.frsuu.org
SUMMARY:Jason Anderson Live at FRSUU
DESCRIPTION:Friday\, January 31\, 2025\, Sanctuary\, doors open at 7:30pm\, concert starts at 8pm. Jason Anderson returns to Newburyport for a very special night of songs and stories at the piano. An award-winning songwriter based in eastern Canada\, Jason’s evocative lyrics\, anthemic melodies\, and incredible live performances have taken him around the world\, making friends and fans one electrifying concert at a time. Personal\, passionate\, and poetic\, his music crackles with life. Recommended for fans of Bruce Springsteen\, Glen Hansard\, et al. Jason is the real deal. Follow along: http://instagram.com/jasonandersonmusic. Learn more: http://jasonandersonmusic.net. \nPurchase tickets HERE!
URL:https://www.frsuu.org/event/jason-anderson-live-at-frsuu/
LOCATION:FRS Sanctuary\, 26 Pleasant St\, Newburyport\, MA\, 01950\, United States
CATEGORIES:Music
END:VEVENT
BEGIN:VEVENT
DTSTART;TZID=America/New_York:20250202T150000
DTEND;TZID=America/New_York:20250202T160000
DTSTAMP:20260419T103607
CREATED:20241231T205019Z
LAST-MODIFIED:20250129T152749Z
UID:43397-1738508400-1738512000@www.frsuu.org
SUMMARY:Danny Harrington Concert
DESCRIPTION:Sunday\, February 2\, Sanctuary\, 3-4pm.
URL:https://www.frsuu.org/event/danny-harrington-concert/
LOCATION:FRS Sanctuary\, 26 Pleasant St\, Newburyport\, MA\, 01950\, United States
CATEGORIES:Music
END:VEVENT
BEGIN:VEVENT
DTSTART;TZID=America/New_York:20250206T190000
DTEND;TZID=America/New_York:20250206T203000
DTSTAMP:20260419T103607
CREATED:20240830T152934Z
LAST-MODIFIED:20250527T194040Z
UID:40046-1738868400-1738873800@www.frsuu.org
SUMMARY:Adult Choir
DESCRIPTION:Thursdays\, LMH Main Room\, 7-8:30pm
URL:https://www.frsuu.org/event/adult-choir/2025-02-06/
LOCATION:LMH Main Room\, 26 Pleasant St\, Newburyport\, MA\, 01950\, United States
CATEGORIES:Music
END:VEVENT
BEGIN:VEVENT
DTSTART;TZID=America/New_York:20250213T190000
DTEND;TZID=America/New_York:20250213T203000
DTSTAMP:20260419T103607
CREATED:20240830T152934Z
LAST-MODIFIED:20250527T194041Z
UID:40047-1739473200-1739478600@www.frsuu.org
SUMMARY:Adult Choir
DESCRIPTION:Thursdays\, LMH Main Room\, 7-8:30pm
URL:https://www.frsuu.org/event/adult-choir/2025-02-13/
LOCATION:LMH Main Room\, 26 Pleasant St\, Newburyport\, MA\, 01950\, United States
CATEGORIES:Music
END:VEVENT
BEGIN:VEVENT
DTSTART;TZID=America/New_York:20250218T190000
DTEND;TZID=America/New_York:20250218T200000
DTSTAMP:20260419T103607
CREATED:20250204T224943Z
LAST-MODIFIED:20250205T162229Z
UID:44338-1739905200-1739908800@www.frsuu.org
SUMMARY:Evening Service of Music and Poetry
DESCRIPTION:Tuesday\, February 18\, Sanctuary\, 7-8pm. With Rev. Rebecca and Nick Place.
URL:https://www.frsuu.org/event/evening-service-of-music-and-poetry/
LOCATION:FRS Sanctuary\, 26 Pleasant St\, Newburyport\, MA\, 01950\, United States
CATEGORIES:Music,Spiritual Development,Worship
END:VEVENT
BEGIN:VEVENT
DTSTART;TZID=America/New_York:20250220T190000
DTEND;TZID=America/New_York:20250220T203000
DTSTAMP:20260419T103607
CREATED:20240830T152934Z
LAST-MODIFIED:20250527T194041Z
UID:40048-1740078000-1740083400@www.frsuu.org
SUMMARY:Adult Choir
DESCRIPTION:Thursdays\, LMH Main Room\, 7-8:30pm
URL:https://www.frsuu.org/event/adult-choir/2025-02-20/
LOCATION:LMH Main Room\, 26 Pleasant St\, Newburyport\, MA\, 01950\, United States
CATEGORIES:Music
END:VEVENT
BEGIN:VEVENT
DTSTART;TZID=America/New_York:20250223T160000
DTEND;TZID=America/New_York:20250223T170000
DTSTAMP:20260419T103607
CREATED:20250108T215355Z
LAST-MODIFIED:20250109T200536Z
UID:43501-1740326400-1740330000@www.frsuu.org
SUMMARY:Wilson Music Series 2025: Cuban Art Song Project
DESCRIPTION:Sunday\, February 23\, Sanctuary\, 4pm – Cuban Art Song Project. Isabella Lamadriz and Pablo Zinger will perform an hour of Cuban love songs in celebration of Valentine’s Day. The Cuban Art Song Project (CASP) seeks to promote underperformed Cuban art song\, zarzuela\, and popular music and to encourage the integration of these songs into the canon of regularly performed art music through the development of professional recordings and concerts. https://www.cubanartsongproject.com/. \nPurchase advance tickets: https://bit.ly/Wilson2025-02-23
URL:https://www.frsuu.org/event/wilson-music-series-2025-cuban-art-project/
LOCATION:FRS Sanctuary\, 26 Pleasant St\, Newburyport\, MA\, 01950\, United States
CATEGORIES:Music
END:VEVENT
BEGIN:VEVENT
DTSTART;TZID=America/New_York:20250227T190000
DTEND;TZID=America/New_York:20250227T203000
DTSTAMP:20260419T103607
CREATED:20240830T152934Z
LAST-MODIFIED:20250527T194042Z
UID:40049-1740682800-1740688200@www.frsuu.org
SUMMARY:Adult Choir
DESCRIPTION:Thursdays\, LMH Main Room\, 7-8:30pm
URL:https://www.frsuu.org/event/adult-choir/2025-02-27/
LOCATION:LMH Main Room\, 26 Pleasant St\, Newburyport\, MA\, 01950\, United States
CATEGORIES:Music
END:VEVENT
BEGIN:VEVENT
DTSTART;TZID=America/New_York:20250302T160000
DTEND;TZID=America/New_York:20250302T170000
DTSTAMP:20260419T103607
CREATED:20250108T224505Z
LAST-MODIFIED:20250109T200657Z
UID:43506-1740931200-1740934800@www.frsuu.org
SUMMARY:Wilson Music Series 2025: Improbable Beasts
DESCRIPTION:Sunday\, March 2\, Sanctuary\, 4pm. Improbable Beasts are a Boston-based professional bass clarinet ensemble dedicated to bringing the deeply expressive power of multiple bass clarinets before a broad audience. Their repertoire ranges from Renaissance choral music to brand-new compositions to klezmer tunes and holiday songs. Their mission is to share the deep resonances\, soaring lyricism\, and propulsive grooves of bass clarinet ensemble music with as many people as they can. www.improbablebeasts.com \nPurchase advance tickets: https://bit.ly/Wilson2025-03-02
URL:https://www.frsuu.org/event/wilson-music-series-2025-improbable-beasts/
LOCATION:FRS Sanctuary\, 26 Pleasant St\, Newburyport\, MA\, 01950\, United States
CATEGORIES:Music
END:VEVENT
END:VCALENDAR