BEGIN:VCALENDAR
VERSION:2.0
PRODID:-//First Religious Society of Newburyport - ECPv6.15.20//NONSGML v1.0//EN
CALSCALE:GREGORIAN
METHOD:PUBLISH
X-WR-CALNAME:First Religious Society of Newburyport
X-ORIGINAL-URL:https://www.frsuu.org
X-WR-CALDESC:Events for First Religious Society of Newburyport
REFRESH-INTERVAL;VALUE=DURATION:PT1H
X-Robots-Tag:noindex
X-PUBLISHED-TTL:PT1H
BEGIN:VTIMEZONE
TZID:America/New_York
BEGIN:DAYLIGHT
TZOFFSETFROM:-0500
TZOFFSETTO:-0400
TZNAME:EDT
DTSTART:20230312T070000
END:DAYLIGHT
BEGIN:STANDARD
TZOFFSETFROM:-0400
TZOFFSETTO:-0500
TZNAME:EST
DTSTART:20231105T060000
END:STANDARD
BEGIN:DAYLIGHT
TZOFFSETFROM:-0500
TZOFFSETTO:-0400
TZNAME:EDT
DTSTART:20240310T070000
END:DAYLIGHT
BEGIN:STANDARD
TZOFFSETFROM:-0400
TZOFFSETTO:-0500
TZNAME:EST
DTSTART:20241103T060000
END:STANDARD
BEGIN:DAYLIGHT
TZOFFSETFROM:-0500
TZOFFSETTO:-0400
TZNAME:EDT
DTSTART:20250309T070000
END:DAYLIGHT
BEGIN:STANDARD
TZOFFSETFROM:-0400
TZOFFSETTO:-0500
TZNAME:EST
DTSTART:20251102T060000
END:STANDARD
BEGIN:DAYLIGHT
TZOFFSETFROM:-0500
TZOFFSETTO:-0400
TZNAME:EDT
DTSTART:20260308T070000
END:DAYLIGHT
BEGIN:STANDARD
TZOFFSETFROM:-0400
TZOFFSETTO:-0500
TZNAME:EST
DTSTART:20261101T060000
END:STANDARD
END:VTIMEZONE
BEGIN:VEVENT
DTSTART;TZID=America/New_York:20251016T093000
DTEND;TZID=America/New_York:20251016T103000
DTSTAMP:20260424T085252
CREATED:20250910T174602Z
LAST-MODIFIED:20250910T174603Z
UID:47714-1760607000-1760610600@www.frsuu.org
SUMMARY:Parish Friends Third Thursday
DESCRIPTION:Thursday\, October 16\, LMH Nursery/Conf Room\, 9:30-10:30am. \nPilot for a possible monthly Parish Friends somewhat casual morning meeting over tea and coffee. An opportunity to meet other Parish Friends\, ask questions\, and brainstorm. If interested in simply learning more about Parish Friends\, this would be a great forum. We realize mornings don’t work for everyone. If you are wanting to attend\, but not able to\, or have questions\, contact Susan Ricker at parishfriends@frsuu.org or use her personal contact information in the FRSUU Realm directory. We also have our fall meeting on Tuesday evening\, October 14\, at 6:30 pm.
URL:https://www.frsuu.org/event/parish-friends-third-thursday/
LOCATION:LMH Nursery/Conf Room
CATEGORIES:Volunteer
END:VEVENT
BEGIN:VEVENT
DTSTART;TZID=America/New_York:20251014T180000
DTEND;TZID=America/New_York:20251014T203000
DTSTAMP:20260424T085252
CREATED:20250909T164528Z
LAST-MODIFIED:20250911T132630Z
UID:47672-1760464800-1760473800@www.frsuu.org
SUMMARY:Parish Friends Fall Meeting
DESCRIPTION:Tuesday\, October 14\, Parish Hall 1st Floor\, 6:30-8pm. \nFall meeting of Parish Friends for all current and curious. New members welcome and encouraged. We can especially use more drivers. To newcomers – we offer support to the church community – rides\, meals\, errands\, chores. An agenda will be mailed to current Parish Friends and others who request one. If interested but unable to attend\, let me know. Susan Ricker\, parishfriends@frsuu.org\, or use my personal contact info listed in the Realm directory. \nInternal: This meeting has setup instructions.
URL:https://www.frsuu.org/event/parish-friends-fall-meeting/
LOCATION:Parish Hall 1st Floor
CATEGORIES:Volunteer
END:VEVENT
BEGIN:VEVENT
DTSTART;TZID=America/New_York:20240905T140000
DTEND;TZID=America/New_York:20240905T150000
DTSTAMP:20260424T085252
CREATED:20240830T145234Z
LAST-MODIFIED:20240830T145234Z
UID:39908-1725544800-1725548400@www.frsuu.org
SUMMARY:Volunteers for Community Meeting (Hybrid)
DESCRIPTION:
URL:https://www.frsuu.org/event/volunteers-for-community-meeting-hybrid/
LOCATION:LMH Room A\, 26 Pleasant St\, Newburyport\, MA\, 01950\, United States
CATEGORIES:Volunteer
END:VEVENT
BEGIN:VEVENT
DTSTART;TZID=America/New_York:20240904T173000
DTEND;TZID=America/New_York:20240904T183000
DTSTAMP:20260424T085252
CREATED:20240830T145846Z
LAST-MODIFIED:20240830T145846Z
UID:39911-1725471000-1725474600@www.frsuu.org
SUMMARY:Volunteers-Community Meeting
DESCRIPTION:
URL:https://www.frsuu.org/event/volunteers-community-meeting/
LOCATION:LMH Room A\, 26 Pleasant St\, Newburyport\, MA\, 01950\, United States
CATEGORIES:Volunteer
END:VEVENT
BEGIN:VEVENT
DTSTART;VALUE=DATE:20240615
DTEND;VALUE=DATE:20240616
DTSTAMP:20260424T085252
CREATED:20240607T173751Z
LAST-MODIFIED:20240607T173751Z
UID:38363-1718409600-1718495999@www.frsuu.org
SUMMARY:Parish "Fix-It" Day w/ Volunteers
DESCRIPTION:On Saturday\, June 15\, we are planning our second “fix-it” day in Parish Hall. We are specifically looking for support from volunteers who have experience with sanding\, painting\, and wood work. \nA vegetarian lunch will be available. \nIf you are able to join us for a couple of hours\, please email Cynthia Walsh at cynthia.walsh@frsuu.org. \nP.S. If you are interested in lending some support to this project but unable to participate on June 15\, please let us know!
URL:https://www.frsuu.org/event/parish-fix-it-day-w-volunteers/
LOCATION:Parish Hall – 2nd Floor
CATEGORIES:Volunteer
ORGANIZER;CN="Cynthia Walsh":MAILTO:cynthia.walsh@frsuu.org
END:VEVENT
END:VCALENDAR