BEGIN:VCALENDAR
VERSION:2.0
PRODID:-//First Religious Society of Newburyport - ECPv6.15.20//NONSGML v1.0//EN
CALSCALE:GREGORIAN
METHOD:PUBLISH
X-WR-CALNAME:First Religious Society of Newburyport
X-ORIGINAL-URL:https://www.frsuu.org
X-WR-CALDESC:Events for First Religious Society of Newburyport
REFRESH-INTERVAL;VALUE=DURATION:PT1H
X-Robots-Tag:noindex
X-PUBLISHED-TTL:PT1H
BEGIN:VTIMEZONE
TZID:America/New_York
BEGIN:DAYLIGHT
TZOFFSETFROM:-0500
TZOFFSETTO:-0400
TZNAME:EDT
DTSTART:20250309T070000
END:DAYLIGHT
BEGIN:STANDARD
TZOFFSETFROM:-0400
TZOFFSETTO:-0500
TZNAME:EST
DTSTART:20251102T060000
END:STANDARD
BEGIN:DAYLIGHT
TZOFFSETFROM:-0500
TZOFFSETTO:-0400
TZNAME:EDT
DTSTART:20260308T070000
END:DAYLIGHT
BEGIN:STANDARD
TZOFFSETFROM:-0400
TZOFFSETTO:-0500
TZNAME:EST
DTSTART:20261101T060000
END:STANDARD
BEGIN:DAYLIGHT
TZOFFSETFROM:-0500
TZOFFSETTO:-0400
TZNAME:EDT
DTSTART:20270314T070000
END:DAYLIGHT
BEGIN:STANDARD
TZOFFSETFROM:-0400
TZOFFSETTO:-0500
TZNAME:EST
DTSTART:20271107T060000
END:STANDARD
END:VTIMEZONE
BEGIN:VEVENT
DTSTART;TZID=America/New_York:20260505T190000
DTEND;TZID=America/New_York:20260505T200000
DTSTAMP:20260423T032859
CREATED:20260317T154635Z
LAST-MODIFIED:20260420T202327Z
UID:50646-1778007600-1778011200@www.frsuu.org
SUMMARY:Contemplative Service: Resting in Prayer and the Presence
DESCRIPTION:Tuesday\, May 5\, Sanctuary\, 7-8pm. \nResting in Prayer and the Presence with Rev. Jane Tuohy and Kristen Miller \nIs it possible to actually rest in prayer? Is it possible to become intentionally fully present in whatever is going on in our lives? And\, with an attitude of openness\, reverence\, and gratitude\, actually rest in presence no matter what turmoil is swirling around us? Rev. Jane will share her understanding of what the commandment to “pray without ceasing” means and how we can cultivate attitudes of openness and receptivity that help us accept reality while turning over worries\, concerns\, fear\, and anxiety to Spirit and staying in a state of equanimity. This service is for those who could use a little rest and want to move away from “fix it” and problem-solving mode into a more spacious and spiritual way of turning our daily trials and hassles into prayer and spiritual learning. \nComposer and cellist Kristen Miller will accompany Rev. Jane and play some of her own compositions.
URL:https://www.frsuu.org/event/contemplative-service-resting-in-prayer-and-the-presence/
LOCATION:FRS Sanctuary\, 26 Pleasant St\, Newburyport\, MA\, 01950\, United States
CATEGORIES:Worship
END:VEVENT
END:VCALENDAR