BEGIN:VCALENDAR
VERSION:2.0
PRODID:-//First Religious Society of Newburyport - ECPv6.15.20//NONSGML v1.0//EN
CALSCALE:GREGORIAN
METHOD:PUBLISH
X-ORIGINAL-URL:https://www.frsuu.org
X-WR-CALDESC:Events for First Religious Society of Newburyport
REFRESH-INTERVAL;VALUE=DURATION:PT1H
X-Robots-Tag:noindex
X-PUBLISHED-TTL:PT1H
BEGIN:VTIMEZONE
TZID:America/New_York
BEGIN:DAYLIGHT
TZOFFSETFROM:-0500
TZOFFSETTO:-0400
TZNAME:EDT
DTSTART:20250309T070000
END:DAYLIGHT
BEGIN:STANDARD
TZOFFSETFROM:-0400
TZOFFSETTO:-0500
TZNAME:EST
DTSTART:20251102T060000
END:STANDARD
BEGIN:DAYLIGHT
TZOFFSETFROM:-0500
TZOFFSETTO:-0400
TZNAME:EDT
DTSTART:20260308T070000
END:DAYLIGHT
BEGIN:STANDARD
TZOFFSETFROM:-0400
TZOFFSETTO:-0500
TZNAME:EST
DTSTART:20261101T060000
END:STANDARD
BEGIN:DAYLIGHT
TZOFFSETFROM:-0500
TZOFFSETTO:-0400
TZNAME:EDT
DTSTART:20270314T070000
END:DAYLIGHT
BEGIN:STANDARD
TZOFFSETFROM:-0400
TZOFFSETTO:-0500
TZNAME:EST
DTSTART:20271107T060000
END:STANDARD
END:VTIMEZONE
BEGIN:VEVENT
DTSTART;TZID=America/New_York:20260519T190000
DTEND;TZID=America/New_York:20260519T200000
DTSTAMP:20260423T110652
CREATED:20260407T163141Z
LAST-MODIFIED:20260407T163205Z
UID:50845-1779217200-1779220800@www.frsuu.org
SUMMARY:Poetry & Music Service
DESCRIPTION:Tuesday\, May 19\, Sanctuary with livestream on YouTube\, 7pm. \nThe theme of this service is gratitude. It is the last service in this very special collaborative monthly series. Featuring rejuvenating music and poetry and led by Rev. Rebecca and Nick Place.
URL:https://www.frsuu.org/event/poetry-music-service-3/
LOCATION:FRS Sanctuary\, 26 Pleasant St\, Newburyport\, MA\, 01950\, United States
CATEGORIES:Music,Worship
END:VEVENT
END:VCALENDAR