BEGIN:VCALENDAR
VERSION:2.0
PRODID:-//First Religious Society of Newburyport - ECPv6.15.20//NONSGML v1.0//EN
CALSCALE:GREGORIAN
METHOD:PUBLISH
X-WR-CALNAME:First Religious Society of Newburyport
X-ORIGINAL-URL:https://www.frsuu.org
X-WR-CALDESC:Events for First Religious Society of Newburyport
REFRESH-INTERVAL;VALUE=DURATION:PT1H
X-Robots-Tag:noindex
X-PUBLISHED-TTL:PT1H
BEGIN:VTIMEZONE
TZID:America/New_York
BEGIN:DAYLIGHT
TZOFFSETFROM:-0500
TZOFFSETTO:-0400
TZNAME:EDT
DTSTART:20240310T070000
END:DAYLIGHT
BEGIN:STANDARD
TZOFFSETFROM:-0400
TZOFFSETTO:-0500
TZNAME:EST
DTSTART:20241103T060000
END:STANDARD
BEGIN:DAYLIGHT
TZOFFSETFROM:-0500
TZOFFSETTO:-0400
TZNAME:EDT
DTSTART:20250309T070000
END:DAYLIGHT
BEGIN:STANDARD
TZOFFSETFROM:-0400
TZOFFSETTO:-0500
TZNAME:EST
DTSTART:20251102T060000
END:STANDARD
BEGIN:DAYLIGHT
TZOFFSETFROM:-0500
TZOFFSETTO:-0400
TZNAME:EDT
DTSTART:20260308T070000
END:DAYLIGHT
BEGIN:STANDARD
TZOFFSETFROM:-0400
TZOFFSETTO:-0500
TZNAME:EST
DTSTART:20261101T060000
END:STANDARD
END:VTIMEZONE
BEGIN:VEVENT
DTSTART;TZID=America/New_York:20251013T184500
DTEND;TZID=America/New_York:20251013T200000
DTSTAMP:20260420T104822
CREATED:20240614T153123Z
LAST-MODIFIED:20240614T153544Z
UID:38727-1760381100-1760385600@www.frsuu.org
SUMMARY:Adult Children of Alcoholics
DESCRIPTION:Meets in the Hayward Room
URL:https://www.frsuu.org/event/adult-children-of-alcoholics-3/2025-10-13/
LOCATION:Hayward Room\, 26 Pleasant St\, Newburyport\, MA\, 01950\, United States
CATEGORIES:Recovery
END:VEVENT
BEGIN:VEVENT
DTSTART;TZID=America/New_York:20251013T183000
DTEND;TZID=America/New_York:20251013T193000
DTSTAMP:20260420T104822
CREATED:20240605T195817Z
LAST-MODIFIED:20240605T195817Z
UID:45744-1760380200-1760383800@www.frsuu.org
SUMMARY:Monday Evening Meditation (In Person)
DESCRIPTION:Monday Night Meditation at 6:30pm in Lower Meeting House (enter via Unicorn Street entrance). These weekly sessions are led by Joyce Haydock\, Senior Dharma Teacher with the International Kwan Um School of Zen. She has been with the school since 1989. This FRSUU Monday group was established over ten years ago. Our sessions consist of two or three chants\, two readings/teachings and 30 minutes of sitting meditation. Beginners are welcome. \nContact Joyce at 978-363-5457 or email joycehaydock@outlook.com to be added to our list and receive access information. \n  \n 
URL:https://www.frsuu.org/event/monday-evening-meditation-in-person/2025-10-13/
LOCATION:Lower Meetinghouse\, 26 Pleasant St\, Newburyport\, MA\, 01950\, United States
ORGANIZER;CN="Joyce Haydock":MAILTO:joycehaydock@outlook.com
END:VEVENT
BEGIN:VEVENT
DTSTART;TZID=America/New_York:20251013T180000
DTEND;TZID=America/New_York:20251013T193000
DTSTAMP:20260420T104822
CREATED:20250908T173036Z
LAST-MODIFIED:20250908T173037Z
UID:47628-1760378400-1760383800@www.frsuu.org
SUMMARY:New Member Class w/ Rev. Laurel
DESCRIPTION:Mondays\, October 13 and 20\, Parish Hall\, 6-7:30pm; Monday\, October 27\, Sanctuary\, 6-7:30pm
URL:https://www.frsuu.org/event/new-member-class-w-rev-laurel/2025-10-13/
LOCATION:Parish Hall 1st Floor
END:VEVENT
BEGIN:VEVENT
DTSTART;VALUE=DATE:20251013
DTEND;VALUE=DATE:20251014
DTSTAMP:20260420T104822
CREATED:20250528T184106Z
LAST-MODIFIED:20250528T184106Z
UID:46346-1760313600-1760399999@www.frsuu.org
SUMMARY:Indigenous Peoples Day
DESCRIPTION:
URL:https://www.frsuu.org/event/indigenous-peoples-day/
END:VEVENT
BEGIN:VEVENT
DTSTART;TZID=America/New_York:20251012T193000
DTEND;TZID=America/New_York:20251012T200000
DTSTAMP:20260420T104822
CREATED:20250926T143449Z
LAST-MODIFIED:20250926T143625Z
UID:48356-1760297400-1760299200@www.frsuu.org
SUMMARY:Sunday Evening Guided Meditation (Zoom)
DESCRIPTION:Sundays\, October 5\, 12\, 19\, 26\, 7:30-8pm\, Zoom \nJoin FRS member and LICSW Woman Cooper for a brief period of relaxation and renewal on Zoom. Each 30-minute session will include a guided visualization and reflection on questions around where we hold stress and how we can release it. You’ll also learn some relaxation techniques to use on your own. Come one time or many. To reach out to Woman\, email susanc0805@gmail.com.
URL:https://www.frsuu.org/event/sunday-evening-guided-meditation-zoom/2025-10-12/
LOCATION:Zoom
END:VEVENT
BEGIN:VEVENT
DTSTART;TZID=America/New_York:20251012T114500
DTEND;TZID=America/New_York:20251012T124500
DTSTAMP:20260420T104822
CREATED:20250709T142040Z
LAST-MODIFIED:20250709T142121Z
UID:46855-1760269500-1760273100@www.frsuu.org
SUMMARY:Governance Committee Meeting
DESCRIPTION:Second Sundays\, September-June\, LMH Room A\, 11:45am. Hybrid.
URL:https://www.frsuu.org/event/governance-committee-meeting-2/2025-10-12/
LOCATION:LMH Room A\, 26 Pleasant St\, Newburyport\, MA\, 01950\, United States
END:VEVENT
BEGIN:VEVENT
DTSTART;TZID=America/New_York:20251012T103000
DTEND;TZID=America/New_York:20251012T113000
DTSTAMP:20260420T104822
CREATED:20250922T163733Z
LAST-MODIFIED:20260403T151556Z
UID:48098-1760265000-1760268600@www.frsuu.org
SUMMARY:Young Church
DESCRIPTION:Sundays\, from September 14\, 2025 until May 17\, 2026\, LMH Main Room and Nursery/Conf Room\, 10:30-11:30am
URL:https://www.frsuu.org/event/young-church-3/2025-10-12/
LOCATION:LMH Main Room\, 26 Pleasant St\, Newburyport\, MA\, 01950\, United States
CATEGORIES:Young Church
ORGANIZER;CN="Mara Flynn":MAILTO:mara.flynn@frsuu.org
END:VEVENT
BEGIN:VEVENT
DTSTART;TZID=America/New_York:20251012T103000
DTEND;TZID=America/New_York:20251012T113000
DTSTAMP:20260420T104822
CREATED:20250520T205919Z
LAST-MODIFIED:20260407T154155Z
UID:46139-1760265000-1760268600@www.frsuu.org
SUMMARY:Sunday Worship Service
DESCRIPTION:Sundays\, Sanctuary\, 10:30-11:30am with livestream on YouTube. \nJoin us for worship from the Sunday after Labor Day through late spring. Experience elements of the world religions\, including our Christian roots and humanism. Find inspiration in choral and instrumental music (including organ)\, congregational singing\, a time for children\, readings\, an offering\, and meditative silence. Hear a sermon on social justice\, spirituality\, dealing with life’s challenges\, or other issues. We may celebrate a holiday\, act out a skit\, or hold a coming-of-age ceremony. Services are usually followed by a 30-minute fellowship gathering or a monthly Justice Sunday program.
URL:https://www.frsuu.org/event/sunday-worship-service-3/2025-10-12/
LOCATION:FRS Sanctuary\, 26 Pleasant St\, Newburyport\, MA\, 01950\, United States
CATEGORIES:Music,Worship
END:VEVENT
BEGIN:VEVENT
DTSTART;TZID=America/New_York:20251012T093000
DTEND;TZID=America/New_York:20251012T103000
DTSTAMP:20260420T104822
CREATED:20250807T154036Z
LAST-MODIFIED:20250807T154036Z
UID:47040-1760261400-1760265000@www.frsuu.org
SUMMARY:Community Outreach Committee Monthly Meeting
DESCRIPTION:Second Sundays starting September 14\, LMH Room A\, 9:30-10:30am
URL:https://www.frsuu.org/event/community-outreach-committee-monthly-meeting/2025-10-12/
LOCATION:LMH Room A\, 26 Pleasant St\, Newburyport\, MA\, 01950\, United States
END:VEVENT
BEGIN:VEVENT
DTSTART;TZID=America/New_York:20251011T173000
DTEND;TZID=America/New_York:20251011T190000
DTSTAMP:20260420T104822
CREATED:20250724T201739Z
LAST-MODIFIED:20250918T184052Z
UID:46990-1760203800-1760209200@www.frsuu.org
SUMMARY:Sing Out: Shower The People
DESCRIPTION:Saturday\, October 11\, Sanctuary\, 5:30-7pm. \n  \n \nClick here for free registration: https://linktr.ee/ArtsCultureFRSUU
URL:https://www.frsuu.org/event/reserved-for-sing-out/
LOCATION:FRS Sanctuary\, 26 Pleasant St\, Newburyport\, MA\, 01950\, United States
END:VEVENT
BEGIN:VEVENT
DTSTART;TZID=America/New_York:20251011T160000
DTEND;TZID=America/New_York:20251011T190000
DTSTAMP:20260420T104822
CREATED:20250724T202302Z
LAST-MODIFIED:20250724T202302Z
UID:46992-1760198400-1760209200@www.frsuu.org
SUMMARY:Renaissance New England
DESCRIPTION:Meets Saturdays every other month\, 4pm. On this date the meeting will take place in the Parish Hall.
URL:https://www.frsuu.org/event/renaissance-new-england-2/
LOCATION:Parish Hall 1st Floor
END:VEVENT
BEGIN:VEVENT
DTSTART;TZID=America/New_York:20251011T110000
DTEND;TZID=America/New_York:20251011T150000
DTSTAMP:20260420T104822
CREATED:20250724T201408Z
LAST-MODIFIED:20250724T201408Z
UID:46988-1760180400-1760194800@www.frsuu.org
SUMMARY:Memorial Service
DESCRIPTION:Saturday\, October 11\, Sanctuary & Lower Meetinghouse\, 11am – 3pm.
URL:https://www.frsuu.org/event/memorial-service-2/
LOCATION:FRS Sanctuary\, 26 Pleasant St\, Newburyport\, MA\, 01950\, United States
END:VEVENT
BEGIN:VEVENT
DTSTART;TZID=America/New_York:20251011T080000
DTEND;TZID=America/New_York:20251011T110000
DTSTAMP:20260420T104822
CREATED:20240814T231956Z
LAST-MODIFIED:20240814T231956Z
UID:43956-1760169600-1760180400@www.frsuu.org
SUMMARY:Merrimack Valley Ship Model Club (MVSMC)
DESCRIPTION:Second Saturdays\, Lower Meetinghouse Main Room\, 8-11am.
URL:https://www.frsuu.org/event/merrimack-valley-ship-model-club-mvsmc/2025-10-11/
LOCATION:LMH Main Room\, 26 Pleasant St\, Newburyport\, MA\, 01950\, United States
END:VEVENT
BEGIN:VEVENT
DTSTART;TZID=America/New_York:20251010T190000
DTEND;TZID=America/New_York:20251010T210000
DTSTAMP:20260420T104822
CREATED:20250910T170450Z
LAST-MODIFIED:20251001T160447Z
UID:47712-1760122800-1760130000@www.frsuu.org
SUMMARY:An Evening of Love\, Hope\, and Justice
DESCRIPTION:Friday\, October 10\, Sanctuary\, 7-9pm. \nWords and music by Rev. Rebecca\, Susan Levine\, and The Last Optimist (Markus Belanger).
URL:https://www.frsuu.org/event/an-evening-of-love-hope-and-justice/
LOCATION:FRS Sanctuary\, 26 Pleasant St\, Newburyport\, MA\, 01950\, United States
END:VEVENT
BEGIN:VEVENT
DTSTART;TZID=America/New_York:20251010T180000
DTEND;TZID=America/New_York:20251010T193000
DTSTAMP:20260420T104822
CREATED:20240906T220128Z
LAST-MODIFIED:20240906T220128Z
UID:40865-1760119200-1760124600@www.frsuu.org
SUMMARY:SMART Recovery (Contact: 678-378-0786)
DESCRIPTION:Meets weekly on Friday
URL:https://www.frsuu.org/event/smart-recovery-contact-678-378-0786-3/2025-10-10/
LOCATION:Hayward Room\, 26 Pleasant St\, Newburyport\, MA\, 01950\, United States
CATEGORIES:Recovery
END:VEVENT
BEGIN:VEVENT
DTSTART;TZID=America/New_York:20251010T110000
DTEND;TZID=America/New_York:20251010T120000
DTSTAMP:20260420T104822
CREATED:20250903T210908Z
LAST-MODIFIED:20260107T181537Z
UID:47388-1760094000-1760097600@www.frsuu.org
SUMMARY:Friday Peace Vigil (offsite)
DESCRIPTION:Every Friday\, Market Square Bullnose\, 11am. \nRev. Rebecca leads this weekly gathering to reflect on and remember our commitment to peace\, love\, and compassion as we navigate the turbulence and daily horrors of our troubled world.
URL:https://www.frsuu.org/event/friday-peace-vigil-offsite/2025-10-10/
LOCATION:Market Square Bullnose\, Newburyport\, 01950\, United States
END:VEVENT
BEGIN:VEVENT
DTSTART;TZID=America/New_York:20251010T100000
DTEND;TZID=America/New_York:20251010T113000
DTSTAMP:20260420T104822
CREATED:20240607T153804Z
LAST-MODIFIED:20251224T212334Z
UID:46377-1760090400-1760095800@www.frsuu.org
SUMMARY:Friday Book Group (Hybrid)
DESCRIPTION:Fridays\, LMH Room A\, 10-11:30am. \nWe meet weekly and read both fiction and non-fiction books chosen by participants. Each book is read and discussed over a period of several meetings\, with the reading for each determined by the group.
URL:https://www.frsuu.org/event/friday-book-group/2025-10-10/
LOCATION:LMH Room A\, 26 Pleasant St\, Newburyport\, MA\, 01950\, United States
END:VEVENT
BEGIN:VEVENT
DTSTART;TZID=America/New_York:20251010T080000
DTEND;TZID=America/New_York:20251010T090000
DTSTAMP:20260420T104822
CREATED:20250625T192350Z
LAST-MODIFIED:20251104T185831Z
UID:47192-1760083200-1760086800@www.frsuu.org
SUMMARY:Capital Campaign Meeting (Zoom)
DESCRIPTION:Fridays\, Alternating weeks beginning August 1; Zoom
URL:https://www.frsuu.org/event/capital-campaign-meeting-zoom/2025-10-10/
LOCATION:Zoom
END:VEVENT
BEGIN:VEVENT
DTSTART;TZID=America/New_York:20251009T190000
DTEND;TZID=America/New_York:20251009T203000
DTSTAMP:20260420T104822
CREATED:20250124T200119Z
LAST-MODIFIED:20260417T150533Z
UID:44003-1760036400-1760041800@www.frsuu.org
SUMMARY:Adult Choir
DESCRIPTION:Thursdays\, LMH Main Room\, 7-8:30pm.
URL:https://www.frsuu.org/event/adult-choir-2/2025-10-09/
LOCATION:LMH Main Room\, 26 Pleasant St\, Newburyport\, MA\, 01950\, United States
END:VEVENT
BEGIN:VEVENT
DTSTART;TZID=America/New_York:20251008T190000
DTEND;TZID=America/New_York:20251008T203000
DTSTAMP:20260420T104822
CREATED:20250908T144228Z
LAST-MODIFIED:20250908T144908Z
UID:47601-1759950000-1759955400@www.frsuu.org
SUMMARY:Indivisible Democracy Defense Community Team
DESCRIPTION:Second Wednesdays beginning September 10\, 7-8:30pm. The October 8 meeting will take place in Parish Hall. \nA newly forming Indivisible Democracy Defense Community Team is being organized to promote resistance to rising authoritarianism and threats to our democracy. Indivisible is the nationwide organization that has been a key organizer of the No Kings and Good Trouble resistance marches. This is an action-oriented group. Now\, Indivisible leaders are encouraging the formation of community-based teams to engage in non-cooperation with the rise of authoritarianism in this country through non-violent resistance. Organizers for this community gathering are Barbara Dowd\, Nicole Whelan\, and Rev. Jane Tuohy. Individuals who are interested should contact Rev. Jane at jane.tuohy@frsuu.org.
URL:https://www.frsuu.org/event/indivisible-democracy-defense-community-team/
LOCATION:Parish Hall 1st Floor
CATEGORIES:Community Events
END:VEVENT
BEGIN:VEVENT
DTSTART;TZID=America/New_York:20251008T183000
DTEND;TZID=America/New_York:20251008T193000
DTSTAMP:20260420T104822
CREATED:20250923T175123Z
LAST-MODIFIED:20250923T175123Z
UID:48230-1759948200-1759951800@www.frsuu.org
SUMMARY:FUNraising Team Meeting (Zoom)
DESCRIPTION:Weekly on Wednesdays\, October 1 – November 5\, 6:30 pm on Zoom only.
URL:https://www.frsuu.org/event/funraising-team-meeting-zoom/2025-10-08/
LOCATION:Zoom
END:VEVENT
BEGIN:VEVENT
DTSTART;TZID=America/New_York:20251008T150000
DTEND;TZID=America/New_York:20251008T163000
DTSTAMP:20260420T104822
CREATED:20251008T153215Z
LAST-MODIFIED:20251008T153215Z
UID:48876-1759935600-1759941000@www.frsuu.org
SUMMARY:Capital Campaign Meeting
DESCRIPTION:Wednesday\, October 8\, LMH Main Room\, 3-4:30pm. Review PB presentation.
URL:https://www.frsuu.org/event/capital-campaign-meeting-6/
LOCATION:LMH Main Room\, 26 Pleasant St\, Newburyport\, MA\, 01950\, United States
END:VEVENT
BEGIN:VEVENT
DTSTART;TZID=America/New_York:20251008T150000
DTEND;TZID=America/New_York:20251008T163000
DTSTAMP:20260420T104822
CREATED:20250923T171148Z
LAST-MODIFIED:20251015T164250Z
UID:48215-1759935600-1759941000@www.frsuu.org
SUMMARY:Exploring Elderhood Together Steering Committee
DESCRIPTION:2nd Wednesdays\, LMH Nursery/Conf Room\, 3-4:30pm. Steering committee planning meeting.
URL:https://www.frsuu.org/event/exploring-elderhood-together-steering-committee-2/2025-10-08/
LOCATION:LMH Nursery/Conf Room
END:VEVENT
BEGIN:VEVENT
DTSTART;TZID=America/New_York:20251008T143000
DTEND;TZID=America/New_York:20251008T153000
DTSTAMP:20260420T104822
CREATED:20251008T143610Z
LAST-MODIFIED:20251008T143610Z
UID:48865-1759933800-1759937400@www.frsuu.org
SUMMARY:Executive Committee Meeting
DESCRIPTION:Wednesday\, October 8\, LMH Room A\, 2:30-3:30pm
URL:https://www.frsuu.org/event/executive-committee-meeting-4/
LOCATION:LMH Room A\, 26 Pleasant St\, Newburyport\, MA\, 01950\, United States
END:VEVENT
BEGIN:VEVENT
DTSTART;TZID=America/New_York:20251008T120000
DTEND;TZID=America/New_York:20251008T133000
DTSTAMP:20260420T104822
CREATED:20251002T153803Z
LAST-MODIFIED:20251002T153803Z
UID:48579-1759924800-1759930200@www.frsuu.org
SUMMARY:Retired Old Men Eating Out (ROMEO)
DESCRIPTION:Wednesday\, October 8\, Loretta\, 15 Pleasant St\, Newburyport\, 12pm. \nJoin us at our next ROMEO meeting. Our Officer of the Day is Alec White who can be reached at awwhite1@comcast.net. Please feel free to contact Alec if you have any questions or concerns. No reservations are required\, but $$$ to pay your share of the tab is needed.
URL:https://www.frsuu.org/event/retired-old-men-eating-out-romeo-13/
LOCATION:Loretta\, 15 Pleasant St\, Newburyport\, MA\, 01950\, United States
ORGANIZER;CN="Ed Budelmann":MAILTO:edbudelmann@gmail.com
END:VEVENT
BEGIN:VEVENT
DTSTART;TZID=America/New_York:20251008T103000
DTEND;TZID=America/New_York:20251008T120000
DTSTAMP:20260420T104822
CREATED:20250825T144941Z
LAST-MODIFIED:20250825T144941Z
UID:47240-1759919400-1759924800@www.frsuu.org
SUMMARY:Worship Planning Meeting
DESCRIPTION:2nd and 4th Wednesdays\, LMH Main Room\, 10:30am-noon
URL:https://www.frsuu.org/event/worship-planning-meeting-3/2025-10-08/
LOCATION:LMH Main Room\, 26 Pleasant St\, Newburyport\, MA\, 01950\, United States
END:VEVENT
BEGIN:VEVENT
DTSTART;TZID=America/New_York:20251008T100000
DTEND;TZID=America/New_York:20251008T110000
DTSTAMP:20260420T104822
CREATED:20250904T174501Z
LAST-MODIFIED:20260406T152842Z
UID:47452-1759917600-1759921200@www.frsuu.org
SUMMARY:Centering Prayer Meditation
DESCRIPTION:Weekly on Wednesdays\, Robing Room\, 10-11am. \nCentering Prayer is a form of Christian Contemplative Meditation. The purpose of this meditation is not to clear the mind as much as it is to open oneself to the presence of the Divine and invite the action of the Divine within. No previous experience or training is required. This form of Contemplative prayer is a practice in resting in the presence of God through non-thinking surrender and to form a deeper relationship with the Divine.\nCentering Prayer will be led by Cynthia Tolbert. All are welcome. Please contact Rev. Jane Tuohy at jane.tuohy@frsuu.org or 617-359-0079 if you have questions.
URL:https://www.frsuu.org/event/centering-prayer-meditation/2025-10-08/
LOCATION:Robing Room (behind pulpit)
CATEGORIES:Spiritual Development
END:VEVENT
BEGIN:VEVENT
DTSTART;TZID=America/New_York:20251008T100000
DTEND;TZID=America/New_York:20251008T103000
DTSTAMP:20260420T104822
CREATED:20240802T135026Z
LAST-MODIFIED:20250926T154327Z
UID:39970-1759917600-1759919400@www.frsuu.org
SUMMARY:Wednesday Guided Meditation (Zoom)
DESCRIPTION:Join FRS member and LICSW Woman Cooper on Wednesdays at 10am for a brief period of mid-week relaxation and renewal. Each 30-minute session will include a guided visualization and reflection on questions around where we hold stress and how we can release it. You’ll also learn some relaxation techniques to use on your own. This is a drop-in program; come one time or many. \nIf you’d like to reach out to Woman\, email susanc0805@gmail.com. \nJoin Zoom Meeting: \n\nhttps://us02web.zoom.us/j/87349458812?pwd=dXdIUVBJb0F1MnVjL0ZDakErVlRIdz09
URL:https://www.frsuu.org/event/wednesday-guided-relaxation-2/2025-10-08/
LOCATION:Zoom
CATEGORIES:Recovery
END:VEVENT
BEGIN:VEVENT
DTSTART;TZID=America/New_York:20251007T190000
DTEND;TZID=America/New_York:20251007T203000
DTSTAMP:20260420T104822
CREATED:20240614T153418Z
LAST-MODIFIED:20251007T183811Z
UID:40510-1759863600-1759869000@www.frsuu.org
SUMMARY:Alcoholic Anonymous Step Sisters
DESCRIPTION:Contact 508-215-9469; meets in the Parish Hall as of 10/7/25.
URL:https://www.frsuu.org/event/alcoholic-anonymous-step-sisters/2025-10-07/
LOCATION:Parish Hall 1st Floor
CATEGORIES:Recovery
END:VEVENT
BEGIN:VEVENT
DTSTART;TZID=America/New_York:20251007T190000
DTEND;TZID=America/New_York:20251007T200000
DTSTAMP:20260420T104822
CREATED:20250528T143640Z
LAST-MODIFIED:20251201T135859Z
UID:46266-1759863600-1759867200@www.frsuu.org
SUMMARY:Contemplative Meditation Service
DESCRIPTION:First Tuesdays beginning October 7\, Sanctuary\, 7-8pm. Led by Rev. Alan Seale.
URL:https://www.frsuu.org/event/contemplative-meditation-service/2025-10-07/
LOCATION:FRS Sanctuary\, 26 Pleasant St\, Newburyport\, MA\, 01950\, United States
CATEGORIES:Worship
END:VEVENT
END:VCALENDAR