BEGIN:VCALENDAR
VERSION:2.0
PRODID:-//First Religious Society of Newburyport - ECPv6.15.20//NONSGML v1.0//EN
CALSCALE:GREGORIAN
METHOD:PUBLISH
X-ORIGINAL-URL:https://www.frsuu.org
X-WR-CALDESC:Events for First Religious Society of Newburyport
REFRESH-INTERVAL;VALUE=DURATION:PT1H
X-Robots-Tag:noindex
X-PUBLISHED-TTL:PT1H
BEGIN:VTIMEZONE
TZID:America/New_York
BEGIN:DAYLIGHT
TZOFFSETFROM:-0500
TZOFFSETTO:-0400
TZNAME:EDT
DTSTART:20240310T070000
END:DAYLIGHT
BEGIN:STANDARD
TZOFFSETFROM:-0400
TZOFFSETTO:-0500
TZNAME:EST
DTSTART:20241103T060000
END:STANDARD
BEGIN:DAYLIGHT
TZOFFSETFROM:-0500
TZOFFSETTO:-0400
TZNAME:EDT
DTSTART:20250309T070000
END:DAYLIGHT
BEGIN:STANDARD
TZOFFSETFROM:-0400
TZOFFSETTO:-0500
TZNAME:EST
DTSTART:20251102T060000
END:STANDARD
BEGIN:DAYLIGHT
TZOFFSETFROM:-0500
TZOFFSETTO:-0400
TZNAME:EDT
DTSTART:20260308T070000
END:DAYLIGHT
BEGIN:STANDARD
TZOFFSETFROM:-0400
TZOFFSETTO:-0500
TZNAME:EST
DTSTART:20261101T060000
END:STANDARD
END:VTIMEZONE
BEGIN:VEVENT
DTSTART;TZID=America/New_York:20250407T093000
DTEND;TZID=America/New_York:20250407T103000
DTSTAMP:20260422T184851
CREATED:20241217T170759Z
LAST-MODIFIED:20241217T170759Z
UID:43476-1744018200-1744021800@www.frsuu.org
SUMMARY:Annual Campaign Steering Committee (hybrid)
DESCRIPTION:Alternating Mondays\, starting January 13\, LMH Main Room\, 9:30-10:30am.
URL:https://www.frsuu.org/event/annual-campaign-steering-committee-hybrid-2/2025-04-07/
LOCATION:LMH Main Room\, 26 Pleasant St\, Newburyport\, MA\, 01950\, United States
END:VEVENT
BEGIN:VEVENT
DTSTART;TZID=America/New_York:20250407T110000
DTEND;TZID=America/New_York:20250407T120000
DTSTAMP:20260422T184851
CREATED:20250328T141053Z
LAST-MODIFIED:20250328T141053Z
UID:45351-1744023600-1744027200@www.frsuu.org
SUMMARY:Support Group for Mild Cognitive Impairment
DESCRIPTION:Monday\, April 7\, LMH Room A\, 11am. Led by Nancy Kidd.
URL:https://www.frsuu.org/event/support-group-for-mild-cognitive-impairment/
LOCATION:LMH Room A\, 26 Pleasant St\, Newburyport\, MA\, 01950\, United States
END:VEVENT
BEGIN:VEVENT
DTSTART;TZID=America/New_York:20250407T110000
DTEND;TZID=America/New_York:20250407T130000
DTSTAMP:20260422T184851
CREATED:20241104T185459Z
LAST-MODIFIED:20250611T182629Z
UID:43826-1744023600-1744030800@www.frsuu.org
SUMMARY:Maker Mondays: Craft Circle with Rev. Laurel
DESCRIPTION:First and third Mondays\, LMH Nursery/Conference Room\, 11am-1pm. Join Rev. Laurel for our Maker Monday offering during lunch hour on the first and third Monday of each month. Bring a creative project\, start a new hobby and connect with other makers in our FRS community. Invite a friend if you feel called\, and bring a lunch if you prefer. All are welcome. \n 
URL:https://www.frsuu.org/event/maker-monday-craft-circle-with-rev-laurel/2025-04-07/
LOCATION:LMH Nursery/Conf Room
CATEGORIES:Community Events
END:VEVENT
BEGIN:VEVENT
DTSTART;TZID=America/New_York:20250407T140000
DTEND;TZID=America/New_York:20250407T160000
DTSTAMP:20260422T184851
CREATED:20250116T183508Z
LAST-MODIFIED:20250417T204038Z
UID:43728-1744034400-1744041600@www.frsuu.org
SUMMARY:Chalice Circle
DESCRIPTION:Mondays\, February 17 to May 5\, LMH Room A\, 2-4pm.
URL:https://www.frsuu.org/event/hold-for-chalice-circle-4/2025-04-07/
LOCATION:LMH Room A\, 26 Pleasant St\, Newburyport\, MA\, 01950\, United States
END:VEVENT
BEGIN:VEVENT
DTSTART;TZID=America/New_York:20250407T183000
DTEND;TZID=America/New_York:20250407T193000
DTSTAMP:20260422T184851
CREATED:20240605T195817Z
LAST-MODIFIED:20250502T185601Z
UID:38219-1744050600-1744054200@www.frsuu.org
SUMMARY:Monday Evening Meditation (In Person)
DESCRIPTION:Monday Night Meditation at 6:30pm in Lower Meeting House (enter via Unicorn Street entrance). These weekly sessions are led by Joyce Haydock\, Senior Dharma Teacher with the International Kwan Um School of Zen. She has been with the school since 1989. This FRSUU Monday group was established over ten years ago. Our sessions consist of two or three chants\, two readings/teachings and 30 minutes of sitting meditation. Beginners are welcome. \nContact Joyce at 978-363-5457 or email joycehaydock@outlook.com to be added to our list and receive access information. \n  \n 
URL:https://www.frsuu.org/event/monday-evening-meditation-in-person/2025-04-07/
LOCATION:Lower Meetinghouse\, 26 Pleasant St\, Newburyport\, MA\, 01950\, United States
ORGANIZER;CN="Joyce Haydock":MAILTO:joycehaydock@outlook.com
END:VEVENT
BEGIN:VEVENT
DTSTART;TZID=America/New_York:20250407T184500
DTEND;TZID=America/New_York:20250407T200000
DTSTAMP:20260422T184851
CREATED:20240614T153123Z
LAST-MODIFIED:20240614T153538Z
UID:38700-1744051500-1744056000@www.frsuu.org
SUMMARY:Adult Children of Alcoholics
DESCRIPTION:Meets in the Hayward Room
URL:https://www.frsuu.org/event/adult-children-of-alcoholics-3/2025-04-07/
LOCATION:Hayward Room\, 26 Pleasant St\, Newburyport\, MA\, 01950\, United States
CATEGORIES:Recovery
END:VEVENT
BEGIN:VEVENT
DTSTART;TZID=America/New_York:20250408T110000
DTEND;TZID=America/New_York:20250408T114500
DTSTAMP:20260422T184851
CREATED:20250320T213205Z
LAST-MODIFIED:20251113T194719Z
UID:45000-1744110000-1744112700@www.frsuu.org
SUMMARY:FRSUU Poetry Group (Zoom)
DESCRIPTION:All who love poetry\, and who enjoy listening to poetry are invited to join the FRSUU Poetry Group. This poetry listening and appreciation group meets on Tuesday mornings for 45 minutes via Zoom. We read the same poem several times\, respond to prompts\, and share perspectives\, wisdom\, humor\, and collegiality. There is no poetry writing in this group. Please join us and give your soul and psyche the gift of poetry on a Tuesday morning. \nThis group is facilitated by Rev. Jane Tuohy.\n\nJoin Zoom Meeting \nhttps://zoom.us/j/94623863916?pwd=ufFubM2s4b4YAjU2la9RPOy25lM6Hy.1
URL:https://www.frsuu.org/event/frs-poetry-group/2025-04-08/
LOCATION:Zoom
CATEGORIES:Spiritual Development
END:VEVENT
BEGIN:VEVENT
DTSTART;TZID=America/New_York:20250408T180000
DTEND;TZID=America/New_York:20250408T200000
DTSTAMP:20260422T184851
CREATED:20250122T205150Z
LAST-MODIFIED:20250417T203035Z
UID:43908-1744135200-1744142400@www.frsuu.org
SUMMARY:Chalice Circle
DESCRIPTION:Tuesdays\, February 25 to May 13\, LMH Nursery/Conf Room\, 6-8pm
URL:https://www.frsuu.org/event/hold-for-chalice-circle-5/2025-04-08/
LOCATION:LMH Nursery/Conf Room
END:VEVENT
BEGIN:VEVENT
DTSTART;TZID=America/New_York:20250408T180000
DTEND;TZID=America/New_York:20250408T200000
DTSTAMP:20260422T184851
CREATED:20250128T170809Z
LAST-MODIFIED:20250324T182957Z
UID:44117-1744135200-1744142400@www.frsuu.org
SUMMARY:Chalice Circle (Zoom)
DESCRIPTION:Tuesdays\, February 25 to May 27\, 6-8pm\, Zoom only.
URL:https://www.frsuu.org/event/hold-for-chalice-circle-zoom/2025-04-08/
LOCATION:Zoom
END:VEVENT
BEGIN:VEVENT
DTSTART;TZID=America/New_York:20250408T183000
DTEND;TZID=America/New_York:20250408T200000
DTSTAMP:20260422T184851
CREATED:20241202T210539Z
LAST-MODIFIED:20250411T155603Z
UID:42979-1744137000-1744142400@www.frsuu.org
SUMMARY:Mystic Circles Group
DESCRIPTION:Tuesdays\, February 25\, March 11\, March 25\, April 8\, April 22\, May 6\, May 20\, June 3\, Lower Meetinghouse Main Room\, 6:30-8pm.
URL:https://www.frsuu.org/event/mystic-circles-group-2/2025-04-08/
LOCATION:LMH Main Room\, 26 Pleasant St\, Newburyport\, MA\, 01950\, United States
CATEGORIES:Spiritual Development
END:VEVENT
BEGIN:VEVENT
DTSTART;TZID=America/New_York:20250408T190000
DTEND;TZID=America/New_York:20250408T203000
DTSTAMP:20260422T184851
CREATED:20240614T153418Z
LAST-MODIFIED:20251007T183736Z
UID:40484-1744138800-1744144200@www.frsuu.org
SUMMARY:Alcoholic Anonymous Step Sisters
DESCRIPTION:Contact 508-215-9469; meets in the Parish Hall as of 10/7/25.
URL:https://www.frsuu.org/event/alcoholic-anonymous-step-sisters/2025-04-08/
LOCATION:Parish Hall 1st Floor
CATEGORIES:Recovery
END:VEVENT
BEGIN:VEVENT
DTSTART;TZID=America/New_York:20250409T100000
DTEND;TZID=America/New_York:20250409T103000
DTSTAMP:20260422T184851
CREATED:20240802T135026Z
LAST-MODIFIED:20250926T154253Z
UID:39944-1744192800-1744194600@www.frsuu.org
SUMMARY:Wednesday Guided Meditation (Zoom)
DESCRIPTION:Join FRS member and LICSW Woman Cooper on Wednesdays at 10am for a brief period of mid-week relaxation and renewal. Each 30-minute session will include a guided visualization and reflection on questions around where we hold stress and how we can release it. You’ll also learn some relaxation techniques to use on your own. This is a drop-in program; come one time or many. \nIf you’d like to reach out to Woman\, email susanc0805@gmail.com. \nJoin Zoom Meeting: \n\nhttps://us02web.zoom.us/j/87349458812?pwd=dXdIUVBJb0F1MnVjL0ZDakErVlRIdz09
URL:https://www.frsuu.org/event/wednesday-guided-relaxation-2/2025-04-09/
LOCATION:Zoom
CATEGORIES:Recovery
END:VEVENT
BEGIN:VEVENT
DTSTART;TZID=America/New_York:20250409T103000
DTEND;TZID=America/New_York:20250409T120000
DTSTAMP:20260422T184851
CREATED:20240904T201404Z
LAST-MODIFIED:20250610T172638Z
UID:40234-1744194600-1744200000@www.frsuu.org
SUMMARY:Worship Planning
DESCRIPTION:
URL:https://www.frsuu.org/event/worship-planning/2025-04-09/
LOCATION:LMH Main Room\, 26 Pleasant St\, Newburyport\, MA\, 01950\, United States
END:VEVENT
BEGIN:VEVENT
DTSTART;TZID=America/New_York:20250409T120000
DTEND;TZID=America/New_York:20250409T133000
DTSTAMP:20260422T184851
CREATED:20250327T143744Z
LAST-MODIFIED:20250327T150138Z
UID:45344-1744200000-1744205400@www.frsuu.org
SUMMARY:Retired Old Men Eating Out (ROMEO)
DESCRIPTION:Wednesday\, April 9\, The Grog\, 12pm. \nOur Officer of the Day is Tom Himmel. Please feel free to contact Tom (see Steeple newsletter for Tom’s email address) if you have any questions or concerns. No reservations are required\, but $$$ to pay your share of the tab is needed.
URL:https://www.frsuu.org/event/retired-old-men-eating-out-romeo-8/
LOCATION:The Grog\, 13 Middle St\, Newburyport\, MA\, 01950\, United States
ORGANIZER;CN="Ed Budelmann":MAILTO:edbudelmann@gmail.com
END:VEVENT
BEGIN:VEVENT
DTSTART;TZID=America/New_York:20250409T130000
DTEND;TZID=America/New_York:20250409T140000
DTSTAMP:20260422T184851
CREATED:20250404T183847Z
LAST-MODIFIED:20250404T183847Z
UID:45430-1744203600-1744207200@www.frsuu.org
SUMMARY:Reserved for Budget Work
DESCRIPTION:Wednesday\, April 9\, LMH Room A\, 1pm.
URL:https://www.frsuu.org/event/reserved-for-budget-work/
LOCATION:LMH Room A\, 26 Pleasant St\, Newburyport\, MA\, 01950\, United States
END:VEVENT
BEGIN:VEVENT
DTSTART;TZID=America/New_York:20250409T153000
DTEND;TZID=America/New_York:20250409T170000
DTSTAMP:20260422T184851
CREATED:20250225T200732Z
LAST-MODIFIED:20250225T200732Z
UID:44705-1744212600-1744218000@www.frsuu.org
SUMMARY:EET Steering Committee
DESCRIPTION:Second Wednesdays\, March 12 and April 9\, LMH Nursery/Conf Room\, 3:30-5pm. These are planning meetings.
URL:https://www.frsuu.org/event/eet-steering-committee-4/2025-04-09/
LOCATION:LMH Nursery/Conf Room
END:VEVENT
BEGIN:VEVENT
DTSTART;TZID=America/New_York:20250409T160000
DTEND;TZID=America/New_York:20250409T170000
DTSTAMP:20260422T184851
CREATED:20241121T201808Z
LAST-MODIFIED:20241121T201932Z
UID:42838-1744214400-1744218000@www.frsuu.org
SUMMARY:Safety Task Force Meeting
DESCRIPTION:Wednesday\, December 4; 2nd Wednesdays beginning in January\, LMH Room A\, 4-5pm.
URL:https://www.frsuu.org/event/safety-task-force-meeting-3/2025-04-09/
LOCATION:LMH Room A\, 26 Pleasant St\, Newburyport\, MA\, 01950\, United States
END:VEVENT
BEGIN:VEVENT
DTSTART;TZID=America/New_York:20250409T190000
DTEND;TZID=America/New_York:20250409T203000
DTSTAMP:20260422T184851
CREATED:20250304T203815Z
LAST-MODIFIED:20250318T134215Z
UID:44763-1744225200-1744230600@www.frsuu.org
SUMMARY:Green Team Meeting
DESCRIPTION:Wednesday\, April 9\, LMH Main Room\, 7-8:30pm.
URL:https://www.frsuu.org/event/hold-for-green-team/
LOCATION:LMH Main Room\, 26 Pleasant St\, Newburyport\, MA\, 01950\, United States
ORGANIZER;CN="Annie Madden":MAILTO:madden.anne.b@gmail.com
END:VEVENT
BEGIN:VEVENT
DTSTART;TZID=America/New_York:20250410T100000
DTEND;TZID=America/New_York:20250410T120000
DTSTAMP:20260422T184851
CREATED:20250115T150444Z
LAST-MODIFIED:20250417T203548Z
UID:43642-1744279200-1744286400@www.frsuu.org
SUMMARY:Chalice Circle
DESCRIPTION:Thursdays\, February 27 to May 29\, LMH Nursery/Conf Room\, 10am-noon.
URL:https://www.frsuu.org/event/hold-for-chalice-circle-2/2025-04-10/
LOCATION:LMH Nursery/Conf Room
END:VEVENT
BEGIN:VEVENT
DTSTART;TZID=America/New_York:20250410T120000
DTEND;TZID=America/New_York:20250410T130000
DTSTAMP:20260422T184851
CREATED:20250325T200054Z
LAST-MODIFIED:20250408T170258Z
UID:45328-1744286400-1744290000@www.frsuu.org
SUMMARY:Learn About the Refugee Immigration Ministry (RIM)
DESCRIPTION:Thursday\, April 10\, LMH Main Room\, 12-1pm. \nWhen immigrants to the United States apply for asylum\, they are not allowed to work for the following six months. How can they survive with no income? For 38 years\, RIM has engaged congregations in an interfaith support system for these people. FRSUU was once an integral part of RIM. Join this meeting to learn how you can help to revive our involvement with this important organization.
URL:https://www.frsuu.org/event/learn-about-the-refugee-immigration-ministry-rim/
LOCATION:LMH Main Room\, 26 Pleasant St\, Newburyport\, MA\, 01950\, United States
END:VEVENT
BEGIN:VEVENT
DTSTART;TZID=America/New_York:20250410T140000
DTEND;TZID=America/New_York:20250410T160000
DTSTAMP:20260422T184851
CREATED:20241008T151729Z
LAST-MODIFIED:20241022T135155Z
UID:41854-1744293600-1744300800@www.frsuu.org
SUMMARY:Reserved for Piano Practice
DESCRIPTION:Thursdays\, Sanctuary\, 2-4pm\, Gay Pearson
URL:https://www.frsuu.org/event/reserved-for-piano-rehearsal/2025-04-10/
LOCATION:FRS Sanctuary\, 26 Pleasant St\, Newburyport\, MA\, 01950\, United States
END:VEVENT
BEGIN:VEVENT
DTSTART;TZID=America/New_York:20250410T180000
DTEND;TZID=America/New_York:20250410T190000
DTSTAMP:20260422T184851
CREATED:20241018T165116Z
LAST-MODIFIED:20250210T164553Z
UID:42198-1744308000-1744311600@www.frsuu.org
SUMMARY:Mt. Pemigewassett Hikers
DESCRIPTION:Hayward Room
URL:https://www.frsuu.org/event/tentative-mt-pemigewassett-hikers/2025-04-10/
LOCATION:Hayward Room\, 26 Pleasant St\, Newburyport\, MA\, 01950\, United States
END:VEVENT
BEGIN:VEVENT
DTSTART;TZID=America/New_York:20250410T190000
DTEND;TZID=America/New_York:20250410T203000
DTSTAMP:20260422T184851
CREATED:20240830T152934Z
LAST-MODIFIED:20250527T194046Z
UID:40055-1744311600-1744317000@www.frsuu.org
SUMMARY:Adult Choir
DESCRIPTION:Thursdays\, LMH Main Room\, 7-8:30pm
URL:https://www.frsuu.org/event/adult-choir/2025-04-10/
LOCATION:LMH Main Room\, 26 Pleasant St\, Newburyport\, MA\, 01950\, United States
CATEGORIES:Music
END:VEVENT
BEGIN:VEVENT
DTSTART;TZID=America/New_York:20250411T100000
DTEND;TZID=America/New_York:20250411T113000
DTSTAMP:20260422T184851
CREATED:20240607T153804Z
LAST-MODIFIED:20251224T212315Z
UID:38349-1744365600-1744371000@www.frsuu.org
SUMMARY:Friday Book Group (Hybrid)
DESCRIPTION:Fridays\, LMH Room A\, 10-11:30am. \nWe meet weekly and read both fiction and non-fiction books chosen by participants. Each book is read and discussed over a period of several meetings\, with the reading for each determined by the group.
URL:https://www.frsuu.org/event/friday-book-group/2025-04-11/
LOCATION:LMH Room A\, 26 Pleasant St\, Newburyport\, MA\, 01950\, United States
END:VEVENT
BEGIN:VEVENT
DTSTART;TZID=America/New_York:20250411T160000
DTEND;TZID=America/New_York:20250411T170000
DTSTAMP:20260422T184851
CREATED:20241008T151939Z
LAST-MODIFIED:20241009T180036Z
UID:41893-1744387200-1744390800@www.frsuu.org
SUMMARY:Reserved for Piano Practice
DESCRIPTION:Gay Pearson piano practice\, every Friday\, 4-5pm\, Sanctuary
URL:https://www.frsuu.org/event/reserved-for-piano-rehearsal-2/2025-04-11/
LOCATION:FRS Sanctuary\, 26 Pleasant St\, Newburyport\, MA\, 01950\, United States
END:VEVENT
BEGIN:VEVENT
DTSTART;TZID=America/New_York:20250411T180000
DTEND;TZID=America/New_York:20250411T193000
DTSTAMP:20260422T184851
CREATED:20240906T220128Z
LAST-MODIFIED:20240906T220128Z
UID:40839-1744394400-1744399800@www.frsuu.org
SUMMARY:SMART Recovery (Contact: 678-378-0786)
DESCRIPTION:Meets weekly on Friday
URL:https://www.frsuu.org/event/smart-recovery-contact-678-378-0786-3/2025-04-11/
LOCATION:Hayward Room\, 26 Pleasant St\, Newburyport\, MA\, 01950\, United States
CATEGORIES:Recovery
END:VEVENT
BEGIN:VEVENT
DTSTART;TZID=America/New_York:20250412T080000
DTEND;TZID=America/New_York:20250412T110000
DTSTAMP:20260422T184851
CREATED:20240814T231956Z
LAST-MODIFIED:20250124T194139Z
UID:39795-1744444800-1744455600@www.frsuu.org
SUMMARY:Merrimack Valley Ship Model Club (MVSMC)
DESCRIPTION:Second Saturdays\, Lower Meetinghouse Main Room\, 8-11am.
URL:https://www.frsuu.org/event/merrimack-valley-ship-model-club-mvsmc/2025-04-12/
LOCATION:LMH Main Room\, 26 Pleasant St\, Newburyport\, MA\, 01950\, United States
END:VEVENT
BEGIN:VEVENT
DTSTART;TZID=America/New_York:20250412T160000
DTEND;TZID=America/New_York:20250412T190000
DTSTAMP:20260422T184851
CREATED:20240814T232151Z
LAST-MODIFIED:20260403T152255Z
UID:39651-1744473600-1744484400@www.frsuu.org
SUMMARY:Renaissance New England
DESCRIPTION:Meets Saturdays every other month\, Lower Meetinghouse Main Room\, 4pm.
URL:https://www.frsuu.org/event/renaissance-new-england/2025-04-12/
LOCATION:LMH Main Room\, 26 Pleasant St\, Newburyport\, MA\, 01950\, United States
END:VEVENT
BEGIN:VEVENT
DTSTART;TZID=America/New_York:20250413T093000
DTEND;TZID=America/New_York:20250413T103000
DTSTAMP:20260422T184851
CREATED:20250114T203759Z
LAST-MODIFIED:20250304T194023Z
UID:43605-1744536600-1744540200@www.frsuu.org
SUMMARY:Community Outreach Committee Meeting
DESCRIPTION:Second Sundays\, April 13\, May 11\, June 8\, LMH Room A\, 9:30-10:30am.
URL:https://www.frsuu.org/event/community-outreach-committee-meeting-2/2025-04-13/
LOCATION:LMH Room A\, 26 Pleasant St\, Newburyport\, MA\, 01950\, United States
END:VEVENT
BEGIN:VEVENT
DTSTART;TZID=America/New_York:20250413T100000
DTEND;TZID=America/New_York:20250413T113000
DTSTAMP:20260422T184851
CREATED:20240819T154433Z
LAST-MODIFIED:20240906T190651Z
UID:40423-1744538400-1744543800@www.frsuu.org
SUMMARY:Reserved for Nursery
DESCRIPTION:Reserved from 10:00am-11:30am
URL:https://www.frsuu.org/event/reserved-for-nursery/2025-04-13/
LOCATION:LMH Main Room\, 26 Pleasant St\, Newburyport\, MA\, 01950\, United States
CATEGORIES:Room Reservations
END:VEVENT
END:VCALENDAR