BEGIN:VCALENDAR
VERSION:2.0
PRODID:-//First Religious Society of Newburyport - ECPv6.15.20//NONSGML v1.0//EN
CALSCALE:GREGORIAN
METHOD:PUBLISH
X-ORIGINAL-URL:https://www.frsuu.org
X-WR-CALDESC:Events for First Religious Society of Newburyport
REFRESH-INTERVAL;VALUE=DURATION:PT1H
X-Robots-Tag:noindex
X-PUBLISHED-TTL:PT1H
BEGIN:VTIMEZONE
TZID:America/New_York
BEGIN:DAYLIGHT
TZOFFSETFROM:-0500
TZOFFSETTO:-0400
TZNAME:EDT
DTSTART:20240310T070000
END:DAYLIGHT
BEGIN:STANDARD
TZOFFSETFROM:-0400
TZOFFSETTO:-0500
TZNAME:EST
DTSTART:20241103T060000
END:STANDARD
BEGIN:DAYLIGHT
TZOFFSETFROM:-0500
TZOFFSETTO:-0400
TZNAME:EDT
DTSTART:20250309T070000
END:DAYLIGHT
BEGIN:STANDARD
TZOFFSETFROM:-0400
TZOFFSETTO:-0500
TZNAME:EST
DTSTART:20251102T060000
END:STANDARD
BEGIN:DAYLIGHT
TZOFFSETFROM:-0500
TZOFFSETTO:-0400
TZNAME:EDT
DTSTART:20260308T070000
END:DAYLIGHT
BEGIN:STANDARD
TZOFFSETFROM:-0400
TZOFFSETTO:-0500
TZNAME:EST
DTSTART:20261101T060000
END:STANDARD
END:VTIMEZONE
BEGIN:VEVENT
DTSTART;TZID=America/New_York:20250331T093000
DTEND;TZID=America/New_York:20250331T103000
DTSTAMP:20260420T035330
CREATED:20241217T170448Z
LAST-MODIFIED:20250115T144346Z
UID:43495-1743413400-1743417000@www.frsuu.org
SUMMARY:Annual Campaign Core Team
DESCRIPTION:Alternating Mondays\, starting February 3\, Room A\, 9:30am.
URL:https://www.frsuu.org/event/annual-campaign-core-team/2025-03-31/
LOCATION:LMH Room A\, 26 Pleasant St\, Newburyport\, MA\, 01950\, United States
END:VEVENT
BEGIN:VEVENT
DTSTART;TZID=America/New_York:20250331T100000
DTEND;TZID=America/New_York:20250331T113000
DTSTAMP:20260420T035330
CREATED:20250321T154100Z
LAST-MODIFIED:20250321T154545Z
UID:45211-1743415200-1743420600@www.frsuu.org
SUMMARY:Transgender Day of Visibility Flag Raising
DESCRIPTION:Monday\, March 31\, Newburyport City Hall\, 10am. \nYou are invited to join members of the LGBTQIA+ community and allies at the second annual Transgender Day of Visibility flag raising at the Newburyport City Hall on Monday\, March 31 at 10 am. Founded in 2009\, Transgender Day of Visibility is an annual event observed internationally that aims to celebrate transgender people and their contributions while raising awareness about the discrimination and challenges that transgender\, nonbinary\, and gender nonconforming people face. For those who do not identify as trans or nonbinary\, this is an opportunity to show support loudly and proudly for a community that is confronting hate\, mis- and disinformation\, and unprecedented legislative and executive efforts to disempower\, invalidate\, and marginalize. \nRev. Rebecca will offer a blessing at the flag raising. \n 
URL:https://www.frsuu.org/event/transgender-day-of-visibility-flag-raising/
LOCATION:Newburyport City Hall\, 60 Pleasant St\, Newburyport\, MA\, United States
CATEGORIES:Justice Action MInistry
END:VEVENT
BEGIN:VEVENT
DTSTART;TZID=America/New_York:20250331T140000
DTEND;TZID=America/New_York:20250331T160000
DTSTAMP:20260420T035330
CREATED:20250116T183508Z
LAST-MODIFIED:20250417T204037Z
UID:43727-1743429600-1743436800@www.frsuu.org
SUMMARY:Chalice Circle
DESCRIPTION:Mondays\, February 17 to May 5\, LMH Room A\, 2-4pm.
URL:https://www.frsuu.org/event/hold-for-chalice-circle-4/2025-03-31/
LOCATION:LMH Room A\, 26 Pleasant St\, Newburyport\, MA\, 01950\, United States
END:VEVENT
BEGIN:VEVENT
DTSTART;TZID=America/New_York:20250331T183000
DTEND;TZID=America/New_York:20250331T193000
DTSTAMP:20260420T035330
CREATED:20240605T195817Z
LAST-MODIFIED:20250502T185559Z
UID:38218-1743445800-1743449400@www.frsuu.org
SUMMARY:Monday Evening Meditation (In Person)
DESCRIPTION:Monday Night Meditation at 6:30pm in Lower Meeting House (enter via Unicorn Street entrance). These weekly sessions are led by Joyce Haydock\, Senior Dharma Teacher with the International Kwan Um School of Zen. She has been with the school since 1989. This FRSUU Monday group was established over ten years ago. Our sessions consist of two or three chants\, two readings/teachings and 30 minutes of sitting meditation. Beginners are welcome. \nContact Joyce at 978-363-5457 or email joycehaydock@outlook.com to be added to our list and receive access information. \n  \n 
URL:https://www.frsuu.org/event/monday-evening-meditation-in-person/2025-03-31/
LOCATION:Lower Meetinghouse\, 26 Pleasant St\, Newburyport\, MA\, 01950\, United States
ORGANIZER;CN="Joyce Haydock":MAILTO:joycehaydock@outlook.com
END:VEVENT
BEGIN:VEVENT
DTSTART;TZID=America/New_York:20250331T184500
DTEND;TZID=America/New_York:20250331T200000
DTSTAMP:20260420T035330
CREATED:20240614T153123Z
LAST-MODIFIED:20240614T153538Z
UID:38699-1743446700-1743451200@www.frsuu.org
SUMMARY:Adult Children of Alcoholics
DESCRIPTION:Meets in the Hayward Room
URL:https://www.frsuu.org/event/adult-children-of-alcoholics-3/2025-03-31/
LOCATION:Hayward Room\, 26 Pleasant St\, Newburyport\, MA\, 01950\, United States
CATEGORIES:Recovery
END:VEVENT
BEGIN:VEVENT
DTSTART;TZID=America/New_York:20250331T190000
DTEND;TZID=America/New_York:20250331T200000
DTSTAMP:20260420T035330
CREATED:20250110T154224Z
LAST-MODIFIED:20250110T204206Z
UID:43533-1743447600-1743451200@www.frsuu.org
SUMMARY:Congregational-Wide Read and Discussion - In Person
DESCRIPTION:Sanctuary\, 7-8pm (in person on 2/3 and 3/31 only) \nWe will be reading Caste: The Origins of Our Discontents by Isabel Wilkerson \nIsabel Wilkerson explores how America has been shaped by a caste system that influences people’s lives and behavior and our nation’s fate. Linking the caste systems of America\, India\, and Nazi Germany\, Wilkerson explores eight pillars that underlie caste systems across civilizations\, including divine will\, bloodlines\, stigma\, and more. Using riveting stories about people—including Martin Luther King\, Jr.\, baseball’s Satchel Paige\, a single father and his toddler son\, Wilkerson herself\, and many others—she shows the ways that the insidious undertow of caste is experienced every day. She documents how the Nazis studied the racial systems in America to plan their persecution of the Jews. Finally\, she points forward to ways America can move beyond the artificial and destructive separations of human divisions\, toward hope in our common humanity. \nIn February and March\, the FRS Anti-Racism Team will be hosting a congregational-wide read and facilitated discussion of Caste. \nA Facilitated Group Discussion in Six Sessions: \nMonday\, February 3 – In Person\, 7:00 PM in the Sanctuary \nSunday\, February 9 – Zoom\, 7:00 PM \nMonday\, February 24 – Zoom\, 7:00 PM \nMonday\, March 3 – Zoom\, 7:00 PM \nMonday\, March 10 – Zoom\, 7:00 PM \nMonday\, March 24 – Zoom\, 7:00 PM \nMonday\, March 31 – In Person\, 7:00 PM in the Sanctuary \nIn each session we will have discussion questions that address specific sections of the book and help us better understand how we as a community can live into the 8th Principle we adopted in 2024. \nBooks are available for purchase at the Jabberwocky Bookstore in Newburyport\, to borrow at the Newburyport Library\, and a small amount are available at church. If you would like to participate\, but need support with the cost of the book\, please speak with Rev. Laurel Gray (revlaurel.gray@frsuu.org). We will have a small number of books available at no cost. \nJoin us in this important journey by signing up\, either in the Parish Hall or online @: https://forms.office.com/r/qiKFq8Azab
URL:https://www.frsuu.org/event/congregational-wide-read-and-discussion-in-person/2025-03-31/
LOCATION:FRS Sanctuary\, 26 Pleasant St\, Newburyport\, MA\, 01950\, United States
CATEGORIES:300th Anniversary,Justice Action MInistry
END:VEVENT
BEGIN:VEVENT
DTSTART;TZID=America/New_York:20250401T110000
DTEND;TZID=America/New_York:20250401T114500
DTSTAMP:20260420T035330
CREATED:20250320T213205Z
LAST-MODIFIED:20251113T194719Z
UID:44999-1743505200-1743507900@www.frsuu.org
SUMMARY:FRSUU Poetry Group (Zoom)
DESCRIPTION:All who love poetry\, and who enjoy listening to poetry are invited to join the FRSUU Poetry Group. This poetry listening and appreciation group meets on Tuesday mornings for 45 minutes via Zoom. We read the same poem several times\, respond to prompts\, and share perspectives\, wisdom\, humor\, and collegiality. There is no poetry writing in this group. Please join us and give your soul and psyche the gift of poetry on a Tuesday morning. \nThis group is facilitated by Rev. Jane Tuohy.\n\nJoin Zoom Meeting \nhttps://zoom.us/j/94623863916?pwd=ufFubM2s4b4YAjU2la9RPOy25lM6Hy.1
URL:https://www.frsuu.org/event/frs-poetry-group/2025-04-01/
LOCATION:Zoom
CATEGORIES:Spiritual Development
END:VEVENT
BEGIN:VEVENT
DTSTART;TZID=America/New_York:20250401T120000
DTEND;TZID=America/New_York:20250401T130000
DTSTAMP:20260420T035330
CREATED:20240802T132707Z
LAST-MODIFIED:20241022T223854Z
UID:39474-1743508800-1743512400@www.frsuu.org
SUMMARY:Short Story Group
DESCRIPTION:The Tuesday Short Story Group meets on the 1st and 3rd Tuesdays of the month\, noon\, Lower Meeting House (with a Zoom option available). \nFor more information please visit: https://www.frsuu.org/short-story-group/
URL:https://www.frsuu.org/event/tuesday-short-story-group-2/2025-04-01/
LOCATION:LMH Room A\, 26 Pleasant St\, Newburyport\, MA\, 01950\, United States
CATEGORIES:Community Events
ORGANIZER;CN="Tom Himmel":MAILTO:thimmel43@mac.com
END:VEVENT
BEGIN:VEVENT
DTSTART;TZID=America/New_York:20250401T180000
DTEND;TZID=America/New_York:20250401T200000
DTSTAMP:20260420T035330
CREATED:20250122T205150Z
LAST-MODIFIED:20250417T203034Z
UID:43907-1743530400-1743537600@www.frsuu.org
SUMMARY:Chalice Circle
DESCRIPTION:Tuesdays\, February 25 to May 13\, LMH Nursery/Conf Room\, 6-8pm
URL:https://www.frsuu.org/event/hold-for-chalice-circle-5/2025-04-01/
LOCATION:LMH Nursery/Conf Room
END:VEVENT
BEGIN:VEVENT
DTSTART;TZID=America/New_York:20250401T180000
DTEND;TZID=America/New_York:20250401T200000
DTSTAMP:20260420T035330
CREATED:20250128T170809Z
LAST-MODIFIED:20250324T182956Z
UID:44116-1743530400-1743537600@www.frsuu.org
SUMMARY:Chalice Circle (Zoom)
DESCRIPTION:Tuesdays\, February 25 to May 27\, 6-8pm\, Zoom only.
URL:https://www.frsuu.org/event/hold-for-chalice-circle-zoom/2025-04-01/
LOCATION:Zoom
END:VEVENT
BEGIN:VEVENT
DTSTART;TZID=America/New_York:20250401T190000
DTEND;TZID=America/New_York:20250401T203000
DTSTAMP:20260420T035330
CREATED:20240614T153418Z
LAST-MODIFIED:20251007T183735Z
UID:40483-1743534000-1743539400@www.frsuu.org
SUMMARY:Alcoholic Anonymous Step Sisters
DESCRIPTION:Contact 508-215-9469; meets in the Parish Hall as of 10/7/25.
URL:https://www.frsuu.org/event/alcoholic-anonymous-step-sisters/2025-04-01/
LOCATION:Parish Hall 1st Floor
CATEGORIES:Recovery
END:VEVENT
BEGIN:VEVENT
DTSTART;TZID=America/New_York:20250402T080000
DTEND;TZID=America/New_York:20250402T093000
DTSTAMP:20260420T035330
CREATED:20250401T160745Z
LAST-MODIFIED:20250401T160745Z
UID:45393-1743580800-1743586200@www.frsuu.org
SUMMARY:Facilities Meeting
DESCRIPTION:Wednesday\, April 2 – Room A – 8:15-9:15am
URL:https://www.frsuu.org/event/facilities-meeting/
LOCATION:LMH Room A\, 26 Pleasant St\, Newburyport\, MA\, 01950\, United States
END:VEVENT
BEGIN:VEVENT
DTSTART;TZID=America/New_York:20250402T090000
DTEND;TZID=America/New_York:20250402T100000
DTSTAMP:20260420T035330
CREATED:20241106T143709Z
LAST-MODIFIED:20241106T143709Z
UID:42933-1743584400-1743588000@www.frsuu.org
SUMMARY:4th Century Visioning Team (Hybrid)
DESCRIPTION:Meets 1st Wednesdays\, LMH Main Room\, 9-10am (Hybrid).
URL:https://www.frsuu.org/event/4th-century-visioning-team-hybrid/2025-04-02/
LOCATION:MA
END:VEVENT
BEGIN:VEVENT
DTSTART;TZID=America/New_York:20250402T100000
DTEND;TZID=America/New_York:20250402T103000
DTSTAMP:20260420T035330
CREATED:20240802T135026Z
LAST-MODIFIED:20250926T154252Z
UID:39943-1743588000-1743589800@www.frsuu.org
SUMMARY:Wednesday Guided Meditation (Zoom)
DESCRIPTION:Join FRS member and LICSW Woman Cooper on Wednesdays at 10am for a brief period of mid-week relaxation and renewal. Each 30-minute session will include a guided visualization and reflection on questions around where we hold stress and how we can release it. You’ll also learn some relaxation techniques to use on your own. This is a drop-in program; come one time or many. \nIf you’d like to reach out to Woman\, email susanc0805@gmail.com. \nJoin Zoom Meeting: \n\nhttps://us02web.zoom.us/j/87349458812?pwd=dXdIUVBJb0F1MnVjL0ZDakErVlRIdz09
URL:https://www.frsuu.org/event/wednesday-guided-relaxation-2/2025-04-02/
LOCATION:Zoom
CATEGORIES:Recovery
END:VEVENT
BEGIN:VEVENT
DTSTART;TZID=America/New_York:20250402T103000
DTEND;TZID=America/New_York:20250402T120000
DTSTAMP:20260420T035330
CREATED:20240904T195905Z
LAST-MODIFIED:20250604T134207Z
UID:40213-1743589800-1743595200@www.frsuu.org
SUMMARY:Staff Meeting
DESCRIPTION:
URL:https://www.frsuu.org/event/staff-meeting-4/2025-04-02/
LOCATION:LMH Main Room\, 26 Pleasant St\, Newburyport\, MA\, 01950\, United States
END:VEVENT
BEGIN:VEVENT
DTSTART;TZID=America/New_York:20250402T120000
DTEND;TZID=America/New_York:20250402T133000
DTSTAMP:20260420T035330
CREATED:20250321T145318Z
LAST-MODIFIED:20250321T145318Z
UID:45209-1743595200-1743600600@www.frsuu.org
SUMMARY:Ladies Who Lunch
DESCRIPTION:Wednesday\, April 2\, Michael’s Harborside\, noon-1:30pm. \nJoin us at our monthly gathering for good food and conversation. Contact phone Annie Maurer if you plan to attend.
URL:https://www.frsuu.org/event/ladies-who-lunch-4/
LOCATION:Michael’s Harborside Restaurant & Bar\, 1 Tournament Wharft\, Newburyport\, MA\, 01950\, United States
END:VEVENT
BEGIN:VEVENT
DTSTART;TZID=America/New_York:20250402T133000
DTEND;TZID=America/New_York:20250402T150000
DTSTAMP:20260420T035330
CREATED:20250220T151522Z
LAST-MODIFIED:20250220T151522Z
UID:44638-1743600600-1743606000@www.frsuu.org
SUMMARY:Justice Action Council Meeting
DESCRIPTION:Wednesday\, April 2\, LMH Main Room\, 1:30-3pm.
URL:https://www.frsuu.org/event/justice-action-council-meeting-2/
LOCATION:LMH Main Room\, 26 Pleasant St\, Newburyport\, MA\, 01950\, United States
END:VEVENT
BEGIN:VEVENT
DTSTART;TZID=America/New_York:20250402T150000
DTEND;TZID=America/New_York:20250402T160000
DTSTAMP:20260420T035330
CREATED:20240802T134035Z
LAST-MODIFIED:20241121T222100Z
UID:40348-1743606000-1743609600@www.frsuu.org
SUMMARY:Addictions Ministry Team
DESCRIPTION:The Addictions Ministry Team occurs monthly on the first Wednesday from 3:00pm-4:00pm in the LMH Nursery/Conference Room.
URL:https://www.frsuu.org/event/addictions-team-meeting/2025-04-02/
LOCATION:LMH Nursery/Conf Room
CATEGORIES:Spiritual Development
END:VEVENT
BEGIN:VEVENT
DTSTART;TZID=America/New_York:20250402T183000
DTEND;TZID=America/New_York:20250402T200000
DTSTAMP:20260420T035330
CREATED:20241017T192455Z
LAST-MODIFIED:20241122T221928Z
UID:42724-1743618600-1743624000@www.frsuu.org
SUMMARY:Stewardship Meeting (Zoom)
DESCRIPTION:Meets on the second Wednesday of each month at 6:30pm on Zoom.
URL:https://www.frsuu.org/event/stewardship-meeting-2/2025-04-02/
LOCATION:Zoom
END:VEVENT
BEGIN:VEVENT
DTSTART;TZID=America/New_York:20250403T100000
DTEND;TZID=America/New_York:20250403T120000
DTSTAMP:20260420T035330
CREATED:20250115T150444Z
LAST-MODIFIED:20250417T203547Z
UID:43641-1743674400-1743681600@www.frsuu.org
SUMMARY:Chalice Circle
DESCRIPTION:Thursdays\, February 27 to May 29\, LMH Nursery/Conf Room\, 10am-noon.
URL:https://www.frsuu.org/event/hold-for-chalice-circle-2/2025-04-03/
LOCATION:LMH Nursery/Conf Room
END:VEVENT
BEGIN:VEVENT
DTSTART;TZID=America/New_York:20250403T130000
DTEND;TZID=America/New_York:20250403T140000
DTSTAMP:20260420T035330
CREATED:20240906T141641Z
LAST-MODIFIED:20241104T145429Z
UID:40292-1743685200-1743688800@www.frsuu.org
SUMMARY:Executive Committee Meeting
DESCRIPTION:Meets 1st Thursday\, 1-2pm\, LMH Room A.
URL:https://www.frsuu.org/event/executive-committee-meeting/2025-04-03/
LOCATION:LMH Room A\, 26 Pleasant St\, Newburyport\, MA\, 01950\, United States
END:VEVENT
BEGIN:VEVENT
DTSTART;TZID=America/New_York:20250403T140000
DTEND;TZID=America/New_York:20250403T160000
DTSTAMP:20260420T035330
CREATED:20241008T151729Z
LAST-MODIFIED:20241022T135154Z
UID:41853-1743688800-1743696000@www.frsuu.org
SUMMARY:Reserved for Piano Practice
DESCRIPTION:Thursdays\, Sanctuary\, 2-4pm\, Gay Pearson
URL:https://www.frsuu.org/event/reserved-for-piano-rehearsal/2025-04-03/
LOCATION:FRS Sanctuary\, 26 Pleasant St\, Newburyport\, MA\, 01950\, United States
END:VEVENT
BEGIN:VEVENT
DTSTART;TZID=America/New_York:20250403T180000
DTEND;TZID=America/New_York:20250403T193000
DTSTAMP:20260420T035330
CREATED:20250401T204901Z
LAST-MODIFIED:20250401T204934Z
UID:45400-1743703200-1743708600@www.frsuu.org
SUMMARY:Big Questions Discussion Group with Rev. Laurel
DESCRIPTION:First Thursdays\, LMH Nursery/Conf Room\, 6-7:30pm. \nJoin Rev. Laurel for an informal monthly conversation in which we ponder the mysteries of life’s big questions. What is evil? Is goodness inherent? What happens when we die? Bring your questions and your curiosity.
URL:https://www.frsuu.org/event/big-questions-discussion-group-with-rev-laurel/2025-04-03/
LOCATION:LMH Nursery/Conf Room
END:VEVENT
BEGIN:VEVENT
DTSTART;TZID=America/New_York:20250403T190000
DTEND;TZID=America/New_York:20250403T203000
DTSTAMP:20260420T035330
CREATED:20240830T152934Z
LAST-MODIFIED:20250527T194045Z
UID:40054-1743706800-1743712200@www.frsuu.org
SUMMARY:Adult Choir
DESCRIPTION:Thursdays\, LMH Main Room\, 7-8:30pm
URL:https://www.frsuu.org/event/adult-choir/2025-04-03/
LOCATION:LMH Main Room\, 26 Pleasant St\, Newburyport\, MA\, 01950\, United States
CATEGORIES:Music
END:VEVENT
BEGIN:VEVENT
DTSTART;TZID=America/New_York:20250404T100000
DTEND;TZID=America/New_York:20250404T113000
DTSTAMP:20260420T035330
CREATED:20240607T153804Z
LAST-MODIFIED:20251224T212315Z
UID:38348-1743760800-1743766200@www.frsuu.org
SUMMARY:Friday Book Group (Hybrid)
DESCRIPTION:Fridays\, LMH Room A\, 10-11:30am. \nWe meet weekly and read both fiction and non-fiction books chosen by participants. Each book is read and discussed over a period of several meetings\, with the reading for each determined by the group.
URL:https://www.frsuu.org/event/friday-book-group/2025-04-04/
LOCATION:LMH Room A\, 26 Pleasant St\, Newburyport\, MA\, 01950\, United States
END:VEVENT
BEGIN:VEVENT
DTSTART;TZID=America/New_York:20250404T160000
DTEND;TZID=America/New_York:20250404T170000
DTSTAMP:20260420T035330
CREATED:20241008T151939Z
LAST-MODIFIED:20241009T180036Z
UID:41892-1743782400-1743786000@www.frsuu.org
SUMMARY:Reserved for Piano Practice
DESCRIPTION:Gay Pearson piano practice\, every Friday\, 4-5pm\, Sanctuary
URL:https://www.frsuu.org/event/reserved-for-piano-rehearsal-2/2025-04-04/
LOCATION:FRS Sanctuary\, 26 Pleasant St\, Newburyport\, MA\, 01950\, United States
END:VEVENT
BEGIN:VEVENT
DTSTART;TZID=America/New_York:20250404T180000
DTEND;TZID=America/New_York:20250404T193000
DTSTAMP:20260420T035330
CREATED:20240906T220128Z
LAST-MODIFIED:20240906T220128Z
UID:40838-1743789600-1743795000@www.frsuu.org
SUMMARY:SMART Recovery (Contact: 678-378-0786)
DESCRIPTION:Meets weekly on Friday
URL:https://www.frsuu.org/event/smart-recovery-contact-678-378-0786-3/2025-04-04/
LOCATION:Hayward Room\, 26 Pleasant St\, Newburyport\, MA\, 01950\, United States
CATEGORIES:Recovery
END:VEVENT
BEGIN:VEVENT
DTSTART;TZID=America/New_York:20250405T160000
DTEND;TZID=America/New_York:20250406T080000
DTSTAMP:20260420T035330
CREATED:20250209T181223Z
LAST-MODIFIED:20250209T181223Z
UID:44432-1743868800-1743926400@www.frsuu.org
SUMMARY:Reserved for Youth Group
DESCRIPTION:Saturday\, April 5\, Sanctuary and Lower Meetinghouse\, 4pm.
URL:https://www.frsuu.org/event/reserved-for-youth-group/
LOCATION:FRS Sanctuary\, 26 Pleasant St\, Newburyport\, MA\, 01950\, United States
ORGANIZER;CN="Mara Flynn":MAILTO:mara.flynn@frsuu.org
END:VEVENT
BEGIN:VEVENT
DTSTART;TZID=America/New_York:20250406T080000
DTEND;TZID=America/New_York:20250406T090000
DTSTAMP:20260420T035330
CREATED:20240814T230328Z
LAST-MODIFIED:20240814T230328Z
UID:43116-1743926400-1743930000@www.frsuu.org
SUMMARY:Contemplative Worship at FRS: Touching the Sacred Within
DESCRIPTION:Sanctuary\, first Sunday of the month\, led by Rev. Alan Seale. \nContemplation has been described as “a long loving look at the real” and “a pure intuition of being\, born of love” (21st-century mystic William McNamara). \nJoin Rev. Alan Seale at 8am on the first Sunday of the month for a half-hour contemplative worship experience—a space and time to be present with the simplicities and complexities of life in the quiet embrace of the FRS Sanctuary. \nThe sanctuary will be open to welcome you from 7:50am. The service will include quiet piano music\, a brief message or reading\, and periods of silent reflection and meditation. If this contemplative worship experience calls out to you\, we hope you will join us.
URL:https://www.frsuu.org/event/contemplative-worship/2025-04-06/
LOCATION:FRS Sanctuary\, 26 Pleasant St\, Newburyport\, MA\, 01950\, United States
CATEGORIES:Worship
END:VEVENT
BEGIN:VEVENT
DTSTART;TZID=America/New_York:20250406T100000
DTEND;TZID=America/New_York:20250406T113000
DTSTAMP:20260420T035330
CREATED:20240819T154433Z
LAST-MODIFIED:20240906T190650Z
UID:40422-1743933600-1743939000@www.frsuu.org
SUMMARY:Reserved for Nursery
DESCRIPTION:Reserved from 10:00am-11:30am
URL:https://www.frsuu.org/event/reserved-for-nursery/2025-04-06/
LOCATION:LMH Main Room\, 26 Pleasant St\, Newburyport\, MA\, 01950\, United States
CATEGORIES:Room Reservations
END:VEVENT
END:VCALENDAR