BEGIN:VCALENDAR
VERSION:2.0
PRODID:-//First Religious Society of Newburyport - ECPv6.15.20//NONSGML v1.0//EN
CALSCALE:GREGORIAN
METHOD:PUBLISH
X-ORIGINAL-URL:https://www.frsuu.org
X-WR-CALDESC:Events for First Religious Society of Newburyport
REFRESH-INTERVAL;VALUE=DURATION:PT1H
X-Robots-Tag:noindex
X-PUBLISHED-TTL:PT1H
BEGIN:VTIMEZONE
TZID:America/New_York
BEGIN:DAYLIGHT
TZOFFSETFROM:-0500
TZOFFSETTO:-0400
TZNAME:EDT
DTSTART:20240310T070000
END:DAYLIGHT
BEGIN:STANDARD
TZOFFSETFROM:-0400
TZOFFSETTO:-0500
TZNAME:EST
DTSTART:20241103T060000
END:STANDARD
BEGIN:DAYLIGHT
TZOFFSETFROM:-0500
TZOFFSETTO:-0400
TZNAME:EDT
DTSTART:20250309T070000
END:DAYLIGHT
BEGIN:STANDARD
TZOFFSETFROM:-0400
TZOFFSETTO:-0500
TZNAME:EST
DTSTART:20251102T060000
END:STANDARD
BEGIN:DAYLIGHT
TZOFFSETFROM:-0500
TZOFFSETTO:-0400
TZNAME:EDT
DTSTART:20260308T070000
END:DAYLIGHT
BEGIN:STANDARD
TZOFFSETFROM:-0400
TZOFFSETTO:-0500
TZNAME:EST
DTSTART:20261101T060000
END:STANDARD
END:VTIMEZONE
BEGIN:VEVENT
DTSTART;TZID=America/New_York:20251015T180000
DTEND;TZID=America/New_York:20251015T200000
DTSTAMP:20260420T182107
CREATED:20250829T144048Z
LAST-MODIFIED:20250829T144048Z
UID:47371-1760551200-1760558400@www.frsuu.org
SUMMARY:Parish Board Meeting
DESCRIPTION:Third Wednesdays\, LMH Main Room\, 6-8pm\, hybrid
URL:https://www.frsuu.org/event/parish-board-meeting-2/2025-10-15/
LOCATION:LMH Main Room\, 26 Pleasant St\, Newburyport\, MA\, 01950\, United States
END:VEVENT
BEGIN:VEVENT
DTSTART;TZID=America/New_York:20251015T183000
DTEND;TZID=America/New_York:20251015T193000
DTSTAMP:20260420T182107
CREATED:20250923T175123Z
LAST-MODIFIED:20250923T175123Z
UID:48231-1760553000-1760556600@www.frsuu.org
SUMMARY:FUNraising Team Meeting (Zoom)
DESCRIPTION:Weekly on Wednesdays\, October 1 – November 5\, 6:30 pm on Zoom only.
URL:https://www.frsuu.org/event/funraising-team-meeting-zoom/2025-10-15/
LOCATION:Zoom
END:VEVENT
BEGIN:VEVENT
DTSTART;TZID=America/New_York:20251016T093000
DTEND;TZID=America/New_York:20251016T103000
DTSTAMP:20260420T182107
CREATED:20250910T174602Z
LAST-MODIFIED:20250910T174603Z
UID:47714-1760607000-1760610600@www.frsuu.org
SUMMARY:Parish Friends Third Thursday
DESCRIPTION:Thursday\, October 16\, LMH Nursery/Conf Room\, 9:30-10:30am. \nPilot for a possible monthly Parish Friends somewhat casual morning meeting over tea and coffee. An opportunity to meet other Parish Friends\, ask questions\, and brainstorm. If interested in simply learning more about Parish Friends\, this would be a great forum. We realize mornings don’t work for everyone. If you are wanting to attend\, but not able to\, or have questions\, contact Susan Ricker at parishfriends@frsuu.org or use her personal contact information in the FRSUU Realm directory. We also have our fall meeting on Tuesday evening\, October 14\, at 6:30 pm.
URL:https://www.frsuu.org/event/parish-friends-third-thursday/
LOCATION:LMH Nursery/Conf Room
CATEGORIES:Volunteer
END:VEVENT
BEGIN:VEVENT
DTSTART;TZID=America/New_York:20251016T130000
DTEND;TZID=America/New_York:20251016T143000
DTSTAMP:20260420T182107
CREATED:20250922T184204Z
LAST-MODIFIED:20250922T184205Z
UID:48166-1760619600-1760625000@www.frsuu.org
SUMMARY:Exploring Elderhood Together
DESCRIPTION:Thursday\, October 16\, LMH Main Room\, 1-2:30pm. \nJoin Exploring Elderhood Together for the first presentation of the church year: Let’s Talk about Posture. \nAging with aligned posture is critical to aging well. Misaligned posture such as rounding forward (otherwise known as the way most of us age) is associated with pain and a multitude of health problems. In this presentation\, you will learn how the nervous system controls posture\, balance\, and movement. We can use this understanding to make improvements in neuromuscular function\, which can help us maintain a more active lifestyle and positively impact longevity. \nOur presenter:\nJackie Orent-Nathan is a Nurse Practitioner specializing in the neuroscience of posture\, balance\, and movement\, as well as the management of chronic pain. Following a long career managing patients with chronic pain within a primary care practice\, she now lectures and teaches classes about how to calm an overprotective nervous system to manage pain\, and how to support the nervous system to improve posture\, balance\, and movement.
URL:https://www.frsuu.org/event/exploring-elderhood-together-6/
LOCATION:LMH Main Room\, 26 Pleasant St\, Newburyport\, MA\, 01950\, United States
END:VEVENT
BEGIN:VEVENT
DTSTART;TZID=America/New_York:20251016T190000
DTEND;TZID=America/New_York:20251016T203000
DTSTAMP:20260420T182107
CREATED:20250124T200119Z
LAST-MODIFIED:20260417T150534Z
UID:48957-1760641200-1760646600@www.frsuu.org
SUMMARY:Adult Choir
DESCRIPTION:Thursdays\, LMH Main Room\, 7-8:30pm.
URL:https://www.frsuu.org/event/adult-choir-2/2025-10-16/
LOCATION:LMH Main Room\, 26 Pleasant St\, Newburyport\, MA\, 01950\, United States
END:VEVENT
BEGIN:VEVENT
DTSTART;TZID=America/New_York:20251017T093000
DTEND;TZID=America/New_York:20251017T223000
DTSTAMP:20260420T182107
CREATED:20251015T173624Z
LAST-MODIFIED:20251015T173624Z
UID:49003-1760693400-1760740200@www.frsuu.org
SUMMARY:Afghan Support Group
DESCRIPTION:Friday\, October 17\, LMH Nursery/Conf Room\, 9:30-10:30am
URL:https://www.frsuu.org/event/afghan-support-group-2/
LOCATION:LMH Nursery/Conf Room
END:VEVENT
BEGIN:VEVENT
DTSTART;TZID=America/New_York:20251017T100000
DTEND;TZID=America/New_York:20251017T113000
DTSTAMP:20260420T182107
CREATED:20240607T153804Z
LAST-MODIFIED:20251224T212335Z
UID:46378-1760695200-1760700600@www.frsuu.org
SUMMARY:Friday Book Group (Hybrid)
DESCRIPTION:Fridays\, LMH Room A\, 10-11:30am. \nWe meet weekly and read both fiction and non-fiction books chosen by participants. Each book is read and discussed over a period of several meetings\, with the reading for each determined by the group.
URL:https://www.frsuu.org/event/friday-book-group/2025-10-17/
LOCATION:LMH Room A\, 26 Pleasant St\, Newburyport\, MA\, 01950\, United States
END:VEVENT
BEGIN:VEVENT
DTSTART;TZID=America/New_York:20251017T110000
DTEND;TZID=America/New_York:20251017T120000
DTSTAMP:20260420T182107
CREATED:20250903T210908Z
LAST-MODIFIED:20260107T181539Z
UID:47389-1760698800-1760702400@www.frsuu.org
SUMMARY:Friday Peace Vigil (offsite)
DESCRIPTION:Every Friday\, Market Square Bullnose\, 11am. \nRev. Rebecca leads this weekly gathering to reflect on and remember our commitment to peace\, love\, and compassion as we navigate the turbulence and daily horrors of our troubled world.
URL:https://www.frsuu.org/event/friday-peace-vigil-offsite/2025-10-17/
LOCATION:Market Square Bullnose\, Newburyport\, 01950\, United States
END:VEVENT
BEGIN:VEVENT
DTSTART;TZID=America/New_York:20251017T180000
DTEND;TZID=America/New_York:20251017T193000
DTSTAMP:20260420T182107
CREATED:20240906T220128Z
LAST-MODIFIED:20240906T220128Z
UID:40866-1760724000-1760729400@www.frsuu.org
SUMMARY:SMART Recovery (Contact: 678-378-0786)
DESCRIPTION:Meets weekly on Friday
URL:https://www.frsuu.org/event/smart-recovery-contact-678-378-0786-3/2025-10-17/
LOCATION:Hayward Room\, 26 Pleasant St\, Newburyport\, MA\, 01950\, United States
CATEGORIES:Recovery
END:VEVENT
BEGIN:VEVENT
DTSTART;TZID=America/New_York:20251017T193000
DTEND;TZID=America/New_York:20251017T210000
DTSTAMP:20260420T182107
CREATED:20250124T195516Z
LAST-MODIFIED:20251016T162742Z
UID:43992-1760729400-1760734800@www.frsuu.org
SUMMARY:300th Anniversary Play: "Her Own Sweet Voice"
DESCRIPTION:Performance Times: Friday\, October 17 and Saturday\, October 18\, 7:30pm; Sunday\, October 19\, 3pm in the Sanctuary \nFRSUU member James Funston has written a play for our 300th anniversary. “Her Own Sweet Voice” is inspired by the abolitionist sermons and writings of FRS minister Rev. Thomas Wentworth Higginson\, and it is set on the eve of the Civil War. The play features the quest for freedom by a young woman named Mutala\, who lives a life of involuntary servitude in a High Street mansion in Newburyport. \nThe play celebrates the church’s history as a beacon of light against oppression and tells a story that is both provocative and hopeful. Directed by Marc Clopton of The Actors Studio of Newburyport\, there will be a brief discussion after each performance. \nPurchase your tickets HERE!
URL:https://www.frsuu.org/event/reserved-for-300th-play/2025-10-17/
LOCATION:FRS Sanctuary\, 26 Pleasant St\, Newburyport\, MA\, 01950\, United States
CATEGORIES:300th Anniversary
END:VEVENT
BEGIN:VEVENT
DTSTART;TZID=America/New_York:20251018T193000
DTEND;TZID=America/New_York:20251018T210000
DTSTAMP:20260420T182107
CREATED:20250124T195516Z
LAST-MODIFIED:20251016T162743Z
UID:47777-1760815800-1760821200@www.frsuu.org
SUMMARY:300th Anniversary Play: "Her Own Sweet Voice"
DESCRIPTION:Performance Times: Friday\, October 17 and Saturday\, October 18\, 7:30pm; Sunday\, October 19\, 3pm in the Sanctuary \nFRSUU member James Funston has written a play for our 300th anniversary. “Her Own Sweet Voice” is inspired by the abolitionist sermons and writings of FRS minister Rev. Thomas Wentworth Higginson\, and it is set on the eve of the Civil War. The play features the quest for freedom by a young woman named Mutala\, who lives a life of involuntary servitude in a High Street mansion in Newburyport. \nThe play celebrates the church’s history as a beacon of light against oppression and tells a story that is both provocative and hopeful. Directed by Marc Clopton of The Actors Studio of Newburyport\, there will be a brief discussion after each performance. \nPurchase your tickets HERE!
URL:https://www.frsuu.org/event/reserved-for-300th-play/2025-10-18/
LOCATION:FRS Sanctuary\, 26 Pleasant St\, Newburyport\, MA\, 01950\, United States
CATEGORIES:300th Anniversary
END:VEVENT
BEGIN:VEVENT
DTSTART;TZID=America/New_York:20251019T083000
DTEND;TZID=America/New_York:20251019T130000
DTSTAMP:20260420T182107
CREATED:20250925T191438Z
LAST-MODIFIED:20250925T191438Z
UID:48316-1760862600-1760878800@www.frsuu.org
SUMMARY:Rummage Sale Donation Drop-off
DESCRIPTION:Sunday\, October 19\, Parish Hall 1st Floor\, 8:30am-1pm
URL:https://www.frsuu.org/event/rummage-sale-donation-drop-off-3/
LOCATION:Parish Hall 1st Floor
ORGANIZER;CN="Jenn Day":MAILTO:jennd42003@yahoo.com
END:VEVENT
BEGIN:VEVENT
DTSTART;TZID=America/New_York:20251019T103000
DTEND;TZID=America/New_York:20251019T113000
DTSTAMP:20260420T182107
CREATED:20250520T211353Z
LAST-MODIFIED:20250520T211354Z
UID:46201-1760869800-1760873400@www.frsuu.org
SUMMARY:Animal Blessing Worship Service
DESCRIPTION:Sunday\, October 19\, Sanctuary\, 10:30-11:30am with livestream on YouTube. \nJoin us for our annual all-ages animal blessing service. There will no Young Church today.
URL:https://www.frsuu.org/event/animal-blessing-worship-service/
LOCATION:FRS Sanctuary\, 26 Pleasant St\, Newburyport\, MA\, 01950\, United States
CATEGORIES:Worship
END:VEVENT
BEGIN:VEVENT
DTSTART;TZID=America/New_York:20251019T120000
DTEND;TZID=America/New_York:20251019T130000
DTSTAMP:20260420T182107
CREATED:20251015T173934Z
LAST-MODIFIED:20251015T173934Z
UID:49005-1760875200-1760878800@www.frsuu.org
SUMMARY:Chalice Circle Leader Meeting
DESCRIPTION:Sunday\, October 19\, LMH Room A\, 12-1pm
URL:https://www.frsuu.org/event/chalice-circle-leader-meeting-2/
LOCATION:LMH Room A\, 26 Pleasant St\, Newburyport\, MA\, 01950\, United States
END:VEVENT
BEGIN:VEVENT
DTSTART;TZID=America/New_York:20251019T150000
DTEND;TZID=America/New_York:20251019T163000
DTSTAMP:20260420T182107
CREATED:20250124T195753Z
LAST-MODIFIED:20251016T162645Z
UID:43996-1760886000-1760891400@www.frsuu.org
SUMMARY:300th Anniversary Play: "Her Own Sweet Voice"
DESCRIPTION:Performance Times: Friday\, October 17 and Saturday\, October 18\, 7:30pm; Sunday\, October 19\, 3pm in the Sanctuary. \nFRSUU member James Funston has written a play for our 300th anniversary. “Her Own Sweet Voice” is inspired by the abolitionist sermons and writings of FRS minister Rev. Thomas Wentworth Higginson\, and it is set on the eve of the Civil War. The play features the quest for freedom by a young woman named Mutala\, who lives a life of involuntary servitude in a High Street mansion in Newburyport. \nThe play celebrates the church’s history as a beacon of light against oppression and tells a story that is both provocative and hopeful. Directed by Marc Clopton of The Actors Studio of Newburyport\, there will be a brief discussion after each performance. \nBuy your tickets HERE!
URL:https://www.frsuu.org/event/reserved-for-300th-play-3/
LOCATION:FRS Sanctuary\, 26 Pleasant St\, Newburyport\, MA\, 01950\, United States
CATEGORIES:300th Anniversary
END:VEVENT
BEGIN:VEVENT
DTSTART;TZID=America/New_York:20251019T170000
DTEND;TZID=America/New_York:20251019T183000
DTSTAMP:20260420T182107
CREATED:20250926T140807Z
LAST-MODIFIED:20251003T155513Z
UID:48349-1760893200-1760898600@www.frsuu.org
SUMMARY:On Tyranny Read
DESCRIPTION:Sundays\, October 19\, October 26\, November 2\, LMH Main Room\, 5-6:30pm. \nHow do modern democracies fight tyranny? Join fellow members as we read\, reflect\, and discuss On Tyranny\, by historian Timothy Snyder. Sign up at https://bit.ly/FRSUUOnTyrannyRead. This initiative is sponsored by the FRSUU Justice Action Council.
URL:https://www.frsuu.org/event/on-tyranny-read/2025-10-19/
LOCATION:LMH Main Room\, 26 Pleasant St\, Newburyport\, MA\, 01950\, United States
CATEGORIES:Justice Action MInistry
END:VEVENT
BEGIN:VEVENT
DTSTART;TZID=America/New_York:20251019T193000
DTEND;TZID=America/New_York:20251019T200000
DTSTAMP:20260420T182107
CREATED:20250926T143449Z
LAST-MODIFIED:20250926T143627Z
UID:48357-1760902200-1760904000@www.frsuu.org
SUMMARY:Sunday Evening Guided Meditation (Zoom)
DESCRIPTION:Sundays\, October 5\, 12\, 19\, 26\, 7:30-8pm\, Zoom \nJoin FRS member and LICSW Woman Cooper for a brief period of relaxation and renewal on Zoom. Each 30-minute session will include a guided visualization and reflection on questions around where we hold stress and how we can release it. You’ll also learn some relaxation techniques to use on your own. Come one time or many. To reach out to Woman\, email susanc0805@gmail.com.
URL:https://www.frsuu.org/event/sunday-evening-guided-meditation-zoom/2025-10-19/
LOCATION:Zoom
END:VEVENT
BEGIN:VEVENT
DTSTART;VALUE=DATE:20251020
DTEND;VALUE=DATE:20251021
DTSTAMP:20260420T182107
CREATED:20251006T212904Z
LAST-MODIFIED:20260318T150146Z
UID:48656-1760918400-1761004799@www.frsuu.org
SUMMARY:Guided by Love: The Podcast
DESCRIPTION:NEW EPISODE DROPS TODAY
URL:https://www.frsuu.org/event/guided-by-love-the-podcast/2025-10-20/
LOCATION:MA
ATTACH;FMTTYPE=image/jpeg:https://www.frsuu.org/wp-content/uploads/2025/10/Logo-For-Real.jpg
END:VEVENT
BEGIN:VEVENT
DTSTART;TZID=America/New_York:20251020T090000
DTEND;TZID=America/New_York:20251020T130000
DTSTAMP:20260420T182107
CREATED:20250925T182551Z
LAST-MODIFIED:20250925T182551Z
UID:48306-1760950800-1760965200@www.frsuu.org
SUMMARY:Rummage Sale Donation Drop-off
DESCRIPTION:Donation drop-off only: Monday\, October 20-Wednesday\, October 22\, Parish Hall 1st Floor\, 9am-1pm
URL:https://www.frsuu.org/event/rummage-sale-donation-drop-off/2025-10-20/
LOCATION:Parish Hall 1st Floor
ORGANIZER;CN="Jenn Day":MAILTO:jennd42003@yahoo.com
END:VEVENT
BEGIN:VEVENT
DTSTART;TZID=America/New_York:20251020T110000
DTEND;TZID=America/New_York:20251020T130000
DTSTAMP:20260420T182107
CREATED:20250908T173608Z
LAST-MODIFIED:20260416T174809Z
UID:47635-1760958000-1760965200@www.frsuu.org
SUMMARY:Maker Monday w/Rev. Laurel
DESCRIPTION:First and third Mondays\, LMH Nursery/Conference Room\, 11am-1pm. Join Rev. Laurel for our Maker Monday offering during lunch hour on the first and third Monday of each month. Bring a creative project\, or start a new one\, and connect with other makers in our FRS community. All are welcome. Craft supplies available.
URL:https://www.frsuu.org/event/maker-monday-w-rev-laurel/2025-10-20/
LOCATION:LMH Nursery/Conf Room
END:VEVENT
BEGIN:VEVENT
DTSTART;TZID=America/New_York:20251020T153000
DTEND;TZID=America/New_York:20251020T170000
DTSTAMP:20260420T182107
CREATED:20250903T212138Z
LAST-MODIFIED:20260213T155239Z
UID:50075-1760974200-1760979600@www.frsuu.org
SUMMARY:Justice Action Council
DESCRIPTION:Monthly on the third Monday\, LMH Main Room\, 3:30-5pm
URL:https://www.frsuu.org/event/justice-action-council-2/2025-10-20/
LOCATION:LMH Main Room\, 26 Pleasant St\, Newburyport\, MA\, 01950\, United States
END:VEVENT
BEGIN:VEVENT
DTSTART;TZID=America/New_York:20251020T180000
DTEND;TZID=America/New_York:20251020T193000
DTSTAMP:20260420T182107
CREATED:20250908T173036Z
LAST-MODIFIED:20250908T173036Z
UID:47630-1760983200-1760988600@www.frsuu.org
SUMMARY:New Member Class w/ Rev. Laurel
DESCRIPTION:Mondays\, October 13 and 20\, Parish Hall\, 6-7:30pm; Monday\, October 27\, Sanctuary\, 6-7:30pm
URL:https://www.frsuu.org/event/new-member-class-w-rev-laurel/2025-10-20/
LOCATION:Parish Hall 1st Floor
END:VEVENT
BEGIN:VEVENT
DTSTART;TZID=America/New_York:20251020T183000
DTEND;TZID=America/New_York:20251020T193000
DTSTAMP:20260420T182107
CREATED:20240605T195817Z
LAST-MODIFIED:20240605T195817Z
UID:45745-1760985000-1760988600@www.frsuu.org
SUMMARY:Monday Evening Meditation (In Person)
DESCRIPTION:Monday Night Meditation at 6:30pm in Lower Meeting House (enter via Unicorn Street entrance). These weekly sessions are led by Joyce Haydock\, Senior Dharma Teacher with the International Kwan Um School of Zen. She has been with the school since 1989. This FRSUU Monday group was established over ten years ago. Our sessions consist of two or three chants\, two readings/teachings and 30 minutes of sitting meditation. Beginners are welcome. \nContact Joyce at 978-363-5457 or email joycehaydock@outlook.com to be added to our list and receive access information. \n  \n 
URL:https://www.frsuu.org/event/monday-evening-meditation-in-person/2025-10-20/
LOCATION:Lower Meetinghouse\, 26 Pleasant St\, Newburyport\, MA\, 01950\, United States
ORGANIZER;CN="Joyce Haydock":MAILTO:joycehaydock@outlook.com
END:VEVENT
BEGIN:VEVENT
DTSTART;TZID=America/New_York:20251020T184500
DTEND;TZID=America/New_York:20251020T200000
DTSTAMP:20260420T182107
CREATED:20240614T153123Z
LAST-MODIFIED:20240614T153544Z
UID:38728-1760985900-1760990400@www.frsuu.org
SUMMARY:Adult Children of Alcoholics
DESCRIPTION:Meets in the Hayward Room
URL:https://www.frsuu.org/event/adult-children-of-alcoholics-3/2025-10-20/
LOCATION:Hayward Room\, 26 Pleasant St\, Newburyport\, MA\, 01950\, United States
CATEGORIES:Recovery
END:VEVENT
BEGIN:VEVENT
DTSTART;TZID=America/New_York:20251021T090000
DTEND;TZID=America/New_York:20251021T130000
DTSTAMP:20260420T182107
CREATED:20250925T182551Z
LAST-MODIFIED:20250925T182551Z
UID:48307-1761037200-1761051600@www.frsuu.org
SUMMARY:Rummage Sale Donation Drop-off
DESCRIPTION:Donation drop-off only: Monday\, October 20-Wednesday\, October 22\, Parish Hall 1st Floor\, 9am-1pm
URL:https://www.frsuu.org/event/rummage-sale-donation-drop-off/2025-10-21/
LOCATION:Parish Hall 1st Floor
ORGANIZER;CN="Jenn Day":MAILTO:jennd42003@yahoo.com
END:VEVENT
BEGIN:VEVENT
DTSTART;TZID=America/New_York:20251021T110000
DTEND;TZID=America/New_York:20251021T114500
DTSTAMP:20260420T182107
CREATED:20250320T213205Z
LAST-MODIFIED:20251113T194747Z
UID:45029-1761044400-1761047100@www.frsuu.org
SUMMARY:FRSUU Poetry Group (Zoom)
DESCRIPTION:All who love poetry\, and who enjoy listening to poetry are invited to join the FRSUU Poetry Group. This poetry listening and appreciation group meets on Tuesday mornings for 45 minutes via Zoom. We read the same poem several times\, respond to prompts\, and share perspectives\, wisdom\, humor\, and collegiality. There is no poetry writing in this group. Please join us and give your soul and psyche the gift of poetry on a Tuesday morning. \nThis group is facilitated by Rev. Jane Tuohy.\n\nJoin Zoom Meeting \nhttps://zoom.us/j/94623863916?pwd=ufFubM2s4b4YAjU2la9RPOy25lM6Hy.1
URL:https://www.frsuu.org/event/frs-poetry-group/2025-10-21/
LOCATION:Zoom
CATEGORIES:Spiritual Development
END:VEVENT
BEGIN:VEVENT
DTSTART;TZID=America/New_York:20251021T120000
DTEND;TZID=America/New_York:20251021T130000
DTSTAMP:20260420T182107
CREATED:20240802T132707Z
LAST-MODIFIED:20241022T223909Z
UID:39870-1761048000-1761051600@www.frsuu.org
SUMMARY:Short Story Group
DESCRIPTION:The Tuesday Short Story Group meets on the 1st and 3rd Tuesdays of the month\, noon\, Lower Meeting House (with a Zoom option available). \nFor more information please visit: https://www.frsuu.org/short-story-group/
URL:https://www.frsuu.org/event/tuesday-short-story-group-2/2025-10-21/
LOCATION:LMH Room A\, 26 Pleasant St\, Newburyport\, MA\, 01950\, United States
CATEGORIES:Community Events
ORGANIZER;CN="Tom Himmel":MAILTO:thimmel43@mac.com
END:VEVENT
BEGIN:VEVENT
DTSTART;TZID=America/New_York:20251021T190000
DTEND;TZID=America/New_York:20251021T203000
DTSTAMP:20260420T182107
CREATED:20240614T153418Z
LAST-MODIFIED:20251007T183813Z
UID:40512-1761073200-1761078600@www.frsuu.org
SUMMARY:Alcoholic Anonymous Step Sisters
DESCRIPTION:Contact 508-215-9469; meets in the Parish Hall as of 10/7/25.
URL:https://www.frsuu.org/event/alcoholic-anonymous-step-sisters/2025-10-21/
LOCATION:Parish Hall 1st Floor
CATEGORIES:Recovery
END:VEVENT
BEGIN:VEVENT
DTSTART;TZID=America/New_York:20251022T090000
DTEND;TZID=America/New_York:20251022T130000
DTSTAMP:20260420T182107
CREATED:20250925T182551Z
LAST-MODIFIED:20250925T182551Z
UID:48308-1761123600-1761138000@www.frsuu.org
SUMMARY:Rummage Sale Donation Drop-off
DESCRIPTION:Donation drop-off only: Monday\, October 20-Wednesday\, October 22\, Parish Hall 1st Floor\, 9am-1pm
URL:https://www.frsuu.org/event/rummage-sale-donation-drop-off/2025-10-22/
LOCATION:Parish Hall 1st Floor
ORGANIZER;CN="Jenn Day":MAILTO:jennd42003@yahoo.com
END:VEVENT
BEGIN:VEVENT
DTSTART;TZID=America/New_York:20251022T100000
DTEND;TZID=America/New_York:20251022T103000
DTSTAMP:20260420T182107
CREATED:20240802T135026Z
LAST-MODIFIED:20250926T154330Z
UID:39972-1761127200-1761129000@www.frsuu.org
SUMMARY:Wednesday Guided Meditation (Zoom)
DESCRIPTION:Join FRS member and LICSW Woman Cooper on Wednesdays at 10am for a brief period of mid-week relaxation and renewal. Each 30-minute session will include a guided visualization and reflection on questions around where we hold stress and how we can release it. You’ll also learn some relaxation techniques to use on your own. This is a drop-in program; come one time or many. \nIf you’d like to reach out to Woman\, email susanc0805@gmail.com. \nJoin Zoom Meeting: \n\nhttps://us02web.zoom.us/j/87349458812?pwd=dXdIUVBJb0F1MnVjL0ZDakErVlRIdz09
URL:https://www.frsuu.org/event/wednesday-guided-relaxation-2/2025-10-22/
LOCATION:Zoom
CATEGORIES:Recovery
END:VEVENT
END:VCALENDAR