BEGIN:VCALENDAR
VERSION:2.0
PRODID:-//First Religious Society of Newburyport - ECPv6.15.20//NONSGML v1.0//EN
CALSCALE:GREGORIAN
METHOD:PUBLISH
X-ORIGINAL-URL:https://www.frsuu.org
X-WR-CALDESC:Events for First Religious Society of Newburyport
REFRESH-INTERVAL;VALUE=DURATION:PT1H
X-Robots-Tag:noindex
X-PUBLISHED-TTL:PT1H
BEGIN:VTIMEZONE
TZID:America/New_York
BEGIN:DAYLIGHT
TZOFFSETFROM:-0500
TZOFFSETTO:-0400
TZNAME:EDT
DTSTART:20240310T070000
END:DAYLIGHT
BEGIN:STANDARD
TZOFFSETFROM:-0400
TZOFFSETTO:-0500
TZNAME:EST
DTSTART:20241103T060000
END:STANDARD
BEGIN:DAYLIGHT
TZOFFSETFROM:-0500
TZOFFSETTO:-0400
TZNAME:EDT
DTSTART:20250309T070000
END:DAYLIGHT
BEGIN:STANDARD
TZOFFSETFROM:-0400
TZOFFSETTO:-0500
TZNAME:EST
DTSTART:20251102T060000
END:STANDARD
BEGIN:DAYLIGHT
TZOFFSETFROM:-0500
TZOFFSETTO:-0400
TZNAME:EDT
DTSTART:20260308T070000
END:DAYLIGHT
BEGIN:STANDARD
TZOFFSETFROM:-0400
TZOFFSETTO:-0500
TZNAME:EST
DTSTART:20261101T060000
END:STANDARD
END:VTIMEZONE
BEGIN:VEVENT
DTSTART;TZID=America/New_York:20251107T090000
DTEND;TZID=America/New_York:20251107T130000
DTSTAMP:20260420T034413
CREATED:20250925T142432Z
LAST-MODIFIED:20250925T142432Z
UID:48269-1762506000-1762520400@www.frsuu.org
SUMMARY:Holiday Market Set-up
DESCRIPTION:Friday\, November 7\, Parish Hall 1st Floor\, 9am-1pm. Contact is Lesley Hansard from NAAM.
URL:https://www.frsuu.org/event/holiday-market-set-up/
LOCATION:Parish Hall 1st Floor
END:VEVENT
BEGIN:VEVENT
DTSTART;TZID=America/New_York:20251107T100000
DTEND;TZID=America/New_York:20251107T113000
DTSTAMP:20260420T034414
CREATED:20240607T153804Z
LAST-MODIFIED:20251224T212338Z
UID:46381-1762509600-1762515000@www.frsuu.org
SUMMARY:Friday Book Group (Hybrid)
DESCRIPTION:Fridays\, LMH Room A\, 10-11:30am. \nWe meet weekly and read both fiction and non-fiction books chosen by participants. Each book is read and discussed over a period of several meetings\, with the reading for each determined by the group.
URL:https://www.frsuu.org/event/friday-book-group/2025-11-07/
LOCATION:LMH Room A\, 26 Pleasant St\, Newburyport\, MA\, 01950\, United States
END:VEVENT
BEGIN:VEVENT
DTSTART;TZID=America/New_York:20251107T110000
DTEND;TZID=America/New_York:20251107T120000
DTSTAMP:20260420T034414
CREATED:20250903T210908Z
LAST-MODIFIED:20260107T181543Z
UID:47392-1762513200-1762516800@www.frsuu.org
SUMMARY:Friday Peace Vigil (offsite)
DESCRIPTION:Every Friday\, Market Square Bullnose\, 11am. \nRev. Rebecca leads this weekly gathering to reflect on and remember our commitment to peace\, love\, and compassion as we navigate the turbulence and daily horrors of our troubled world.
URL:https://www.frsuu.org/event/friday-peace-vigil-offsite/2025-11-07/
LOCATION:Market Square Bullnose\, Newburyport\, 01950\, United States
END:VEVENT
BEGIN:VEVENT
DTSTART;TZID=America/New_York:20251107T180000
DTEND;TZID=America/New_York:20251107T193000
DTSTAMP:20260420T034414
CREATED:20240906T220128Z
LAST-MODIFIED:20240906T220128Z
UID:40869-1762538400-1762543800@www.frsuu.org
SUMMARY:SMART Recovery (Contact: 678-378-0786)
DESCRIPTION:Meets weekly on Friday
URL:https://www.frsuu.org/event/smart-recovery-contact-678-378-0786-3/2025-11-07/
LOCATION:Hayward Room\, 26 Pleasant St\, Newburyport\, MA\, 01950\, United States
CATEGORIES:Recovery
END:VEVENT
BEGIN:VEVENT
DTSTART;TZID=America/New_York:20251107T180000
DTEND;TZID=America/New_York:20251107T210000
DTSTAMP:20260420T034414
CREATED:20250515T211939Z
LAST-MODIFIED:20250515T211939Z
UID:46043-1762538400-1762549200@www.frsuu.org
SUMMARY:FRSUU Auction
DESCRIPTION:Friday\, November 7\, Newburyport Senior/Community Center\, 6-9pm. \nDetails will be forthcoming.
URL:https://www.frsuu.org/event/frsuu-auction/
LOCATION:Newburyport Community Center\, 331 High St\, Newburyport\, MA\, 01950\, United States
CATEGORIES:Fundraising
END:VEVENT
BEGIN:VEVENT
DTSTART;TZID=America/New_York:20251108T080000
DTEND;TZID=America/New_York:20251108T110000
DTSTAMP:20260420T034414
CREATED:20240814T231956Z
LAST-MODIFIED:20240814T231956Z
UID:43957-1762588800-1762599600@www.frsuu.org
SUMMARY:Merrimack Valley Ship Model Club (MVSMC)
DESCRIPTION:Second Saturdays\, Lower Meetinghouse Main Room\, 8-11am.
URL:https://www.frsuu.org/event/merrimack-valley-ship-model-club-mvsmc/2025-11-08/
LOCATION:LMH Main Room\, 26 Pleasant St\, Newburyport\, MA\, 01950\, United States
END:VEVENT
BEGIN:VEVENT
DTSTART;TZID=America/New_York:20251108T100000
DTEND;TZID=America/New_York:20251108T170000
DTSTAMP:20260420T034414
CREATED:20250925T135628Z
LAST-MODIFIED:20250925T135630Z
UID:48267-1762596000-1762621200@www.frsuu.org
SUMMARY:NAAM Artisans Holiday Market
DESCRIPTION:Saturday\, November 8\, Parish Hall 1st Floor\, 10am-5pm. Details to come soon. Contact is Lesley Hansard.
URL:https://www.frsuu.org/event/naam-artisans-holiday-market/
LOCATION:Parish Hall 1st Floor
CATEGORIES:Community Events
END:VEVENT
BEGIN:VEVENT
DTSTART;TZID=America/New_York:20251109T093000
DTEND;TZID=America/New_York:20251109T103000
DTSTAMP:20260420T034414
CREATED:20250807T154036Z
LAST-MODIFIED:20250807T154036Z
UID:47041-1762680600-1762684200@www.frsuu.org
SUMMARY:Community Outreach Committee Monthly Meeting
DESCRIPTION:Second Sundays starting September 14\, LMH Room A\, 9:30-10:30am
URL:https://www.frsuu.org/event/community-outreach-committee-monthly-meeting/2025-11-09/
LOCATION:LMH Room A\, 26 Pleasant St\, Newburyport\, MA\, 01950\, United States
END:VEVENT
BEGIN:VEVENT
DTSTART;TZID=America/New_York:20251109T103000
DTEND;TZID=America/New_York:20251109T113000
DTSTAMP:20260420T034414
CREATED:20250520T211619Z
LAST-MODIFIED:20251010T135937Z
UID:46203-1762684200-1762687800@www.frsuu.org
SUMMARY:New Member Sunday
DESCRIPTION:Sunday\, November 9\, Sanctuary\, 10:30-11:30am with livestream on YouTube. \nJoin us for this special worship service where we recognize new church members. Following worship there will be lunch and an intergenerational activity led by Mara Flynn.
URL:https://www.frsuu.org/event/new-member-sunday/
LOCATION:FRS Sanctuary\, 26 Pleasant St\, Newburyport\, MA\, 01950\, United States
CATEGORIES:Worship
END:VEVENT
BEGIN:VEVENT
DTSTART;TZID=America/New_York:20251109T103000
DTEND;TZID=America/New_York:20251109T113000
DTSTAMP:20260420T034414
CREATED:20250922T163733Z
LAST-MODIFIED:20260403T151559Z
UID:48102-1762684200-1762687800@www.frsuu.org
SUMMARY:Young Church
DESCRIPTION:Sundays\, from September 14\, 2025 until May 17\, 2026\, LMH Main Room and Nursery/Conf Room\, 10:30-11:30am
URL:https://www.frsuu.org/event/young-church-3/2025-11-09/
LOCATION:LMH Main Room\, 26 Pleasant St\, Newburyport\, MA\, 01950\, United States
CATEGORIES:Young Church
ORGANIZER;CN="Mara Flynn":MAILTO:mara.flynn@frsuu.org
END:VEVENT
BEGIN:VEVENT
DTSTART;TZID=America/New_York:20251109T114500
DTEND;TZID=America/New_York:20251109T124500
DTSTAMP:20260420T034414
CREATED:20250709T142040Z
LAST-MODIFIED:20250709T142122Z
UID:46856-1762688700-1762692300@www.frsuu.org
SUMMARY:Governance Committee Meeting
DESCRIPTION:Second Sundays\, September-June\, LMH Room A\, 11:45am. Hybrid.
URL:https://www.frsuu.org/event/governance-committee-meeting-2/2025-11-09/
LOCATION:LMH Room A\, 26 Pleasant St\, Newburyport\, MA\, 01950\, United States
END:VEVENT
BEGIN:VEVENT
DTSTART;TZID=America/New_York:20251109T120000
DTEND;TZID=America/New_York:20251109T130000
DTSTAMP:20260420T034414
CREATED:20251010T135826Z
LAST-MODIFIED:20251010T135827Z
UID:48902-1762689600-1762693200@www.frsuu.org
SUMMARY:Intergenerational Fellowship
DESCRIPTION:Sunday\, November 9\, Parish Hall 1st Floor\, 12-1pm
URL:https://www.frsuu.org/event/intergenerational-fellowship/
LOCATION:Parish Hall 1st Floor
ORGANIZER;CN="Mara Flynn":MAILTO:mara.flynn@frsuu.org
END:VEVENT
BEGIN:VEVENT
DTSTART;TZID=America/New_York:20251109T130000
DTEND;TZID=America/New_York:20251109T150000
DTSTAMP:20260420T034414
CREATED:20250324T190500Z
LAST-MODIFIED:20250520T212616Z
UID:45313-1762693200-1762700400@www.frsuu.org
SUMMARY:Candlelight Chorale Rehearsal
DESCRIPTION:Sunday afternoons\, October 29 to December 14\, LMH Main Room\, 1-3pm
URL:https://www.frsuu.org/event/candlelight-chorale-rehearsals/2025-11-09/
LOCATION:LMH Main Room\, 26 Pleasant St\, Newburyport\, MA\, 01950\, United States
CATEGORIES:Music
END:VEVENT
BEGIN:VEVENT
DTSTART;TZID=America/New_York:20251110T110000
DTEND;TZID=America/New_York:20251110T123000
DTSTAMP:20260420T034414
CREATED:20250910T150951Z
LAST-MODIFIED:20250923T153806Z
UID:47679-1762772400-1762777800@www.frsuu.org
SUMMARY:Mild Cognitive Impairment Support Group
DESCRIPTION:2nd and 4th Mondays\, LMH Room A\, 11am-12:30pm. \nThis group is for those who have a diagnosis of Mild Cognitive Impairment of some type of dementia. The group offers members an opportunity to share with others who are facing this-life limiting diagnosis. Members are able to be vulnerable and open about the many challenges they face\, as well as their adaptive coping mechanisms. This is facilitated by Nancy Kidd\, LICSW; Rev. Jane Tuohy; and Linda Harding. For more information\, contact Nancy Kidd at nankdd@gmail.com or 978-376-8687.
URL:https://www.frsuu.org/event/mild-cognitive-impairment-support-group/2025-11-10/
LOCATION:LMH Room A\, 26 Pleasant St\, Newburyport\, MA\, 01950\, United States
END:VEVENT
BEGIN:VEVENT
DTSTART;TZID=America/New_York:20251110T140000
DTEND;TZID=America/New_York:20251110T160000
DTSTAMP:20260420T034414
CREATED:20251003T191755Z
LAST-MODIFIED:20251016T144413Z
UID:48604-1762783200-1762790400@www.frsuu.org
SUMMARY:Chalice Circle
DESCRIPTION:Mondays\, October 27 – January 19\, LMH Room A\, 2-4pm. Led by Ted Stedman. In person only. No meeting on 11/24\, 12/22\, and 12/29.
URL:https://www.frsuu.org/event/chalice-circle/2025-11-10/
LOCATION:LMH Room A\, 26 Pleasant St\, Newburyport\, MA\, 01950\, United States
CATEGORIES:Spiritual Development
END:VEVENT
BEGIN:VEVENT
DTSTART;TZID=America/New_York:20251110T180000
DTEND;TZID=America/New_York:20251110T200000
DTSTAMP:20260420T034414
CREATED:20251016T145241Z
LAST-MODIFIED:20251016T145241Z
UID:49039-1762797600-1762804800@www.frsuu.org
SUMMARY:Chalice Circle
DESCRIPTION:Mondays\, October 27 – January 19\, LMH Nursery/Conf Room\, 6-8pm. Led by Jim Lacey. In person only. No meeting on 11/24\, 12/22\, and 12/29.
URL:https://www.frsuu.org/event/chalice-circle-3/2025-11-10/
LOCATION:LMH Nursery/Conf Room
CATEGORIES:Spiritual Development
END:VEVENT
BEGIN:VEVENT
DTSTART;TZID=America/New_York:20251110T183000
DTEND;TZID=America/New_York:20251110T193000
DTSTAMP:20260420T034414
CREATED:20240605T195817Z
LAST-MODIFIED:20240605T195817Z
UID:45748-1762799400-1762803000@www.frsuu.org
SUMMARY:Monday Evening Meditation (In Person)
DESCRIPTION:Monday Night Meditation at 6:30pm in Lower Meeting House (enter via Unicorn Street entrance). These weekly sessions are led by Joyce Haydock\, Senior Dharma Teacher with the International Kwan Um School of Zen. She has been with the school since 1989. This FRSUU Monday group was established over ten years ago. Our sessions consist of two or three chants\, two readings/teachings and 30 minutes of sitting meditation. Beginners are welcome. \nContact Joyce at 978-363-5457 or email joycehaydock@outlook.com to be added to our list and receive access information. \n  \n 
URL:https://www.frsuu.org/event/monday-evening-meditation-in-person/2025-11-10/
LOCATION:Lower Meetinghouse\, 26 Pleasant St\, Newburyport\, MA\, 01950\, United States
ORGANIZER;CN="Joyce Haydock":MAILTO:joycehaydock@outlook.com
END:VEVENT
BEGIN:VEVENT
DTSTART;TZID=America/New_York:20251110T184500
DTEND;TZID=America/New_York:20251110T200000
DTSTAMP:20260420T034414
CREATED:20240614T153123Z
LAST-MODIFIED:20240614T153545Z
UID:38731-1762800300-1762804800@www.frsuu.org
SUMMARY:Adult Children of Alcoholics
DESCRIPTION:Meets in the Hayward Room
URL:https://www.frsuu.org/event/adult-children-of-alcoholics-3/2025-11-10/
LOCATION:Hayward Room\, 26 Pleasant St\, Newburyport\, MA\, 01950\, United States
CATEGORIES:Recovery
END:VEVENT
BEGIN:VEVENT
DTSTART;TZID=America/New_York:20251110T190000
DTEND;TZID=America/New_York:20251110T203000
DTSTAMP:20260420T034414
CREATED:20250815T173632Z
LAST-MODIFIED:20250815T173632Z
UID:47072-1762801200-1762806600@www.frsuu.org
SUMMARY:The Center Within: Cultivating Calm and Clarity – A Four-Week Series with Effie Stavrulaki
DESCRIPTION:Monday evenings\, 7–8:30 pm\, October 27 and November 3\, 10\, and 17; Parish Hall 1st Floor \n  \n\n\n\nPlease join NSIMC meditation teacher Effie Stavrulaki for a four-week Monday night series this fall\, held in partnership with the First Religious Society\, Unitarian Universalist\, in Newburyport \nWhen: Monday evenings\, 7–8:30 pm\, October 27 and November 3\, 10\, and 17 \nWhere: First Religious Society\, Unitarian Universalist\, Parish Hall \nCost: $70 for members\, $80 for nonmembers (become a member here) \nDescription: This four-week mindfulness-based series invites participants to gently explore the cultivation of equanimity—an inner steadiness of mind—through guided silent meditations\, mindful walking\, and reflective practices. Each week focuses on developing qualities that support equanimity: relaxation\, compassion\, gratitude\, and wisdom. Rooted in the Insight meditation tradition\, the series blends awareness of the natural breath with simple techniques that calm the nervous system and foster clarity and emotional balance. Together\, we will learn practical tools to meet life’s ups and downs with calm presence and care. Practicing in person allows us to create a warm\, supportive space of shared presence that deepens both personal insight and group learning. All levels of experience are welcome as we build resilience\, openness\, and a grounded sense of well-being week by week. \nEffie Stavrulaki is a meditation teacher with NSIMC as well as a management professor at Bentley University. Read more at Effie’s teacher page. \nTo register and pay online\, just click below; to pay by cash or check\, email northshoreimc@gmail.com.
URL:https://www.frsuu.org/event/the-center-within-cultivating-calm-and-clarity-a-four-week-series-with-effie-stavrulaki/2025-11-10/
LOCATION:Parish Hall 1st Floor
ATTACH;FMTTYPE=image/webp:https://www.frsuu.org/wp-content/uploads/2025/08/NSIMC-FRSUU.webp
END:VEVENT
BEGIN:VEVENT
DTSTART;VALUE=DATE:20251111
DTEND;VALUE=DATE:20251112
DTSTAMP:20260420T034414
CREATED:20251106T214752Z
LAST-MODIFIED:20251110T200312Z
UID:49256-1762819200-1762905599@www.frsuu.org
SUMMARY:Veteran's Day-Business Office Closed
DESCRIPTION:
URL:https://www.frsuu.org/event/veterans-day/
LOCATION:MA
END:VEVENT
BEGIN:VEVENT
DTSTART;TZID=America/New_York:20251111T110000
DTEND;TZID=America/New_York:20251111T114500
DTSTAMP:20260420T034414
CREATED:20250320T213205Z
LAST-MODIFIED:20251113T194750Z
UID:45032-1762858800-1762861500@www.frsuu.org
SUMMARY:FRSUU Poetry Group (Zoom)
DESCRIPTION:All who love poetry\, and who enjoy listening to poetry are invited to join the FRSUU Poetry Group. This poetry listening and appreciation group meets on Tuesday mornings for 45 minutes via Zoom. We read the same poem several times\, respond to prompts\, and share perspectives\, wisdom\, humor\, and collegiality. There is no poetry writing in this group. Please join us and give your soul and psyche the gift of poetry on a Tuesday morning. \nThis group is facilitated by Rev. Jane Tuohy.\n\nJoin Zoom Meeting \nhttps://zoom.us/j/94623863916?pwd=ufFubM2s4b4YAjU2la9RPOy25lM6Hy.1
URL:https://www.frsuu.org/event/frs-poetry-group/2025-11-11/
LOCATION:Zoom
CATEGORIES:Spiritual Development
END:VEVENT
BEGIN:VEVENT
DTSTART;TZID=America/New_York:20251111T190000
DTEND;TZID=America/New_York:20251111T200000
DTSTAMP:20260420T034414
CREATED:20250910T175402Z
LAST-MODIFIED:20250910T175538Z
UID:47721-1762887600-1762891200@www.frsuu.org
SUMMARY:Shared Ministry Group (Zoom)
DESCRIPTION:2nd Tuesdays\, Zoom only\, 7-8pm. Join us to discuss readings from the UUA Shared Ministry website. \nhttps://zoom.us/j/97370373954?pwd=PnwMAYb557uZ9JPWDD4TpdH16QwQxy.1
URL:https://www.frsuu.org/event/shared-ministry-group-zoom/2025-11-11/
LOCATION:Zoom
END:VEVENT
BEGIN:VEVENT
DTSTART;TZID=America/New_York:20251111T190000
DTEND;TZID=America/New_York:20251111T203000
DTSTAMP:20260420T034414
CREATED:20240614T153418Z
LAST-MODIFIED:20251007T183818Z
UID:40515-1762887600-1762893000@www.frsuu.org
SUMMARY:Alcoholic Anonymous Step Sisters
DESCRIPTION:Contact 508-215-9469; meets in the Parish Hall as of 10/7/25.
URL:https://www.frsuu.org/event/alcoholic-anonymous-step-sisters/2025-11-11/
LOCATION:Parish Hall 1st Floor
CATEGORIES:Recovery
END:VEVENT
BEGIN:VEVENT
DTSTART;TZID=America/New_York:20251112T090000
DTEND;TZID=America/New_York:20251112T110000
DTSTAMP:20260420T034414
CREATED:20251016T141323Z
LAST-MODIFIED:20251016T141323Z
UID:49008-1762938000-1762945200@www.frsuu.org
SUMMARY:Finance Committee Meeting
DESCRIPTION:Second Wednesdays\, LMH Room A\, 9-11am
URL:https://www.frsuu.org/event/finance-committee-meeting-5/2025-11-12/
LOCATION:LMH Room A\, 26 Pleasant St\, Newburyport\, MA\, 01950\, United States
END:VEVENT
BEGIN:VEVENT
DTSTART;TZID=America/New_York:20251112T100000
DTEND;TZID=America/New_York:20251112T103000
DTSTAMP:20260420T034414
CREATED:20240802T135026Z
LAST-MODIFIED:20250926T154334Z
UID:39975-1762941600-1762943400@www.frsuu.org
SUMMARY:Wednesday Guided Meditation (Zoom)
DESCRIPTION:Join FRS member and LICSW Woman Cooper on Wednesdays at 10am for a brief period of mid-week relaxation and renewal. Each 30-minute session will include a guided visualization and reflection on questions around where we hold stress and how we can release it. You’ll also learn some relaxation techniques to use on your own. This is a drop-in program; come one time or many. \nIf you’d like to reach out to Woman\, email susanc0805@gmail.com. \nJoin Zoom Meeting: \n\nhttps://us02web.zoom.us/j/87349458812?pwd=dXdIUVBJb0F1MnVjL0ZDakErVlRIdz09
URL:https://www.frsuu.org/event/wednesday-guided-relaxation-2/2025-11-12/
LOCATION:Zoom
CATEGORIES:Recovery
END:VEVENT
BEGIN:VEVENT
DTSTART;TZID=America/New_York:20251112T100000
DTEND;TZID=America/New_York:20251112T110000
DTSTAMP:20260420T034414
CREATED:20250904T174501Z
LAST-MODIFIED:20260406T152846Z
UID:47457-1762941600-1762945200@www.frsuu.org
SUMMARY:Centering Prayer Meditation
DESCRIPTION:Weekly on Wednesdays\, Robing Room\, 10-11am. \nCentering Prayer is a form of Christian Contemplative Meditation. The purpose of this meditation is not to clear the mind as much as it is to open oneself to the presence of the Divine and invite the action of the Divine within. No previous experience or training is required. This form of Contemplative prayer is a practice in resting in the presence of God through non-thinking surrender and to form a deeper relationship with the Divine.\nCentering Prayer will be led by Cynthia Tolbert. All are welcome. Please contact Rev. Jane Tuohy at jane.tuohy@frsuu.org or 617-359-0079 if you have questions.
URL:https://www.frsuu.org/event/centering-prayer-meditation/2025-11-12/
LOCATION:Robing Room (behind pulpit)
CATEGORIES:Spiritual Development
END:VEVENT
BEGIN:VEVENT
DTSTART;TZID=America/New_York:20251112T103000
DTEND;TZID=America/New_York:20251112T120000
DTSTAMP:20260420T034414
CREATED:20250825T144941Z
LAST-MODIFIED:20250825T144941Z
UID:47241-1762943400-1762948800@www.frsuu.org
SUMMARY:Worship Planning Meeting
DESCRIPTION:2nd and 4th Wednesdays\, LMH Main Room\, 10:30am-noon
URL:https://www.frsuu.org/event/worship-planning-meeting-3/2025-11-12/
LOCATION:LMH Main Room\, 26 Pleasant St\, Newburyport\, MA\, 01950\, United States
END:VEVENT
BEGIN:VEVENT
DTSTART;TZID=America/New_York:20251112T120000
DTEND;TZID=America/New_York:20251112T133000
DTSTAMP:20260420T034414
CREATED:20251020T181757Z
LAST-MODIFIED:20251020T181758Z
UID:49068-1762948800-1762954200@www.frsuu.org
SUMMARY:Retired Old Men Eating Out (ROMEO)
DESCRIPTION:Wednesday\, November 12\, The Grog\, 12-1:30pm. \nJoin us at our next ROMEO meeting. Our Officer of the Day is Peter Wyatt who can be reached at peterwyatt530@hotmail.com. Please feel free to contact Peter if you have any questions or concerns. No reservations are required\, but $$$ to pay your share of the tab is needed.
URL:https://www.frsuu.org/event/retired-old-men-eating-out-romeo-14/
LOCATION:The Grog\, 13 Middle St\, Newburyport\, MA\, 01950\, United States
ORGANIZER;CN="Ed Budelmann":MAILTO:edbudelmann@gmail.com
END:VEVENT
BEGIN:VEVENT
DTSTART;TZID=America/New_York:20251112T120000
DTEND;TZID=America/New_York:20251112T133000
DTSTAMP:20260420T034414
CREATED:20251106T190315Z
LAST-MODIFIED:20251106T190315Z
UID:49254-1762948800-1762954200@www.frsuu.org
SUMMARY:Staff Meeting
DESCRIPTION:Wednesday\, November 12\, LMH Main Room\, 12-1:30pm. Meeting to discuss December/holiday events and related topics.
URL:https://www.frsuu.org/event/staff-meeting-11/
LOCATION:LMH Main Room\, 26 Pleasant St\, Newburyport\, MA\, 01950\, United States
END:VEVENT
BEGIN:VEVENT
DTSTART;TZID=America/New_York:20251112T143000
DTEND;TZID=America/New_York:20251112T160000
DTSTAMP:20260420T034414
CREATED:20250908T181215Z
LAST-MODIFIED:20260114T181643Z
UID:47655-1762957800-1762963200@www.frsuu.org
SUMMARY:Executive Committee Meeting
DESCRIPTION:Second Wednesdays\, LMH Room A\, 2:30-4pm
URL:https://www.frsuu.org/event/executive-committee-meeting-3/2025-11-12/
LOCATION:LMH Room A\, 26 Pleasant St\, Newburyport\, MA\, 01950\, United States
END:VEVENT
END:VCALENDAR