BEGIN:VCALENDAR
VERSION:2.0
PRODID:-//First Religious Society of Newburyport - ECPv6.15.20//NONSGML v1.0//EN
CALSCALE:GREGORIAN
METHOD:PUBLISH
X-WR-CALNAME:First Religious Society of Newburyport
X-ORIGINAL-URL:https://www.frsuu.org
X-WR-CALDESC:Events for First Religious Society of Newburyport
REFRESH-INTERVAL;VALUE=DURATION:PT1H
X-Robots-Tag:noindex
X-PUBLISHED-TTL:PT1H
BEGIN:VTIMEZONE
TZID:America/New_York
BEGIN:DAYLIGHT
TZOFFSETFROM:-0500
TZOFFSETTO:-0400
TZNAME:EDT
DTSTART:20240310T070000
END:DAYLIGHT
BEGIN:STANDARD
TZOFFSETFROM:-0400
TZOFFSETTO:-0500
TZNAME:EST
DTSTART:20241103T060000
END:STANDARD
BEGIN:DAYLIGHT
TZOFFSETFROM:-0500
TZOFFSETTO:-0400
TZNAME:EDT
DTSTART:20250309T070000
END:DAYLIGHT
BEGIN:STANDARD
TZOFFSETFROM:-0400
TZOFFSETTO:-0500
TZNAME:EST
DTSTART:20251102T060000
END:STANDARD
BEGIN:DAYLIGHT
TZOFFSETFROM:-0500
TZOFFSETTO:-0400
TZNAME:EDT
DTSTART:20260308T070000
END:DAYLIGHT
BEGIN:STANDARD
TZOFFSETFROM:-0400
TZOFFSETTO:-0500
TZNAME:EST
DTSTART:20261101T060000
END:STANDARD
END:VTIMEZONE
BEGIN:VEVENT
DTSTART;TZID=America/New_York:20251201T183000
DTEND;TZID=America/New_York:20251201T193000
DTSTAMP:20260420T032438
CREATED:20240605T195817Z
LAST-MODIFIED:20240605T195817Z
UID:45751-1764613800-1764617400@www.frsuu.org
SUMMARY:Monday Evening Meditation (In Person)
DESCRIPTION:Monday Night Meditation at 6:30pm in Lower Meeting House (enter via Unicorn Street entrance). These weekly sessions are led by Joyce Haydock\, Senior Dharma Teacher with the International Kwan Um School of Zen. She has been with the school since 1989. This FRSUU Monday group was established over ten years ago. Our sessions consist of two or three chants\, two readings/teachings and 30 minutes of sitting meditation. Beginners are welcome. \nContact Joyce at 978-363-5457 or email joycehaydock@outlook.com to be added to our list and receive access information. \n  \n 
URL:https://www.frsuu.org/event/monday-evening-meditation-in-person/2025-12-01/
LOCATION:Lower Meetinghouse\, 26 Pleasant St\, Newburyport\, MA\, 01950\, United States
ORGANIZER;CN="Joyce Haydock":MAILTO:joycehaydock@outlook.com
END:VEVENT
BEGIN:VEVENT
DTSTART;TZID=America/New_York:20251201T184500
DTEND;TZID=America/New_York:20251201T200000
DTSTAMP:20260420T032438
CREATED:20240614T153123Z
LAST-MODIFIED:20240614T153546Z
UID:38734-1764614700-1764619200@www.frsuu.org
SUMMARY:Adult Children of Alcoholics
DESCRIPTION:Meets in the Hayward Room
URL:https://www.frsuu.org/event/adult-children-of-alcoholics-3/2025-12-01/
LOCATION:Hayward Room\, 26 Pleasant St\, Newburyport\, MA\, 01950\, United States
CATEGORIES:Recovery
END:VEVENT
BEGIN:VEVENT
DTSTART;TZID=America/New_York:20251202T100000
DTEND;TZID=America/New_York:20251202T113000
DTSTAMP:20260420T032438
CREATED:20251126T204450Z
LAST-MODIFIED:20251126T204450Z
UID:49494-1764669600-1764675000@www.frsuu.org
SUMMARY:Community Outreach Planning Meeting
DESCRIPTION:Tuesday\, December 2\, LMH Room A\, 10-11:30am. \nThe purpose of this meeting is the plan March Justice Sunday.
URL:https://www.frsuu.org/event/community-outreach-planning-meeting/
LOCATION:LMH Room A\, 26 Pleasant St\, Newburyport\, MA\, 01950\, United States
END:VEVENT
BEGIN:VEVENT
DTSTART;TZID=America/New_York:20251202T120000
DTEND;TZID=America/New_York:20251202T130000
DTSTAMP:20260420T032438
CREATED:20240802T132707Z
LAST-MODIFIED:20241022T223912Z
UID:39482-1764676800-1764680400@www.frsuu.org
SUMMARY:Short Story Group
DESCRIPTION:The Tuesday Short Story Group meets on the 1st and 3rd Tuesdays of the month\, noon\, Lower Meeting House (with a Zoom option available). \nFor more information please visit: https://www.frsuu.org/short-story-group/
URL:https://www.frsuu.org/event/tuesday-short-story-group-2/2025-12-02/
LOCATION:LMH Room A\, 26 Pleasant St\, Newburyport\, MA\, 01950\, United States
CATEGORIES:Community Events
ORGANIZER;CN="Tom Himmel":MAILTO:thimmel43@mac.com
END:VEVENT
BEGIN:VEVENT
DTSTART;TZID=America/New_York:20251202T170000
DTEND;TZID=America/New_York:20251202T183000
DTSTAMP:20260420T032438
CREATED:20250905T200528Z
LAST-MODIFIED:20250905T201436Z
UID:47545-1764694800-1764700200@www.frsuu.org
SUMMARY:Worship Associates Meeting
DESCRIPTION:Tuesday\, December 2\, LMH Main Room\, 5-6:30pm
URL:https://www.frsuu.org/event/worship-associates-meeting-3/
LOCATION:LMH Main Room\, 26 Pleasant St\, Newburyport\, MA\, 01950\, United States
END:VEVENT
BEGIN:VEVENT
DTSTART;TZID=America/New_York:20251202T183000
DTEND;TZID=America/New_York:20251202T193000
DTSTAMP:20260420T032438
CREATED:20251028T204534Z
LAST-MODIFIED:20251028T204534Z
UID:49166-1764700200-1764703800@www.frsuu.org
SUMMARY:FUNraising Team Meeting (Zoom)
DESCRIPTION:First Tuesdays\, 6:30pm\, Zoom
URL:https://www.frsuu.org/event/funraising-team-meeting-zoom-2/2025-12-02/
LOCATION:Zoom
END:VEVENT
BEGIN:VEVENT
DTSTART;TZID=America/New_York:20251202T190000
DTEND;TZID=America/New_York:20251202T200000
DTSTAMP:20260420T032438
CREATED:20250528T143640Z
LAST-MODIFIED:20250528T143640Z
UID:49655-1764702000-1764705600@www.frsuu.org
SUMMARY:Contemplative Meditation Service
DESCRIPTION:First Tuesdays beginning October 7\, Sanctuary\, 7-8pm. Led by Rev. Alan Seale.
URL:https://www.frsuu.org/event/contemplative-meditation-service/2025-12-02/
LOCATION:FRS Sanctuary\, 26 Pleasant St\, Newburyport\, MA\, 01950\, United States
CATEGORIES:Worship
END:VEVENT
BEGIN:VEVENT
DTSTART;TZID=America/New_York:20251202T190000
DTEND;TZID=America/New_York:20251202T203000
DTSTAMP:20260420T032438
CREATED:20240614T153418Z
LAST-MODIFIED:20251007T183822Z
UID:40518-1764702000-1764707400@www.frsuu.org
SUMMARY:Alcoholic Anonymous Step Sisters
DESCRIPTION:Contact 508-215-9469; meets in the Parish Hall as of 10/7/25.
URL:https://www.frsuu.org/event/alcoholic-anonymous-step-sisters/2025-12-02/
LOCATION:Parish Hall 1st Floor
CATEGORIES:Recovery
END:VEVENT
BEGIN:VEVENT
DTSTART;TZID=America/New_York:20251203T081500
DTEND;TZID=America/New_York:20251203T091500
DTSTAMP:20260420T032438
CREATED:20250908T151914Z
LAST-MODIFIED:20250908T151914Z
UID:47608-1764749700-1764753300@www.frsuu.org
SUMMARY:Facilities Team Meeting
DESCRIPTION:First Wednesdays beginning October 1\, LMH Room A\, 8:15-9:15am
URL:https://www.frsuu.org/event/facilities-team-meeting-2/2025-12-03/
LOCATION:LMH Room A\, 26 Pleasant St\, Newburyport\, MA\, 01950\, United States
END:VEVENT
BEGIN:VEVENT
DTSTART;TZID=America/New_York:20251203T100000
DTEND;TZID=America/New_York:20251203T103000
DTSTAMP:20260420T032438
CREATED:20240802T135026Z
LAST-MODIFIED:20250926T154338Z
UID:39978-1764756000-1764757800@www.frsuu.org
SUMMARY:Wednesday Guided Meditation (Zoom)
DESCRIPTION:Join FRS member and LICSW Woman Cooper on Wednesdays at 10am for a brief period of mid-week relaxation and renewal. Each 30-minute session will include a guided visualization and reflection on questions around where we hold stress and how we can release it. You’ll also learn some relaxation techniques to use on your own. This is a drop-in program; come one time or many. \nIf you’d like to reach out to Woman\, email susanc0805@gmail.com. \nJoin Zoom Meeting: \n\nhttps://us02web.zoom.us/j/87349458812?pwd=dXdIUVBJb0F1MnVjL0ZDakErVlRIdz09
URL:https://www.frsuu.org/event/wednesday-guided-relaxation-2/2025-12-03/
LOCATION:Zoom
CATEGORIES:Recovery
END:VEVENT
BEGIN:VEVENT
DTSTART;TZID=America/New_York:20251203T100000
DTEND;TZID=America/New_York:20251203T110000
DTSTAMP:20260420T032438
CREATED:20250904T174501Z
LAST-MODIFIED:20260406T152850Z
UID:47461-1764756000-1764759600@www.frsuu.org
SUMMARY:Centering Prayer Meditation
DESCRIPTION:Weekly on Wednesdays\, Robing Room\, 10-11am. \nCentering Prayer is a form of Christian Contemplative Meditation. The purpose of this meditation is not to clear the mind as much as it is to open oneself to the presence of the Divine and invite the action of the Divine within. No previous experience or training is required. This form of Contemplative prayer is a practice in resting in the presence of God through non-thinking surrender and to form a deeper relationship with the Divine.\nCentering Prayer will be led by Cynthia Tolbert. All are welcome. Please contact Rev. Jane Tuohy at jane.tuohy@frsuu.org or 617-359-0079 if you have questions.
URL:https://www.frsuu.org/event/centering-prayer-meditation/2025-12-03/
LOCATION:Robing Room (behind pulpit)
CATEGORIES:Spiritual Development
END:VEVENT
BEGIN:VEVENT
DTSTART;TZID=America/New_York:20251203T103000
DTEND;TZID=America/New_York:20251203T120000
DTSTAMP:20260420T032438
CREATED:20250825T144308Z
LAST-MODIFIED:20250825T144308Z
UID:47221-1764757800-1764763200@www.frsuu.org
SUMMARY:Staff Meeting
DESCRIPTION:1st and 3rd Wednesdays\, LMH Main Room\, 10:30am-noon
URL:https://www.frsuu.org/event/staff-meeting-9/2025-12-03/
LOCATION:LMH Main Room\, 26 Pleasant St\, Newburyport\, MA\, 01950\, United States
END:VEVENT
BEGIN:VEVENT
DTSTART;TZID=America/New_York:20251203T120000
DTEND;TZID=America/New_York:20251203T130000
DTSTAMP:20260420T032438
CREATED:20251126T211928Z
LAST-MODIFIED:20251126T211929Z
UID:49512-1764763200-1764766800@www.frsuu.org
SUMMARY:Ladies Who Lunch
DESCRIPTION:Wednesday\, December 3\, Michael’s Harborside\, noon. \nJoin us at Michael’s for good food and conversation. If you plan on attending\, call or text Nancy at 978-973-6208 or Annie at 978-872-5244.
URL:https://www.frsuu.org/event/ladies-who-lunch-8/
LOCATION:Michael’s Harborside Restaurant & Bar\, 1 Tournament Wharft\, Newburyport\, MA\, 01950\, United States
END:VEVENT
BEGIN:VEVENT
DTSTART;TZID=America/New_York:20251203T120000
DTEND;TZID=America/New_York:20251203T130000
DTSTAMP:20260420T032438
CREATED:20251126T220239Z
LAST-MODIFIED:20251126T220239Z
UID:49637-1764763200-1764766800@www.frsuu.org
SUMMARY:Reserved for Nancy Kidd
DESCRIPTION:Wednesday\, December 3\, LMH Nursery/Conf Room\, 12-1pm
URL:https://www.frsuu.org/event/reserved-for-nancy-kidd-3/
LOCATION:LMH Nursery/Conf Room
END:VEVENT
BEGIN:VEVENT
DTSTART;TZID=America/New_York:20251203T150000
DTEND;TZID=America/New_York:20251203T160000
DTSTAMP:20260420T032438
CREATED:20250905T191753Z
LAST-MODIFIED:20250905T191753Z
UID:47525-1764774000-1764777600@www.frsuu.org
SUMMARY:Addictions Ministry Meeting
DESCRIPTION:First Wednesdays\, Robing Room\, 3-4pm.
URL:https://www.frsuu.org/event/addictions-ministry-meeting/2025-12-03/
LOCATION:Robing Room (behind pulpit)
END:VEVENT
BEGIN:VEVENT
DTSTART;TZID=America/New_York:20251203T163000
DTEND;TZID=America/New_York:20251203T174500
DTSTAMP:20260420T032438
CREATED:20251201T164159Z
LAST-MODIFIED:20251201T164159Z
UID:49660-1764779400-1764783900@www.frsuu.org
SUMMARY:Staffing Structure Team
DESCRIPTION:Wednesday\, December 3\, LMH Room A\, 4:30-5:45pm. Meeting with Wren from UUA.
URL:https://www.frsuu.org/event/staffing-structure-team/
LOCATION:LMH Room A\, 26 Pleasant St\, Newburyport\, MA\, 01950\, United States
ORGANIZER;CN="Tom Himmel":MAILTO:thimmel43@mac.com
END:VEVENT
BEGIN:VEVENT
DTSTART;TZID=America/New_York:20251203T180000
DTEND;TZID=America/New_York:20251203T200000
DTSTAMP:20260420T032438
CREATED:20251028T201132Z
LAST-MODIFIED:20260403T145131Z
UID:49157-1764784800-1764792000@www.frsuu.org
SUMMARY:Parish Board Meeting (Zoom)
DESCRIPTION:First Wednesdays\, 6-8pm\, Zoom
URL:https://www.frsuu.org/event/parish-board-meeting-zoom-2/2025-12-03/
LOCATION:Zoom
END:VEVENT
BEGIN:VEVENT
DTSTART;TZID=America/New_York:20251204T110000
DTEND;TZID=America/New_York:20251204T114500
DTSTAMP:20260420T032438
CREATED:20251113T200748Z
LAST-MODIFIED:20251126T214706Z
UID:49313-1764846000-1764848700@www.frsuu.org
SUMMARY:FRSUU Poetry Group (Zoom)
DESCRIPTION:Meets Thursdays (previously on Tuesdays) on Zoom at 11am. \nThe FRSUU Poetry Group is open to all who enjoy reading or listening to poetry. Prompts or questions are provided as we listen multiple times to one poem a week. If you have been wishing you had more time in your busy schedule for poetry\, give yourself the gift of one hour of poetry on Thursday mornings. Individuals with questions should contact Rev. Jane Tuohy at 617-359-0079. \nJoin Zoom Meeting:\nhttps://zoom.us/j/94623863916?pwd=ufFubM2s4b4YAjU2la9RPOy25lM6Hy.1 \nMeeting ID: 946 2386 3916; Passcode: 774520
URL:https://www.frsuu.org/event/frsuu-poetry-group-zoom/2025-12-04/
LOCATION:Zoom
CATEGORIES:Spiritual Development
END:VEVENT
BEGIN:VEVENT
DTSTART;TZID=America/New_York:20251204T160000
DTEND;TZID=America/New_York:20251204T173000
DTSTAMP:20260420T032438
CREATED:20250926T135533Z
LAST-MODIFIED:20250926T135605Z
UID:48339-1764864000-1764869400@www.frsuu.org
SUMMARY:Theater in the Open
DESCRIPTION:Thursdays\, November 6\, 13\, 20; December 4\, 11\, 18; Parish Hall 1st Floor\, 4-5:30pm
URL:https://www.frsuu.org/event/theater-in-the-open/2025-12-04/
LOCATION:Parish Hall 1st Floor
ORGANIZER;CN="Mara Flynn":MAILTO:mara.flynn@frsuu.org
END:VEVENT
BEGIN:VEVENT
DTSTART;TZID=America/New_York:20251204T180000
DTEND;TZID=America/New_York:20251204T190000
DTSTAMP:20260420T032438
CREATED:20250905T190914Z
LAST-MODIFIED:20250905T190914Z
UID:49689-1764871200-1764874800@www.frsuu.org
SUMMARY:Big Questions Discussion Group w/ Rev. Laurel
DESCRIPTION:First Thursdays beginning October 2\, LMH Nursery/Conf Room\, 6-7pm. \nJoin Rev. Laurel for an informal monthly conversation in which we ponder the mysteries of life’s big questions. What is evil? Is goodness inherent? What happens when we die? Bring your questions and your curiosity.
URL:https://www.frsuu.org/event/big-questions-discussion-group-w-rev-laurel/2025-12-04/
LOCATION:LMH Nursery/Conf Room
END:VEVENT
BEGIN:VEVENT
DTSTART;TZID=America/New_York:20251204T190000
DTEND;TZID=America/New_York:20251204T203000
DTSTAMP:20260420T032438
CREATED:20250124T200119Z
LAST-MODIFIED:20260417T150551Z
UID:44012-1764874800-1764880200@www.frsuu.org
SUMMARY:Adult Choir
DESCRIPTION:Thursdays\, LMH Main Room\, 7-8:30pm.
URL:https://www.frsuu.org/event/adult-choir-2/2025-12-04/
LOCATION:LMH Main Room\, 26 Pleasant St\, Newburyport\, MA\, 01950\, United States
END:VEVENT
BEGIN:VEVENT
DTSTART;TZID=America/New_York:20251205T080000
DTEND;TZID=America/New_York:20251205T093000
DTSTAMP:20260420T032438
CREATED:20251104T185515Z
LAST-MODIFIED:20251104T185515Z
UID:49231-1764921600-1764927000@www.frsuu.org
SUMMARY:Capital Campaign Meeting (hybrid)
DESCRIPTION:Fridays starting October 31\, LMH Room A\, 8-9:30am
URL:https://www.frsuu.org/event/capital-campaign-meeting-hybrid/2025-12-05/
LOCATION:LMH Room A\, 26 Pleasant St\, Newburyport\, MA\, 01950\, United States
END:VEVENT
BEGIN:VEVENT
DTSTART;TZID=America/New_York:20251205T100000
DTEND;TZID=America/New_York:20251205T113000
DTSTAMP:20260420T032438
CREATED:20240607T153804Z
LAST-MODIFIED:20251224T212340Z
UID:46385-1764928800-1764934200@www.frsuu.org
SUMMARY:Friday Book Group (Hybrid)
DESCRIPTION:Fridays\, LMH Room A\, 10-11:30am. \nWe meet weekly and read both fiction and non-fiction books chosen by participants. Each book is read and discussed over a period of several meetings\, with the reading for each determined by the group.
URL:https://www.frsuu.org/event/friday-book-group/2025-12-05/
LOCATION:LMH Room A\, 26 Pleasant St\, Newburyport\, MA\, 01950\, United States
END:VEVENT
BEGIN:VEVENT
DTSTART;TZID=America/New_York:20251205T110000
DTEND;TZID=America/New_York:20251205T120000
DTSTAMP:20260420T032438
CREATED:20250903T210908Z
LAST-MODIFIED:20260107T181549Z
UID:47396-1764932400-1764936000@www.frsuu.org
SUMMARY:Friday Peace Vigil (offsite)
DESCRIPTION:Every Friday\, Market Square Bullnose\, 11am. \nRev. Rebecca leads this weekly gathering to reflect on and remember our commitment to peace\, love\, and compassion as we navigate the turbulence and daily horrors of our troubled world.
URL:https://www.frsuu.org/event/friday-peace-vigil-offsite/2025-12-05/
LOCATION:Market Square Bullnose\, Newburyport\, 01950\, United States
END:VEVENT
BEGIN:VEVENT
DTSTART;TZID=America/New_York:20251205T180000
DTEND;TZID=America/New_York:20251205T193000
DTSTAMP:20260420T032438
CREATED:20240906T220128Z
LAST-MODIFIED:20240906T220128Z
UID:40873-1764957600-1764963000@www.frsuu.org
SUMMARY:SMART Recovery (Contact: 678-378-0786)
DESCRIPTION:Meets weekly on Friday
URL:https://www.frsuu.org/event/smart-recovery-contact-678-378-0786-3/2025-12-05/
LOCATION:Hayward Room\, 26 Pleasant St\, Newburyport\, MA\, 01950\, United States
CATEGORIES:Recovery
END:VEVENT
BEGIN:VEVENT
DTSTART;TZID=America/New_York:20251205T183000
DTEND;TZID=America/New_York:20251205T200000
DTSTAMP:20260420T032438
CREATED:20251008T202559Z
LAST-MODIFIED:20251203T181614Z
UID:48886-1764959400-1764964800@www.frsuu.org
SUMMARY:CANCELED: SingOut: All I Want For Christmas Is You
DESCRIPTION:We regretfully announce that the SingOut scheduled for this Friday\, December 5 in the FRSUU Sanctuary has been canceled due to illness. We look forward to singing with you again soon! \nCANCELED: Friday – December 5 – 6:30-8pm – Sanctuary
URL:https://www.frsuu.org/event/singout-all-i-want-for-christmas-is-you/
LOCATION:FRS Sanctuary\, 26 Pleasant St\, Newburyport\, MA\, 01950\, United States
END:VEVENT
BEGIN:VEVENT
DTSTART;TZID=America/New_York:20251206T080000
DTEND;TZID=America/New_York:20251206T093000
DTSTAMP:20260420T032438
CREATED:20251202T135750Z
LAST-MODIFIED:20251202T135750Z
UID:49663-1765008000-1765013400@www.frsuu.org
SUMMARY:FRSUU Men's Group
DESCRIPTION:First Saturdays\, LMH Room A\, 8-9:30am
URL:https://www.frsuu.org/event/frsuu-mens-group/2025-12-06/
LOCATION:LMH Room A\, 26 Pleasant St\, Newburyport\, MA\, 01950\, United States
END:VEVENT
BEGIN:VEVENT
DTSTART;TZID=America/New_York:20251207T093000
DTEND;TZID=America/New_York:20251207T103000
DTSTAMP:20260420T032438
CREATED:20250916T155023Z
LAST-MODIFIED:20250916T155023Z
UID:47979-1765099800-1765103400@www.frsuu.org
SUMMARY:Immigration Justice Meeting
DESCRIPTION:1st Sundays\, beginning November 2\, LMH Room A\, 9:30-10:30am. \nThis is a monthly meeting to discuss and plan actions in support of the immigrant and refugee communities.
URL:https://www.frsuu.org/event/immigration-justice-meeting/2025-12-07/
LOCATION:LMH Room A\, 26 Pleasant St\, Newburyport\, MA\, 01950\, United States
END:VEVENT
BEGIN:VEVENT
DTSTART;TZID=America/New_York:20251207T094500
DTEND;TZID=America/New_York:20251207T101500
DTSTAMP:20260420T032438
CREATED:20251112T203041Z
LAST-MODIFIED:20251112T203041Z
UID:49306-1765100700-1765102500@www.frsuu.org
SUMMARY:Young Church Singers
DESCRIPTION:Sundays\, November 16 and 23\, LMH Room A\, 9:45-10:15am. \nSunday\, December 7\, LMH Nursery/Conf Room\, 9:45-10:15am.
URL:https://www.frsuu.org/event/young-church-singers-3/
LOCATION:LMH Nursery/Conf Room
ORGANIZER;CN="Mara Flynn":MAILTO:mara.flynn@frsuu.org
END:VEVENT
BEGIN:VEVENT
DTSTART;TZID=America/New_York:20251207T103000
DTEND;TZID=America/New_York:20251207T113000
DTSTAMP:20260420T032438
CREATED:20250520T205919Z
LAST-MODIFIED:20260407T154158Z
UID:46147-1765103400-1765107000@www.frsuu.org
SUMMARY:Sunday Worship Service
DESCRIPTION:Sundays\, Sanctuary\, 10:30-11:30am with livestream on YouTube. \nJoin us for worship from the Sunday after Labor Day through late spring. Experience elements of the world religions\, including our Christian roots and humanism. Find inspiration in choral and instrumental music (including organ)\, congregational singing\, a time for children\, readings\, an offering\, and meditative silence. Hear a sermon on social justice\, spirituality\, dealing with life’s challenges\, or other issues. We may celebrate a holiday\, act out a skit\, or hold a coming-of-age ceremony. Services are usually followed by a 30-minute fellowship gathering or a monthly Justice Sunday program.
URL:https://www.frsuu.org/event/sunday-worship-service-3/2025-12-07/
LOCATION:FRS Sanctuary\, 26 Pleasant St\, Newburyport\, MA\, 01950\, United States
CATEGORIES:Music,Worship
END:VEVENT
END:VCALENDAR