BEGIN:VCALENDAR
VERSION:2.0
PRODID:-//First Religious Society of Newburyport - ECPv6.15.20//NONSGML v1.0//EN
CALSCALE:GREGORIAN
METHOD:PUBLISH
X-WR-CALNAME:First Religious Society of Newburyport
X-ORIGINAL-URL:https://www.frsuu.org
X-WR-CALDESC:Events for First Religious Society of Newburyport
REFRESH-INTERVAL;VALUE=DURATION:PT1H
X-Robots-Tag:noindex
X-PUBLISHED-TTL:PT1H
BEGIN:VTIMEZONE
TZID:America/New_York
BEGIN:DAYLIGHT
TZOFFSETFROM:-0500
TZOFFSETTO:-0400
TZNAME:EDT
DTSTART:20240310T070000
END:DAYLIGHT
BEGIN:STANDARD
TZOFFSETFROM:-0400
TZOFFSETTO:-0500
TZNAME:EST
DTSTART:20241103T060000
END:STANDARD
BEGIN:DAYLIGHT
TZOFFSETFROM:-0500
TZOFFSETTO:-0400
TZNAME:EDT
DTSTART:20250309T070000
END:DAYLIGHT
BEGIN:STANDARD
TZOFFSETFROM:-0400
TZOFFSETTO:-0500
TZNAME:EST
DTSTART:20251102T060000
END:STANDARD
BEGIN:DAYLIGHT
TZOFFSETFROM:-0500
TZOFFSETTO:-0400
TZNAME:EDT
DTSTART:20260308T070000
END:DAYLIGHT
BEGIN:STANDARD
TZOFFSETFROM:-0400
TZOFFSETTO:-0500
TZNAME:EST
DTSTART:20261101T060000
END:STANDARD
END:VTIMEZONE
BEGIN:VEVENT
DTSTART;TZID=America/New_York:20250511T093000
DTEND;TZID=America/New_York:20250511T103000
DTSTAMP:20260423T033057
CREATED:20250114T203759Z
LAST-MODIFIED:20250304T194024Z
UID:43607-1746955800-1746959400@www.frsuu.org
SUMMARY:Community Outreach Committee Meeting
DESCRIPTION:Second Sundays\, April 13\, May 11\, June 8\, LMH Room A\, 9:30-10:30am.
URL:https://www.frsuu.org/event/community-outreach-committee-meeting-2/2025-05-11/
LOCATION:LMH Room A\, 26 Pleasant St\, Newburyport\, MA\, 01950\, United States
END:VEVENT
BEGIN:VEVENT
DTSTART;TZID=America/New_York:20250511T080000
DTEND;TZID=America/New_York:20250511T110000
DTSTAMP:20260423T033057
CREATED:20250324T223808Z
LAST-MODIFIED:20250324T235401Z
UID:45319-1746950400-1746961200@www.frsuu.org
SUMMARY:29th Annual Mother's Day Walk for Peace
DESCRIPTION:The Mother’s Day Walk for Peace (MDW4P) is a beloved Boston tradition honoring the lives of our loved ones who have been murdered. It is the Louis D. Brown Peace Institute’s (LDBPI) largest fundraising event to grow and sustain services\, advocacy and training. Both Rev. Rebecca and Rev. Laurel will be walking this year\, and you are welcome to join our team or contribute here. The walk will be begin at 8am at Town Field Park\, 1565 Dorchester Ave in Dorchester. \nFree parking is available on Sunday\, May 11\, at the 500-520 Geneva Ave lot in Dorchester as well as at the Community Academy of Science and Health School at 11 Charles St\, Dorchester\, MA 02122.  There is also ample free street parking in the area. There are also 22 spaces available at Municipal Lot #20 at 191 Adams St. Bost
URL:https://www.frsuu.org/event/29th-annual-mothers-day-walk-for-peace/
LOCATION:Town Field Park\, 1565 Dorchester Ave\, Dorchester\, MA\, 02122\, United States
CATEGORIES:Community Events,Fundraising,Justice Action MInistry
END:VEVENT
BEGIN:VEVENT
DTSTART;TZID=America/New_York:20250510T140000
DTEND;TZID=America/New_York:20250510T160000
DTSTAMP:20260423T033057
CREATED:20250324T182719Z
LAST-MODIFIED:20250408T214042Z
UID:45293-1746885600-1746892800@www.frsuu.org
SUMMARY:Private Memorial
DESCRIPTION:Saturday\, May 10\, Sanctuary and Lower Meetinghouse\, 2-4pm. Reservation for space is 1-5pm.
URL:https://www.frsuu.org/event/private-memorial/
LOCATION:FRS Sanctuary\, 26 Pleasant St\, Newburyport\, MA\, 01950\, United States
CATEGORIES:Private Rental
END:VEVENT
BEGIN:VEVENT
DTSTART;TZID=America/New_York:20250510T080000
DTEND;TZID=America/New_York:20250510T110000
DTSTAMP:20260423T033057
CREATED:20240814T231956Z
LAST-MODIFIED:20250124T194142Z
UID:39796-1746864000-1746874800@www.frsuu.org
SUMMARY:Merrimack Valley Ship Model Club (MVSMC)
DESCRIPTION:Second Saturdays\, Lower Meetinghouse Main Room\, 8-11am.
URL:https://www.frsuu.org/event/merrimack-valley-ship-model-club-mvsmc/2025-05-10/
LOCATION:LMH Main Room\, 26 Pleasant St\, Newburyport\, MA\, 01950\, United States
END:VEVENT
BEGIN:VEVENT
DTSTART;TZID=America/New_York:20250509T180000
DTEND;TZID=America/New_York:20250509T193000
DTSTAMP:20260423T033057
CREATED:20240906T220128Z
LAST-MODIFIED:20240906T220128Z
UID:40843-1746813600-1746819000@www.frsuu.org
SUMMARY:SMART Recovery (Contact: 678-378-0786)
DESCRIPTION:Meets weekly on Friday
URL:https://www.frsuu.org/event/smart-recovery-contact-678-378-0786-3/2025-05-09/
LOCATION:Hayward Room\, 26 Pleasant St\, Newburyport\, MA\, 01950\, United States
CATEGORIES:Recovery
END:VEVENT
BEGIN:VEVENT
DTSTART;TZID=America/New_York:20250509T160000
DTEND;TZID=America/New_York:20250509T170000
DTSTAMP:20260423T033057
CREATED:20241008T151939Z
LAST-MODIFIED:20241009T180039Z
UID:41897-1746806400-1746810000@www.frsuu.org
SUMMARY:Reserved for Piano Practice
DESCRIPTION:Gay Pearson piano practice\, every Friday\, 4-5pm\, Sanctuary
URL:https://www.frsuu.org/event/reserved-for-piano-rehearsal-2/2025-05-09/
LOCATION:FRS Sanctuary\, 26 Pleasant St\, Newburyport\, MA\, 01950\, United States
END:VEVENT
BEGIN:VEVENT
DTSTART;TZID=America/New_York:20250509T110000
DTEND;TZID=America/New_York:20250509T120000
DTSTAMP:20260423T033057
CREATED:20250422T205147Z
LAST-MODIFIED:20250603T171735Z
UID:45623-1746788400-1746792000@www.frsuu.org
SUMMARY:Weekly Peace Vigil (offsite)
DESCRIPTION:Fridays through May 30\, Market Square Bullnose\, 11am. \nPlease join us as Rev. Rebecca leads these weekly gatherings to reflect on and remember our commitment to peace\, love\, and compassion as we navigate the turbulence and daily horrors of our troubled world.
URL:https://www.frsuu.org/event/weekly-peace-vigil-offsite/2025-05-09/
LOCATION:Market Square Bullnose\, Newburyport\, 01950\, United States
END:VEVENT
BEGIN:VEVENT
DTSTART;TZID=America/New_York:20250509T100000
DTEND;TZID=America/New_York:20250509T113000
DTSTAMP:20260423T033057
CREATED:20240607T153804Z
LAST-MODIFIED:20251224T212318Z
UID:38353-1746784800-1746790200@www.frsuu.org
SUMMARY:Friday Book Group (Hybrid)
DESCRIPTION:Fridays\, LMH Room A\, 10-11:30am. \nWe meet weekly and read both fiction and non-fiction books chosen by participants. Each book is read and discussed over a period of several meetings\, with the reading for each determined by the group.
URL:https://www.frsuu.org/event/friday-book-group/2025-05-09/
LOCATION:LMH Room A\, 26 Pleasant St\, Newburyport\, MA\, 01950\, United States
END:VEVENT
BEGIN:VEVENT
DTSTART;TZID=America/New_York:20250509T100000
DTEND;TZID=America/New_York:20250509T110000
DTSTAMP:20260423T033057
CREATED:20250318T133519Z
LAST-MODIFIED:20250402T133423Z
UID:44958-1746784800-1746788400@www.frsuu.org
SUMMARY:Reserved for Meeting
DESCRIPTION:Every three weeks: Fridays starting May 9\, LMH Nursery/Conf Room\, 10am.
URL:https://www.frsuu.org/event/reserved-for-meeting-4/2025-05-09/
LOCATION:LMH Nursery/Conf Room
END:VEVENT
BEGIN:VEVENT
DTSTART;TZID=America/New_York:20250509T080000
DTEND;TZID=America/New_York:20250509T213000
DTSTAMP:20260423T033057
CREATED:20250416T195839Z
LAST-MODIFIED:20250416T195839Z
UID:45543-1746777600-1746826200@www.frsuu.org
SUMMARY:Capital Campaign Meeting
DESCRIPTION:Every other Friday starting April 25\, LMH Room A\, 8-9:30am
URL:https://www.frsuu.org/event/capital-campaign-meeting-3/2025-05-09/
LOCATION:LMH Room A\, 26 Pleasant St\, Newburyport\, MA\, 01950\, United States
END:VEVENT
BEGIN:VEVENT
DTSTART;TZID=America/New_York:20250508T190000
DTEND;TZID=America/New_York:20250508T203000
DTSTAMP:20260423T033057
CREATED:20240830T152934Z
LAST-MODIFIED:20250527T194048Z
UID:40059-1746730800-1746736200@www.frsuu.org
SUMMARY:Adult Choir
DESCRIPTION:Thursdays\, LMH Main Room\, 7-8:30pm
URL:https://www.frsuu.org/event/adult-choir/2025-05-08/
LOCATION:LMH Main Room\, 26 Pleasant St\, Newburyport\, MA\, 01950\, United States
CATEGORIES:Music
END:VEVENT
BEGIN:VEVENT
DTSTART;TZID=America/New_York:20250508T180000
DTEND;TZID=America/New_York:20250508T190000
DTSTAMP:20260423T033057
CREATED:20241018T165116Z
LAST-MODIFIED:20250210T164554Z
UID:42199-1746727200-1746730800@www.frsuu.org
SUMMARY:Mt. Pemigewassett Hikers
DESCRIPTION:Hayward Room
URL:https://www.frsuu.org/event/tentative-mt-pemigewassett-hikers/2025-05-08/
LOCATION:Hayward Room\, 26 Pleasant St\, Newburyport\, MA\, 01950\, United States
END:VEVENT
BEGIN:VEVENT
DTSTART;TZID=America/New_York:20250508T140000
DTEND;TZID=America/New_York:20250508T160000
DTSTAMP:20260423T033057
CREATED:20241008T151729Z
LAST-MODIFIED:20241022T135158Z
UID:41858-1746712800-1746720000@www.frsuu.org
SUMMARY:Reserved for Piano Practice
DESCRIPTION:Thursdays\, Sanctuary\, 2-4pm\, Gay Pearson
URL:https://www.frsuu.org/event/reserved-for-piano-rehearsal/2025-05-08/
LOCATION:FRS Sanctuary\, 26 Pleasant St\, Newburyport\, MA\, 01950\, United States
END:VEVENT
BEGIN:VEVENT
DTSTART;TZID=America/New_York:20250508T100000
DTEND;TZID=America/New_York:20250508T120000
DTSTAMP:20260423T033057
CREATED:20250115T150444Z
LAST-MODIFIED:20250417T203554Z
UID:43646-1746698400-1746705600@www.frsuu.org
SUMMARY:Chalice Circle
DESCRIPTION:Thursdays\, February 27 to May 29\, LMH Nursery/Conf Room\, 10am-noon.
URL:https://www.frsuu.org/event/hold-for-chalice-circle-2/2025-05-08/
LOCATION:LMH Nursery/Conf Room
END:VEVENT
BEGIN:VEVENT
DTSTART;TZID=America/New_York:20250507T183000
DTEND;TZID=America/New_York:20250507T200000
DTSTAMP:20260423T033057
CREATED:20241017T192455Z
LAST-MODIFIED:20241122T221929Z
UID:42725-1746642600-1746648000@www.frsuu.org
SUMMARY:Stewardship Meeting (Zoom)
DESCRIPTION:Meets on the second Wednesday of each month at 6:30pm on Zoom.
URL:https://www.frsuu.org/event/stewardship-meeting-2/2025-05-07/
LOCATION:Zoom
END:VEVENT
BEGIN:VEVENT
DTSTART;TZID=America/New_York:20250507T153000
DTEND;TZID=America/New_York:20250507T170000
DTSTAMP:20260423T033057
CREATED:20250429T205421Z
LAST-MODIFIED:20250429T205421Z
UID:45680-1746631800-1746637200@www.frsuu.org
SUMMARY:Exploring Elderhood Steering Committee
DESCRIPTION:Wednesday\, May 7\, LMH Main Room\, 3:30-5pm. This is a planning meeting.
URL:https://www.frsuu.org/event/exploring-elderhood-steering-committee/
LOCATION:LMH Main Room\, 26 Pleasant St\, Newburyport\, MA\, 01950\, United States
END:VEVENT
BEGIN:VEVENT
DTSTART;TZID=America/New_York:20250507T150000
DTEND;TZID=America/New_York:20250507T160000
DTSTAMP:20260423T033057
CREATED:20240802T134035Z
LAST-MODIFIED:20241121T222100Z
UID:40349-1746630000-1746633600@www.frsuu.org
SUMMARY:Addictions Ministry Team
DESCRIPTION:The Addictions Ministry Team occurs monthly on the first Wednesday from 3:00pm-4:00pm in the LMH Nursery/Conference Room.
URL:https://www.frsuu.org/event/addictions-team-meeting/2025-05-07/
LOCATION:LMH Nursery/Conf Room
CATEGORIES:Spiritual Development
END:VEVENT
BEGIN:VEVENT
DTSTART;TZID=America/New_York:20250507T120000
DTEND;TZID=America/New_York:20250507T130000
DTSTAMP:20260423T033057
CREATED:20250424T205452Z
LAST-MODIFIED:20250424T205453Z
UID:45649-1746619200-1746622800@www.frsuu.org
SUMMARY:Ladies Who Lunch
DESCRIPTION:Wednesday\, May 7\, Loretta Restaurant\, noon. \nCome join us for lunch and conversation. Call or text Nancy or Annie if you plan to attend.
URL:https://www.frsuu.org/event/ladies-who-lunch-5/
LOCATION:Loretta\, 15 Pleasant St\, Newburyport\, MA\, 01950\, United States
END:VEVENT
BEGIN:VEVENT
DTSTART;TZID=America/New_York:20250507T100000
DTEND;TZID=America/New_York:20250507T113000
DTSTAMP:20260423T033057
CREATED:20250423T190724Z
LAST-MODIFIED:20250423T190724Z
UID:45631-1746612000-1746617400@www.frsuu.org
SUMMARY:Staff Meeting
DESCRIPTION:Wednesday\, May 7\, LMH Main Room\, 10-11:30am.
URL:https://www.frsuu.org/event/staff-meeting-8/
LOCATION:LMH Main Room\, 26 Pleasant St\, Newburyport\, MA\, 01950\, United States
END:VEVENT
BEGIN:VEVENT
DTSTART;TZID=America/New_York:20250507T100000
DTEND;TZID=America/New_York:20250507T103000
DTSTAMP:20260423T033057
CREATED:20240802T135026Z
LAST-MODIFIED:20250926T154259Z
UID:39948-1746612000-1746613800@www.frsuu.org
SUMMARY:Wednesday Guided Meditation (Zoom)
DESCRIPTION:Join FRS member and LICSW Woman Cooper on Wednesdays at 10am for a brief period of mid-week relaxation and renewal. Each 30-minute session will include a guided visualization and reflection on questions around where we hold stress and how we can release it. You’ll also learn some relaxation techniques to use on your own. This is a drop-in program; come one time or many. \nIf you’d like to reach out to Woman\, email susanc0805@gmail.com. \nJoin Zoom Meeting: \n\nhttps://us02web.zoom.us/j/87349458812?pwd=dXdIUVBJb0F1MnVjL0ZDakErVlRIdz09
URL:https://www.frsuu.org/event/wednesday-guided-relaxation-2/2025-05-07/
LOCATION:Zoom
CATEGORIES:Recovery
END:VEVENT
BEGIN:VEVENT
DTSTART;TZID=America/New_York:20250507T090000
DTEND;TZID=America/New_York:20250507T100000
DTSTAMP:20260423T033057
CREATED:20241106T143709Z
LAST-MODIFIED:20241106T143709Z
UID:42934-1746608400-1746612000@www.frsuu.org
SUMMARY:4th Century Visioning Team (Hybrid)
DESCRIPTION:Meets 1st Wednesdays\, LMH Main Room\, 9-10am (Hybrid).
URL:https://www.frsuu.org/event/4th-century-visioning-team-hybrid/2025-05-07/
LOCATION:MA
END:VEVENT
BEGIN:VEVENT
DTSTART;TZID=America/New_York:20250507T080000
DTEND;TZID=America/New_York:20250507T090000
DTSTAMP:20260423T033057
CREATED:20250422T174231Z
LAST-MODIFIED:20250422T174231Z
UID:45616-1746604800-1746608400@www.frsuu.org
SUMMARY:Facilities Meeting
DESCRIPTION:Facilities Committee Meeting – Wednesday\, May 7 – 8-9am in Room A
URL:https://www.frsuu.org/event/facilities-meeting-2/
LOCATION:LMH Room A\, 26 Pleasant St\, Newburyport\, MA\, 01950\, United States
END:VEVENT
BEGIN:VEVENT
DTSTART;TZID=America/New_York:20250506T190000
DTEND;TZID=America/New_York:20250506T203000
DTSTAMP:20260423T033057
CREATED:20240614T153418Z
LAST-MODIFIED:20251007T183741Z
UID:40488-1746558000-1746563400@www.frsuu.org
SUMMARY:Alcoholic Anonymous Step Sisters
DESCRIPTION:Contact 508-215-9469; meets in the Parish Hall as of 10/7/25.
URL:https://www.frsuu.org/event/alcoholic-anonymous-step-sisters/2025-05-06/
LOCATION:Parish Hall 1st Floor
CATEGORIES:Recovery
END:VEVENT
BEGIN:VEVENT
DTSTART;TZID=America/New_York:20250506T183000
DTEND;TZID=America/New_York:20250506T200000
DTSTAMP:20260423T033057
CREATED:20241202T210539Z
LAST-MODIFIED:20250411T155605Z
UID:44767-1746556200-1746561600@www.frsuu.org
SUMMARY:Mystic Circles Group
DESCRIPTION:Tuesdays\, February 25\, March 11\, March 25\, April 8\, April 22\, May 6\, May 20\, June 3\, Lower Meetinghouse Main Room\, 6:30-8pm.
URL:https://www.frsuu.org/event/mystic-circles-group-2/2025-05-06/
LOCATION:LMH Main Room\, 26 Pleasant St\, Newburyport\, MA\, 01950\, United States
CATEGORIES:Spiritual Development
END:VEVENT
BEGIN:VEVENT
DTSTART;TZID=America/New_York:20250506T180000
DTEND;TZID=America/New_York:20250506T200000
DTSTAMP:20260423T033057
CREATED:20250128T170809Z
LAST-MODIFIED:20250324T183000Z
UID:44121-1746554400-1746561600@www.frsuu.org
SUMMARY:Chalice Circle (Zoom)
DESCRIPTION:Tuesdays\, February 25 to May 27\, 6-8pm\, Zoom only.
URL:https://www.frsuu.org/event/hold-for-chalice-circle-zoom/2025-05-06/
LOCATION:Zoom
END:VEVENT
BEGIN:VEVENT
DTSTART;TZID=America/New_York:20250506T180000
DTEND;TZID=America/New_York:20250506T200000
DTSTAMP:20260423T033057
CREATED:20250122T205150Z
LAST-MODIFIED:20250417T203042Z
UID:43912-1746554400-1746561600@www.frsuu.org
SUMMARY:Chalice Circle
DESCRIPTION:Tuesdays\, February 25 to May 13\, LMH Nursery/Conf Room\, 6-8pm
URL:https://www.frsuu.org/event/hold-for-chalice-circle-5/2025-05-06/
LOCATION:LMH Nursery/Conf Room
END:VEVENT
BEGIN:VEVENT
DTSTART;TZID=America/New_York:20250506T180000
DTEND;TZID=America/New_York:20250506T200000
DTSTAMP:20260423T033057
CREATED:20250115T143732Z
LAST-MODIFIED:20250312T172933Z
UID:43610-1746554400-1746561600@www.frsuu.org
SUMMARY:Workshop with Paula Cole Jones (Zoom)
DESCRIPTION:Tuesdays\, May 6 and May 13\, ZOOM only\, 6-8pm. \nAll are invited to join Rev. Rebecca\, Rev. Laurel\, and the Leading Edge Team in a congregation-wide workshop titled “Building a Culture of Inclusion” with Paula Cole Jones\, an author of the 8th Principle and thought leader in building Beloved Communities. This workshop will be held on two consecutive Tuesday evenings\, May 6 & 13 from 6-8 pm via Zoom. This is a wonderful opportunity to explore the spiritual\, cultural\, and structural aspects of moving more fully into our FRS vision of Beloved Community.
URL:https://www.frsuu.org/event/workshop-with-paula-cole-jones/2025-05-06/
LOCATION:Zoom
END:VEVENT
BEGIN:VEVENT
DTSTART;TZID=America/New_York:20250506T120000
DTEND;TZID=America/New_York:20250506T130000
DTSTAMP:20260423T033057
CREATED:20240802T132707Z
LAST-MODIFIED:20241022T223855Z
UID:39475-1746532800-1746536400@www.frsuu.org
SUMMARY:Short Story Group
DESCRIPTION:The Tuesday Short Story Group meets on the 1st and 3rd Tuesdays of the month\, noon\, Lower Meeting House (with a Zoom option available). \nFor more information please visit: https://www.frsuu.org/short-story-group/
URL:https://www.frsuu.org/event/tuesday-short-story-group-2/2025-05-06/
LOCATION:LMH Room A\, 26 Pleasant St\, Newburyport\, MA\, 01950\, United States
CATEGORIES:Community Events
ORGANIZER;CN="Tom Himmel":MAILTO:thimmel43@mac.com
END:VEVENT
BEGIN:VEVENT
DTSTART;TZID=America/New_York:20250506T110000
DTEND;TZID=America/New_York:20250506T114500
DTSTAMP:20260423T033057
CREATED:20250320T213205Z
LAST-MODIFIED:20251113T194722Z
UID:45004-1746529200-1746531900@www.frsuu.org
SUMMARY:FRSUU Poetry Group (Zoom)
DESCRIPTION:All who love poetry\, and who enjoy listening to poetry are invited to join the FRSUU Poetry Group. This poetry listening and appreciation group meets on Tuesday mornings for 45 minutes via Zoom. We read the same poem several times\, respond to prompts\, and share perspectives\, wisdom\, humor\, and collegiality. There is no poetry writing in this group. Please join us and give your soul and psyche the gift of poetry on a Tuesday morning. \nThis group is facilitated by Rev. Jane Tuohy.\n\nJoin Zoom Meeting \nhttps://zoom.us/j/94623863916?pwd=ufFubM2s4b4YAjU2la9RPOy25lM6Hy.1
URL:https://www.frsuu.org/event/frs-poetry-group/2025-05-06/
LOCATION:Zoom
CATEGORIES:Spiritual Development
END:VEVENT
BEGIN:VEVENT
DTSTART;TZID=America/New_York:20250505T184500
DTEND;TZID=America/New_York:20250505T200000
DTSTAMP:20260423T033057
CREATED:20240614T153123Z
LAST-MODIFIED:20240614T153539Z
UID:38704-1746470700-1746475200@www.frsuu.org
SUMMARY:Adult Children of Alcoholics
DESCRIPTION:Meets in the Hayward Room
URL:https://www.frsuu.org/event/adult-children-of-alcoholics-3/2025-05-05/
LOCATION:Hayward Room\, 26 Pleasant St\, Newburyport\, MA\, 01950\, United States
CATEGORIES:Recovery
END:VEVENT
END:VCALENDAR