BEGIN:VCALENDAR
VERSION:2.0
PRODID:-//First Religious Society of Newburyport - ECPv6.15.20//NONSGML v1.0//EN
CALSCALE:GREGORIAN
METHOD:PUBLISH
X-WR-CALNAME:First Religious Society of Newburyport
X-ORIGINAL-URL:https://www.frsuu.org
X-WR-CALDESC:Events for First Religious Society of Newburyport
REFRESH-INTERVAL;VALUE=DURATION:PT1H
X-Robots-Tag:noindex
X-PUBLISHED-TTL:PT1H
BEGIN:VTIMEZONE
TZID:America/New_York
BEGIN:DAYLIGHT
TZOFFSETFROM:-0500
TZOFFSETTO:-0400
TZNAME:EDT
DTSTART:20240310T070000
END:DAYLIGHT
BEGIN:STANDARD
TZOFFSETFROM:-0400
TZOFFSETTO:-0500
TZNAME:EST
DTSTART:20241103T060000
END:STANDARD
BEGIN:DAYLIGHT
TZOFFSETFROM:-0500
TZOFFSETTO:-0400
TZNAME:EDT
DTSTART:20250309T070000
END:DAYLIGHT
BEGIN:STANDARD
TZOFFSETFROM:-0400
TZOFFSETTO:-0500
TZNAME:EST
DTSTART:20251102T060000
END:STANDARD
BEGIN:DAYLIGHT
TZOFFSETFROM:-0500
TZOFFSETTO:-0400
TZNAME:EDT
DTSTART:20260308T070000
END:DAYLIGHT
BEGIN:STANDARD
TZOFFSETFROM:-0400
TZOFFSETTO:-0500
TZNAME:EST
DTSTART:20261101T060000
END:STANDARD
END:VTIMEZONE
BEGIN:VEVENT
DTSTART;TZID=America/New_York:20251216T190000
DTEND;TZID=America/New_York:20251216T203000
DTSTAMP:20260423T003405
CREATED:20240614T153418Z
LAST-MODIFIED:20251007T183824Z
UID:40520-1765911600-1765917000@www.frsuu.org
SUMMARY:Alcoholic Anonymous Step Sisters
DESCRIPTION:Contact 508-215-9469; meets in the Parish Hall as of 10/7/25.
URL:https://www.frsuu.org/event/alcoholic-anonymous-step-sisters/2025-12-16/
LOCATION:Parish Hall 1st Floor
CATEGORIES:Recovery
END:VEVENT
BEGIN:VEVENT
DTSTART;TZID=America/New_York:20251217T100000
DTEND;TZID=America/New_York:20251217T103000
DTSTAMP:20260423T003406
CREATED:20240802T135026Z
LAST-MODIFIED:20250926T154341Z
UID:39980-1765965600-1765967400@www.frsuu.org
SUMMARY:Wednesday Guided Meditation (Zoom)
DESCRIPTION:Join FRS member and LICSW Woman Cooper on Wednesdays at 10am for a brief period of mid-week relaxation and renewal. Each 30-minute session will include a guided visualization and reflection on questions around where we hold stress and how we can release it. You’ll also learn some relaxation techniques to use on your own. This is a drop-in program; come one time or many. \nIf you’d like to reach out to Woman\, email susanc0805@gmail.com. \nJoin Zoom Meeting: \n\nhttps://us02web.zoom.us/j/87349458812?pwd=dXdIUVBJb0F1MnVjL0ZDakErVlRIdz09
URL:https://www.frsuu.org/event/wednesday-guided-relaxation-2/2025-12-17/
LOCATION:Zoom
CATEGORIES:Recovery
END:VEVENT
BEGIN:VEVENT
DTSTART;TZID=America/New_York:20251217T100000
DTEND;TZID=America/New_York:20251217T110000
DTSTAMP:20260423T003406
CREATED:20250904T174501Z
LAST-MODIFIED:20260406T152852Z
UID:47463-1765965600-1765969200@www.frsuu.org
SUMMARY:Centering Prayer Meditation
DESCRIPTION:Weekly on Wednesdays\, Robing Room\, 10-11am. \nCentering Prayer is a form of Christian Contemplative Meditation. The purpose of this meditation is not to clear the mind as much as it is to open oneself to the presence of the Divine and invite the action of the Divine within. No previous experience or training is required. This form of Contemplative prayer is a practice in resting in the presence of God through non-thinking surrender and to form a deeper relationship with the Divine.\nCentering Prayer will be led by Cynthia Tolbert. All are welcome. Please contact Rev. Jane Tuohy at jane.tuohy@frsuu.org or 617-359-0079 if you have questions.
URL:https://www.frsuu.org/event/centering-prayer-meditation/2025-12-17/
LOCATION:Robing Room (behind pulpit)
CATEGORIES:Spiritual Development
END:VEVENT
BEGIN:VEVENT
DTSTART;TZID=America/New_York:20251217T103000
DTEND;TZID=America/New_York:20251217T120000
DTSTAMP:20260423T003406
CREATED:20250825T144514Z
LAST-MODIFIED:20251118T162835Z
UID:47232-1765967400-1765972800@www.frsuu.org
SUMMARY:Staff Meeting
DESCRIPTION:1st and 3rd Wednesdays\, LMH Main Room\, 10:30am-noon
URL:https://www.frsuu.org/event/staff-meeting-10/2025-12-17/
LOCATION:LMH Main Room\, 26 Pleasant St\, Newburyport\, MA\, 01950\, United States
END:VEVENT
BEGIN:VEVENT
DTSTART;TZID=America/New_York:20251217T123000
DTEND;TZID=America/New_York:20251217T140000
DTSTAMP:20260423T003406
CREATED:20250723T164931Z
LAST-MODIFIED:20250915T161533Z
UID:46962-1765974600-1765980000@www.frsuu.org
SUMMARY:Grief Support Group (offsite)
DESCRIPTION:Third Wednesday of the month\, Morse Conference Room (across from Gift Shop) at Anna Jaques Hospital\, 12:30-2pm. \nThis support group provides members who are experiencing grief have the opportunity in a safe (confidential) space to share their feelings\, thoughts\, and coping skills during this challenging time in their life. The group is facilitated by Nancy Kidd\, LICSW; Rev. Jane Tuohy; and Linda Harding. For information more information\, contact Nancy Kidd at nankdd@gmail.com or 978-376-8687.
URL:https://www.frsuu.org/event/grief-support-group-offsite/2025-12-17/
LOCATION:Anna Jaques Hospital\, 25 Highland Ave\, Newburyport\, MA\, United States
END:VEVENT
BEGIN:VEVENT
DTSTART;TZID=America/New_York:20251217T130000
DTEND;TZID=America/New_York:20251217T170000
DTSTAMP:20260423T003406
CREATED:20251120T215130Z
LAST-MODIFIED:20251120T215130Z
UID:49448-1765976400-1765990800@www.frsuu.org
SUMMARY:Organ Practice - Candlelight
DESCRIPTION:Wed\, Dec 17 – 1-5pm – Sanctuary
URL:https://www.frsuu.org/event/organ-practice-candlelight/
LOCATION:FRS Sanctuary\, 26 Pleasant St\, Newburyport\, MA\, 01950\, United States
END:VEVENT
BEGIN:VEVENT
DTSTART;TZID=America/New_York:20251217T160000
DTEND;TZID=America/New_York:20251217T173000
DTSTAMP:20260423T003406
CREATED:20250825T193723Z
LAST-MODIFIED:20250825T193723Z
UID:47267-1765987200-1765992600@www.frsuu.org
SUMMARY:Pastoral Care Associates
DESCRIPTION:Third Wednesdays\, LMH Room A\, 4-5:30pm.
URL:https://www.frsuu.org/event/pastoral-care-associates-6/2025-12-17/
LOCATION:LMH Room A\, 26 Pleasant St\, Newburyport\, MA\, 01950\, United States
END:VEVENT
BEGIN:VEVENT
DTSTART;TZID=America/New_York:20251217T180000
DTEND;TZID=America/New_York:20251217T200000
DTSTAMP:20260423T003406
CREATED:20250829T144048Z
LAST-MODIFIED:20250829T144048Z
UID:47373-1765994400-1766001600@www.frsuu.org
SUMMARY:Parish Board Meeting
DESCRIPTION:Third Wednesdays\, LMH Main Room\, 6-8pm\, hybrid
URL:https://www.frsuu.org/event/parish-board-meeting-2/2025-12-17/
LOCATION:LMH Main Room\, 26 Pleasant St\, Newburyport\, MA\, 01950\, United States
END:VEVENT
BEGIN:VEVENT
DTSTART;TZID=America/New_York:20251218T093000
DTEND;TZID=America/New_York:20251218T103000
DTSTAMP:20260423T003406
CREATED:20251104T145723Z
LAST-MODIFIED:20251104T145723Z
UID:49212-1766050200-1766053800@www.frsuu.org
SUMMARY:Parish Friends Third Thursdays
DESCRIPTION:Third Thursdays\, LMH Nursery/Conf Room\, 9:30-10:30am. \nA monthly\, somewhat casual Parish Friends morning meeting – bring your own tea or coffee. An opportunity to meet other Parish Friends\, ask questions\, and brainstorm. If interested in simply learning more about Parish Friends\, this would be a great forum. We realize mornings don’t work for everyone. If you are wanting to attend\, but not able to\, let Susan Ricker know at parishfriends@frsuu.org or use her personal contact information in the FRSUU Realm directory.
URL:https://www.frsuu.org/event/parish-friends-third-thursdays/2025-12-18/
LOCATION:LMH Nursery/Conf Room
END:VEVENT
BEGIN:VEVENT
DTSTART;TZID=America/New_York:20251218T110000
DTEND;TZID=America/New_York:20251218T114500
DTSTAMP:20260423T003406
CREATED:20251113T200748Z
LAST-MODIFIED:20251126T214713Z
UID:49315-1766055600-1766058300@www.frsuu.org
SUMMARY:FRSUU Poetry Group (Zoom)
DESCRIPTION:Meets Thursdays (previously on Tuesdays) on Zoom at 11am. \nThe FRSUU Poetry Group is open to all who enjoy reading or listening to poetry. Prompts or questions are provided as we listen multiple times to one poem a week. If you have been wishing you had more time in your busy schedule for poetry\, give yourself the gift of one hour of poetry on Thursday mornings. Individuals with questions should contact Rev. Jane Tuohy at 617-359-0079. \nJoin Zoom Meeting:\nhttps://zoom.us/j/94623863916?pwd=ufFubM2s4b4YAjU2la9RPOy25lM6Hy.1 \nMeeting ID: 946 2386 3916; Passcode: 774520
URL:https://www.frsuu.org/event/frsuu-poetry-group-zoom/2025-12-18/
LOCATION:Zoom
CATEGORIES:Spiritual Development
END:VEVENT
BEGIN:VEVENT
DTSTART;TZID=America/New_York:20251218T130000
DTEND;TZID=America/New_York:20251218T143000
DTSTAMP:20260423T003406
CREATED:20250926T134815Z
LAST-MODIFIED:20251218T155317Z
UID:48321-1766062800-1766068200@www.frsuu.org
SUMMARY:CANCELED: Exploring Elderhood Together: Aging Well Spiritually
DESCRIPTION:THIS PRESENTATION IS CANCELED DUE TO ILLNESS. \nThursday\, December 18\, LMH Main Room\, 1-2:30pm. \nAging Well Spiritually \nFocusing on lessons learned through their hospice and chaplaincy work\, Rev. Jane Tuohy and Nancy Kidd invite you to consider ways to strengthen your spiritual capacities. These capacities are what support us as we face our own mortality and that of our beloveds. They will explore the concepts of intention\, attitude\, and resilience\, and specific qualities we can develop through “spiritual training.” There will be time for reflection as well as dialogue with one another. Nancy Kidd is an FRSUU member and licensed independent clinical social worker. Rev. Jane Tuohy is an FRSUU member who offers interfaith programming here at church and has focused on interfaith exploration of mysticism and contemplative practices.
URL:https://www.frsuu.org/event/exploring-elderhood-together-aging-well-spiritually/
LOCATION:LMH Main Room\, 26 Pleasant St\, Newburyport\, MA\, 01950\, United States
CATEGORIES:Community Events
END:VEVENT
BEGIN:VEVENT
DTSTART;TZID=America/New_York:20251218T160000
DTEND;TZID=America/New_York:20251218T173000
DTSTAMP:20260423T003406
CREATED:20250926T135533Z
LAST-MODIFIED:20250926T135608Z
UID:48341-1766073600-1766079000@www.frsuu.org
SUMMARY:Theater in the Open
DESCRIPTION:Thursdays\, November 6\, 13\, 20; December 4\, 11\, 18; Parish Hall 1st Floor\, 4-5:30pm
URL:https://www.frsuu.org/event/theater-in-the-open/2025-12-18/
LOCATION:Parish Hall 1st Floor
ORGANIZER;CN="Mara Flynn":MAILTO:mara.flynn@frsuu.org
END:VEVENT
BEGIN:VEVENT
DTSTART;TZID=America/New_York:20251218T190000
DTEND;TZID=America/New_York:20251218T203000
DTSTAMP:20260423T003406
CREATED:20250124T200119Z
LAST-MODIFIED:20260417T150552Z
UID:44014-1766084400-1766089800@www.frsuu.org
SUMMARY:Adult Choir
DESCRIPTION:Thursdays\, LMH Main Room\, 7-8:30pm.
URL:https://www.frsuu.org/event/adult-choir-2/2025-12-18/
LOCATION:LMH Main Room\, 26 Pleasant St\, Newburyport\, MA\, 01950\, United States
END:VEVENT
BEGIN:VEVENT
DTSTART;TZID=America/New_York:20251219T080000
DTEND;TZID=America/New_York:20251219T093000
DTSTAMP:20260423T003406
CREATED:20251104T185515Z
LAST-MODIFIED:20251104T185515Z
UID:49233-1766131200-1766136600@www.frsuu.org
SUMMARY:Capital Campaign Meeting (hybrid)
DESCRIPTION:Fridays starting October 31\, LMH Room A\, 8-9:30am
URL:https://www.frsuu.org/event/capital-campaign-meeting-hybrid/2025-12-19/
LOCATION:LMH Room A\, 26 Pleasant St\, Newburyport\, MA\, 01950\, United States
END:VEVENT
BEGIN:VEVENT
DTSTART;TZID=America/New_York:20251219T100000
DTEND;TZID=America/New_York:20251219T113000
DTSTAMP:20260423T003406
CREATED:20240607T153804Z
LAST-MODIFIED:20251224T212342Z
UID:46387-1766138400-1766143800@www.frsuu.org
SUMMARY:Friday Book Group (Hybrid)
DESCRIPTION:Fridays\, LMH Room A\, 10-11:30am. \nWe meet weekly and read both fiction and non-fiction books chosen by participants. Each book is read and discussed over a period of several meetings\, with the reading for each determined by the group.
URL:https://www.frsuu.org/event/friday-book-group/2025-12-19/
LOCATION:LMH Room A\, 26 Pleasant St\, Newburyport\, MA\, 01950\, United States
END:VEVENT
BEGIN:VEVENT
DTSTART;TZID=America/New_York:20251219T110000
DTEND;TZID=America/New_York:20251219T120000
DTSTAMP:20260423T003406
CREATED:20250903T210908Z
LAST-MODIFIED:20260107T181552Z
UID:47398-1766142000-1766145600@www.frsuu.org
SUMMARY:Friday Peace Vigil (offsite)
DESCRIPTION:Every Friday\, Market Square Bullnose\, 11am. \nRev. Rebecca leads this weekly gathering to reflect on and remember our commitment to peace\, love\, and compassion as we navigate the turbulence and daily horrors of our troubled world.
URL:https://www.frsuu.org/event/friday-peace-vigil-offsite/2025-12-19/
LOCATION:Market Square Bullnose\, Newburyport\, 01950\, United States
END:VEVENT
BEGIN:VEVENT
DTSTART;TZID=America/New_York:20251219T120000
DTEND;TZID=America/New_York:20251219T130000
DTSTAMP:20260423T003406
CREATED:20250502T190329Z
LAST-MODIFIED:20251217T215545Z
UID:45835-1766145600-1766149200@www.frsuu.org
SUMMARY:Serenity in the Sanctuary
DESCRIPTION:Friday\, December 19\, Monday\, December 22\, Tuesday\, December 23\, Sanctuary\, noon. \nPeace can be found within. Join us for one-hour programs of poetry\, guided meditation\, silent meditation\, and blessing. \nDecember 19: “Listen Inside” with Rev. Rebecca and Nick Place \nDecember 22: “Anticipating with Hope” with Rev. Laurel \nDecember 23: “Many Meanings of the Season” with Rev. Jane and Joanna Fernandes
URL:https://www.frsuu.org/event/serenity-in-the-sanctuary-3/2025-12-19/
LOCATION:FRS Sanctuary\, 26 Pleasant St\, Newburyport\, MA\, 01950\, United States
CATEGORIES:Spiritual Development
END:VEVENT
BEGIN:VEVENT
DTSTART;TZID=America/New_York:20251219T120000
DTEND;TZID=America/New_York:20251219T130000
DTSTAMP:20260423T003406
CREATED:20251211T144827Z
LAST-MODIFIED:20251211T144827Z
UID:49797-1766145600-1766149200@www.frsuu.org
SUMMARY:Reserved for Nancy Kidd
DESCRIPTION:Friday\, December 19\, LMH Nursery/Conf Room\, 12-1pm
URL:https://www.frsuu.org/event/reserved-for-nancy-kidd-5/
LOCATION:LMH Nursery/Conf Room
END:VEVENT
BEGIN:VEVENT
DTSTART;TZID=America/New_York:20251219T150000
DTEND;TZID=America/New_York:20251219T153000
DTSTAMP:20260423T003406
CREATED:20251219T152839Z
LAST-MODIFIED:20251219T152839Z
UID:49877-1766156400-1766158200@www.frsuu.org
SUMMARY:Reserved for Margen Kelsey & Zarifa
DESCRIPTION:Friday\, December 19\, LMH Room A\, 3-3:30pm
URL:https://www.frsuu.org/event/reserved-for-margen-kelsey-zarifa/
LOCATION:LMH Room A\, 26 Pleasant St\, Newburyport\, MA\, 01950\, United States
END:VEVENT
BEGIN:VEVENT
DTSTART;TZID=America/New_York:20251219T170000
DTEND;TZID=America/New_York:20251219T200000
DTSTAMP:20260423T003406
CREATED:20250923T162934Z
LAST-MODIFIED:20250923T162934Z
UID:48213-1766163600-1766174400@www.frsuu.org
SUMMARY:Gina McKeown - Student Recital
DESCRIPTION:Friday\, December 19\, Sanctuary and LMH Main Room\, reserved 5-8pm.
URL:https://www.frsuu.org/event/gina-mckeown-student-recital-2/
LOCATION:FRS Sanctuary\, 26 Pleasant St\, Newburyport\, MA\, 01950\, United States
END:VEVENT
BEGIN:VEVENT
DTSTART;TZID=America/New_York:20251219T180000
DTEND;TZID=America/New_York:20251219T193000
DTSTAMP:20260423T003406
CREATED:20240906T220128Z
LAST-MODIFIED:20240906T220128Z
UID:40875-1766167200-1766172600@www.frsuu.org
SUMMARY:SMART Recovery (Contact: 678-378-0786)
DESCRIPTION:Meets weekly on Friday
URL:https://www.frsuu.org/event/smart-recovery-contact-678-378-0786-3/2025-12-19/
LOCATION:Hayward Room\, 26 Pleasant St\, Newburyport\, MA\, 01950\, United States
CATEGORIES:Recovery
END:VEVENT
BEGIN:VEVENT
DTSTART;TZID=America/New_York:20251220T090000
DTEND;TZID=America/New_York:20251220T120000
DTSTAMP:20260423T003406
CREATED:20251120T215231Z
LAST-MODIFIED:20251120T215231Z
UID:49450-1766221200-1766232000@www.frsuu.org
SUMMARY:Organ Practice - Candlelight
DESCRIPTION:Sat\, Dec 20 – 9am-12pm – Sanctuary
URL:https://www.frsuu.org/event/organ-practice-candlelight-2/
LOCATION:FRS Sanctuary\, 26 Pleasant St\, Newburyport\, MA\, 01950\, United States
END:VEVENT
BEGIN:VEVENT
DTSTART;TZID=America/New_York:20251220T130000
DTEND;TZID=America/New_York:20251220T150000
DTSTAMP:20260423T003406
CREATED:20251111T161416Z
LAST-MODIFIED:20251111T161416Z
UID:49271-1766235600-1766242800@www.frsuu.org
SUMMARY:Candlelight Dress Rehearsal
DESCRIPTION:Saturday\, December 20\, Sanctuary\, 1-3pm
URL:https://www.frsuu.org/event/candlelight-dress-rehearsal/
LOCATION:FRS Sanctuary\, 26 Pleasant St\, Newburyport\, MA\, 01950\, United States
END:VEVENT
BEGIN:VEVENT
DTSTART;TZID=America/New_York:20251221T103000
DTEND;TZID=America/New_York:20251221T113000
DTSTAMP:20260423T003406
CREATED:20250520T213911Z
LAST-MODIFIED:20251217T193302Z
UID:46218-1766313000-1766316600@www.frsuu.org
SUMMARY:Winter Solstice on the Beach (offsite)
DESCRIPTION:Sunday\, December 21\, Salisbury Beach State Reservation\, 1 Beach Rd\, Salisbury\, MA\, 10:30am. \nA time by the ocean to connect us with the rhythms of nature. This gathering is in place of our regular Sunday worship. Take State Reservation Rd to the end and park in Lot 1 (last parking lot on the left). Beach Access R1. Look for the FRSUU greeter at the beach path head. \nPlease note: the church building will be closed in the morning on December 21.
URL:https://www.frsuu.org/event/winter-solstice-service-offsite/
LOCATION:Parker River National Wildlife Refuge\, Refuge Rd Lot 1\, Newbury
CATEGORIES:Worship
END:VEVENT
BEGIN:VEVENT
DTSTART;TZID=America/New_York:20251221T190000
DTEND;TZID=America/New_York:20251221T200000
DTSTAMP:20260423T003406
CREATED:20250520T213739Z
LAST-MODIFIED:20251217T214847Z
UID:46214-1766343600-1766347200@www.frsuu.org
SUMMARY:Annual Candlelight Service
DESCRIPTION:Sunday\, December 21\, Sanctuary\, 7pm. \nJoin us for our 100th Anniversary Candlelight service\, a Newburyport tradition since 1925. Anthems and carols will be augmented by readings which celebrate the season. Music performed by the Portsmouth Brass Quintet\, vocalist Abi Levis\, and the Candlelight Chorale.
URL:https://www.frsuu.org/event/annual-candlelight-service-2/
LOCATION:FRS Sanctuary\, 26 Pleasant St\, Newburyport\, MA\, 01950\, United States
CATEGORIES:Community Events,Music,Worship
END:VEVENT
BEGIN:VEVENT
DTSTART;TZID=America/New_York:20251222T110000
DTEND;TZID=America/New_York:20251222T123000
DTSTAMP:20260423T003406
CREATED:20251219T145325Z
LAST-MODIFIED:20251219T145413Z
UID:49871-1766401200-1766406600@www.frsuu.org
SUMMARY:CANCELED: Mild Cognitive Impairment Support Group
DESCRIPTION:The meeting on December 22 has been cancelled due to illness. Our next meeting will be Monday\, January 12 in LMH Room A from 11am-12:30pm. \nThis group meets on the 2nd and 4th Mondays.
URL:https://www.frsuu.org/event/cancelled-mild-cognitive-impairment-support-group/
LOCATION:LMH Room A\, 26 Pleasant St\, Newburyport\, MA\, 01950\, United States
END:VEVENT
BEGIN:VEVENT
DTSTART;TZID=America/New_York:20251222T120000
DTEND;TZID=America/New_York:20251222T130000
DTSTAMP:20260423T003406
CREATED:20250502T190329Z
LAST-MODIFIED:20251217T215546Z
UID:45838-1766404800-1766408400@www.frsuu.org
SUMMARY:Serenity in the Sanctuary
DESCRIPTION:Friday\, December 19\, Monday\, December 22\, Tuesday\, December 23\, Sanctuary\, noon. \nPeace can be found within. Join us for one-hour programs of poetry\, guided meditation\, silent meditation\, and blessing. \nDecember 19: “Listen Inside” with Rev. Rebecca and Nick Place \nDecember 22: “Anticipating with Hope” with Rev. Laurel \nDecember 23: “Many Meanings of the Season” with Rev. Jane and Joanna Fernandes
URL:https://www.frsuu.org/event/serenity-in-the-sanctuary-3/2025-12-22/
LOCATION:FRS Sanctuary\, 26 Pleasant St\, Newburyport\, MA\, 01950\, United States
CATEGORIES:Spiritual Development
END:VEVENT
BEGIN:VEVENT
DTSTART;TZID=America/New_York:20251222T183000
DTEND;TZID=America/New_York:20251222T193000
DTSTAMP:20260423T003406
CREATED:20240605T195817Z
LAST-MODIFIED:20240605T195817Z
UID:45754-1766428200-1766431800@www.frsuu.org
SUMMARY:Monday Evening Meditation (In Person)
DESCRIPTION:Monday Night Meditation at 6:30pm in Lower Meeting House (enter via Unicorn Street entrance). These weekly sessions are led by Joyce Haydock\, Senior Dharma Teacher with the International Kwan Um School of Zen. She has been with the school since 1989. This FRSUU Monday group was established over ten years ago. Our sessions consist of two or three chants\, two readings/teachings and 30 minutes of sitting meditation. Beginners are welcome. \nContact Joyce at 978-363-5457 or email joycehaydock@outlook.com to be added to our list and receive access information. \n  \n 
URL:https://www.frsuu.org/event/monday-evening-meditation-in-person/2025-12-22/
LOCATION:Lower Meetinghouse\, 26 Pleasant St\, Newburyport\, MA\, 01950\, United States
ORGANIZER;CN="Joyce Haydock":MAILTO:joycehaydock@outlook.com
END:VEVENT
BEGIN:VEVENT
DTSTART;TZID=America/New_York:20251222T184500
DTEND;TZID=America/New_York:20251222T200000
DTSTAMP:20260423T003406
CREATED:20240614T153123Z
LAST-MODIFIED:20240614T153546Z
UID:38737-1766429100-1766433600@www.frsuu.org
SUMMARY:Adult Children of Alcoholics
DESCRIPTION:Meets in the Hayward Room
URL:https://www.frsuu.org/event/adult-children-of-alcoholics-3/2025-12-22/
LOCATION:Hayward Room\, 26 Pleasant St\, Newburyport\, MA\, 01950\, United States
CATEGORIES:Recovery
END:VEVENT
BEGIN:VEVENT
DTSTART;TZID=America/New_York:20251223T120000
DTEND;TZID=America/New_York:20251223T130000
DTSTAMP:20260423T003406
CREATED:20250502T190329Z
LAST-MODIFIED:20251217T215547Z
UID:45839-1766491200-1766494800@www.frsuu.org
SUMMARY:Serenity in the Sanctuary
DESCRIPTION:Friday\, December 19\, Monday\, December 22\, Tuesday\, December 23\, Sanctuary\, noon. \nPeace can be found within. Join us for one-hour programs of poetry\, guided meditation\, silent meditation\, and blessing. \nDecember 19: “Listen Inside” with Rev. Rebecca and Nick Place \nDecember 22: “Anticipating with Hope” with Rev. Laurel \nDecember 23: “Many Meanings of the Season” with Rev. Jane and Joanna Fernandes
URL:https://www.frsuu.org/event/serenity-in-the-sanctuary-3/2025-12-23/
LOCATION:FRS Sanctuary\, 26 Pleasant St\, Newburyport\, MA\, 01950\, United States
CATEGORIES:Spiritual Development
END:VEVENT
END:VCALENDAR