BEGIN:VCALENDAR
VERSION:2.0
PRODID:-//First Religious Society of Newburyport - ECPv6.15.20//NONSGML v1.0//EN
CALSCALE:GREGORIAN
METHOD:PUBLISH
X-ORIGINAL-URL:https://www.frsuu.org
X-WR-CALDESC:Events for First Religious Society of Newburyport
REFRESH-INTERVAL;VALUE=DURATION:PT1H
X-Robots-Tag:noindex
X-PUBLISHED-TTL:PT1H
BEGIN:VTIMEZONE
TZID:America/New_York
BEGIN:DAYLIGHT
TZOFFSETFROM:-0500
TZOFFSETTO:-0400
TZNAME:EDT
DTSTART:20240310T070000
END:DAYLIGHT
BEGIN:STANDARD
TZOFFSETFROM:-0400
TZOFFSETTO:-0500
TZNAME:EST
DTSTART:20241103T060000
END:STANDARD
BEGIN:DAYLIGHT
TZOFFSETFROM:-0500
TZOFFSETTO:-0400
TZNAME:EDT
DTSTART:20250309T070000
END:DAYLIGHT
BEGIN:STANDARD
TZOFFSETFROM:-0400
TZOFFSETTO:-0500
TZNAME:EST
DTSTART:20251102T060000
END:STANDARD
BEGIN:DAYLIGHT
TZOFFSETFROM:-0500
TZOFFSETTO:-0400
TZNAME:EDT
DTSTART:20260308T070000
END:DAYLIGHT
BEGIN:STANDARD
TZOFFSETFROM:-0400
TZOFFSETTO:-0500
TZNAME:EST
DTSTART:20261101T060000
END:STANDARD
END:VTIMEZONE
BEGIN:VEVENT
DTSTART;TZID=America/New_York:20250825T110000
DTEND;TZID=America/New_York:20250825T123000
DTSTAMP:20260424T050936
CREATED:20250814T151943Z
LAST-MODIFIED:20250814T151943Z
UID:47059-1756119600-1756125000@www.frsuu.org
SUMMARY:Mild Cognitive Impairment Group
DESCRIPTION:Monday\, August 25\, Parish Hall 1st Floor\, 11am-12:30pm
URL:https://www.frsuu.org/event/mild-cognitive-impairment-group/
LOCATION:Parish Hall 1st Floor
END:VEVENT
BEGIN:VEVENT
DTSTART;TZID=America/New_York:20250825T183000
DTEND;TZID=America/New_York:20250825T193000
DTSTAMP:20260424T050936
CREATED:20240605T195817Z
LAST-MODIFIED:20240605T195817Z
UID:45737-1756146600-1756150200@www.frsuu.org
SUMMARY:Monday Evening Meditation (In Person)
DESCRIPTION:Monday Night Meditation at 6:30pm in Lower Meeting House (enter via Unicorn Street entrance). These weekly sessions are led by Joyce Haydock\, Senior Dharma Teacher with the International Kwan Um School of Zen. She has been with the school since 1989. This FRSUU Monday group was established over ten years ago. Our sessions consist of two or three chants\, two readings/teachings and 30 minutes of sitting meditation. Beginners are welcome. \nContact Joyce at 978-363-5457 or email joycehaydock@outlook.com to be added to our list and receive access information. \n  \n 
URL:https://www.frsuu.org/event/monday-evening-meditation-in-person/2025-08-25/
LOCATION:Lower Meetinghouse\, 26 Pleasant St\, Newburyport\, MA\, 01950\, United States
ORGANIZER;CN="Joyce Haydock":MAILTO:joycehaydock@outlook.com
END:VEVENT
BEGIN:VEVENT
DTSTART;TZID=America/New_York:20250825T184500
DTEND;TZID=America/New_York:20250825T200000
DTSTAMP:20260424T050936
CREATED:20240614T153123Z
LAST-MODIFIED:20240614T153542Z
UID:38720-1756147500-1756152000@www.frsuu.org
SUMMARY:Adult Children of Alcoholics
DESCRIPTION:Meets in the Hayward Room
URL:https://www.frsuu.org/event/adult-children-of-alcoholics-3/2025-08-25/
LOCATION:Hayward Room\, 26 Pleasant St\, Newburyport\, MA\, 01950\, United States
CATEGORIES:Recovery
END:VEVENT
BEGIN:VEVENT
DTSTART;VALUE=DATE:20250826
DTEND;VALUE=DATE:20250827
DTSTAMP:20260424T050936
CREATED:20250818T122239Z
LAST-MODIFIED:20250818T122239Z
UID:47127-1756166400-1756252799@www.frsuu.org
SUMMARY:Church Closed for HVAC Work
DESCRIPTION:The FRSUU church building will be closed for all church business while parts of the existing HVAC system are removed. We will reopen on Tuesday\, September 2.
URL:https://www.frsuu.org/event/church-closed-for-hvac-work/2025-08-26/
LOCATION:LMH Main Room\, 26 Pleasant St\, Newburyport\, MA\, 01950\, United States
END:VEVENT
BEGIN:VEVENT
DTSTART;TZID=America/New_York:20250826T110000
DTEND;TZID=America/New_York:20250826T114500
DTSTAMP:20260424T050936
CREATED:20250320T213205Z
LAST-MODIFIED:20251113T194740Z
UID:45021-1756206000-1756208700@www.frsuu.org
SUMMARY:FRSUU Poetry Group (Zoom)
DESCRIPTION:All who love poetry\, and who enjoy listening to poetry are invited to join the FRSUU Poetry Group. This poetry listening and appreciation group meets on Tuesday mornings for 45 minutes via Zoom. We read the same poem several times\, respond to prompts\, and share perspectives\, wisdom\, humor\, and collegiality. There is no poetry writing in this group. Please join us and give your soul and psyche the gift of poetry on a Tuesday morning. \nThis group is facilitated by Rev. Jane Tuohy.\n\nJoin Zoom Meeting \nhttps://zoom.us/j/94623863916?pwd=ufFubM2s4b4YAjU2la9RPOy25lM6Hy.1
URL:https://www.frsuu.org/event/frs-poetry-group/2025-08-26/
LOCATION:Zoom
CATEGORIES:Spiritual Development
END:VEVENT
BEGIN:VEVENT
DTSTART;TZID=America/New_York:20250826T120000
DTEND;TZID=America/New_York:20250826T130000
DTSTAMP:20260424T050936
CREATED:20250817T202144Z
LAST-MODIFIED:20250817T202144Z
UID:47112-1756209600-1756213200@www.frsuu.org
SUMMARY:Short Story Group
DESCRIPTION:The Tuesday Short Story Group meets on the 1st and 3rd Tuesdays of the month. Meetings on August 19 and 26 will be in Parish Hall. \nFor more information please visit: https://www.frsuu.org/short-story-group/
URL:https://www.frsuu.org/event/short-story-group-4/2025-08-26/
LOCATION:Parish Hall 1st Floor
END:VEVENT
BEGIN:VEVENT
DTSTART;TZID=America/New_York:20250826T190000
DTEND;TZID=America/New_York:20250826T203000
DTSTAMP:20260424T050936
CREATED:20240614T153418Z
LAST-MODIFIED:20251007T183804Z
UID:40504-1756234800-1756240200@www.frsuu.org
SUMMARY:Alcoholic Anonymous Step Sisters
DESCRIPTION:Contact 508-215-9469; meets in the Parish Hall as of 10/7/25.
URL:https://www.frsuu.org/event/alcoholic-anonymous-step-sisters/2025-08-26/
LOCATION:Parish Hall 1st Floor
CATEGORIES:Recovery
END:VEVENT
BEGIN:VEVENT
DTSTART;VALUE=DATE:20250827
DTEND;VALUE=DATE:20250828
DTSTAMP:20260424T050936
CREATED:20250818T122239Z
LAST-MODIFIED:20250818T122239Z
UID:47128-1756252800-1756339199@www.frsuu.org
SUMMARY:Church Closed for HVAC Work
DESCRIPTION:The FRSUU church building will be closed for all church business while parts of the existing HVAC system are removed. We will reopen on Tuesday\, September 2.
URL:https://www.frsuu.org/event/church-closed-for-hvac-work/2025-08-27/
LOCATION:LMH Main Room\, 26 Pleasant St\, Newburyport\, MA\, 01950\, United States
END:VEVENT
BEGIN:VEVENT
DTSTART;TZID=America/New_York:20250827T100000
DTEND;TZID=America/New_York:20250827T103000
DTSTAMP:20260424T050936
CREATED:20240802T135026Z
LAST-MODIFIED:20250926T154318Z
UID:39964-1756288800-1756290600@www.frsuu.org
SUMMARY:Wednesday Guided Meditation (Zoom)
DESCRIPTION:Join FRS member and LICSW Woman Cooper on Wednesdays at 10am for a brief period of mid-week relaxation and renewal. Each 30-minute session will include a guided visualization and reflection on questions around where we hold stress and how we can release it. You’ll also learn some relaxation techniques to use on your own. This is a drop-in program; come one time or many. \nIf you’d like to reach out to Woman\, email susanc0805@gmail.com. \nJoin Zoom Meeting: \n\nhttps://us02web.zoom.us/j/87349458812?pwd=dXdIUVBJb0F1MnVjL0ZDakErVlRIdz09
URL:https://www.frsuu.org/event/wednesday-guided-relaxation-2/2025-08-27/
LOCATION:Zoom
CATEGORIES:Recovery
END:VEVENT
BEGIN:VEVENT
DTSTART;TZID=America/New_York:20250827T123000
DTEND;TZID=America/New_York:20250827T133000
DTSTAMP:20260424T050936
CREATED:20250815T192637Z
LAST-MODIFIED:20250815T192637Z
UID:47082-1756297800-1756301400@www.frsuu.org
SUMMARY:Caregivers Support Group
DESCRIPTION:Meets monthly on the fourth Wednesdays\, 12:30-1:30pm. August 27 group will meet in Parish Hall. \nFRS is offering a support group on the 4th Wednesday of each month for caregivers of cognitively-impaired folks (Alzheimer’s\, dementia\, etc.). All are welcome. \nFor more information\, contact Richard George at richardjgeorge@comcast.net or Nancy Kidd at nankdd@gmail.com.
URL:https://www.frsuu.org/event/caregivers-support-group-3/
LOCATION:Parish Hall 1st Floor
END:VEVENT
BEGIN:VEVENT
DTSTART;VALUE=DATE:20250828
DTEND;VALUE=DATE:20250829
DTSTAMP:20260424T050936
CREATED:20250818T122239Z
LAST-MODIFIED:20250818T122239Z
UID:47129-1756339200-1756425599@www.frsuu.org
SUMMARY:Church Closed for HVAC Work
DESCRIPTION:The FRSUU church building will be closed for all church business while parts of the existing HVAC system are removed. We will reopen on Tuesday\, September 2.
URL:https://www.frsuu.org/event/church-closed-for-hvac-work/2025-08-28/
LOCATION:LMH Main Room\, 26 Pleasant St\, Newburyport\, MA\, 01950\, United States
END:VEVENT
BEGIN:VEVENT
DTSTART;TZID=America/New_York:20250828T163000
DTEND;TZID=America/New_York:20250828T183000
DTSTAMP:20260424T050936
CREATED:20250613T193149Z
LAST-MODIFIED:20250825T143521Z
UID:46750-1756398600-1756405800@www.frsuu.org
SUMMARY:Leading Edge Team (LET) Retreat
DESCRIPTION:Thursday\, August 28\, Parish Hall 1st Floor\, 4:30-6:30pm. \nThis Leading Edge Team retreat will focus on plans for the coming year to implement teachings and tools shared by Paula Cole Jones during our year-long Shaping the Leading Edge workshops and congregational workshop titled “Building an Inclusive Community.”
URL:https://www.frsuu.org/event/leading-edge-team-let-retreat/
LOCATION:Parish Hall 1st Floor
END:VEVENT
BEGIN:VEVENT
DTSTART;VALUE=DATE:20250829
DTEND;VALUE=DATE:20250830
DTSTAMP:20260424T050936
CREATED:20250818T122239Z
LAST-MODIFIED:20250818T122239Z
UID:47131-1756425600-1756511999@www.frsuu.org
SUMMARY:Church Closed for HVAC Work
DESCRIPTION:The FRSUU church building will be closed for all church business while parts of the existing HVAC system are removed. We will reopen on Tuesday\, September 2.
URL:https://www.frsuu.org/event/church-closed-for-hvac-work/2025-08-29/
LOCATION:LMH Main Room\, 26 Pleasant St\, Newburyport\, MA\, 01950\, United States
END:VEVENT
BEGIN:VEVENT
DTSTART;TZID=America/New_York:20250829T080000
DTEND;TZID=America/New_York:20250829T090000
DTSTAMP:20260424T050936
CREATED:20250625T192350Z
LAST-MODIFIED:20251104T185827Z
UID:46798-1756454400-1756458000@www.frsuu.org
SUMMARY:Capital Campaign Meeting (Zoom)
DESCRIPTION:Fridays\, Alternating weeks beginning August 1; Zoom
URL:https://www.frsuu.org/event/capital-campaign-meeting-zoom/2025-08-29/
LOCATION:Zoom
END:VEVENT
BEGIN:VEVENT
DTSTART;TZID=America/New_York:20250829T100000
DTEND;TZID=America/New_York:20250829T113000
DTSTAMP:20260424T050936
CREATED:20250817T202515Z
LAST-MODIFIED:20250817T202515Z
UID:47115-1756461600-1756467000@www.frsuu.org
SUMMARY:Friday Book Group (Zoom)
DESCRIPTION:Fridays\, 10-11:30am\, Zoom only on August 22 and 29. \nWe meet weekly and read both fiction and non-fiction books chosen by participants. Each book is read and discussed over a period of several meetings\, with the reading for each determined by the group.
URL:https://www.frsuu.org/event/friday-book-group-zoom/2025-08-29/
LOCATION:Zoom
ORGANIZER;CN="Tom Himmel":MAILTO:thimmel43@mac.com
END:VEVENT
BEGIN:VEVENT
DTSTART;TZID=America/New_York:20250829T180000
DTEND;TZID=America/New_York:20250829T193000
DTSTAMP:20260424T050936
CREATED:20240906T220128Z
LAST-MODIFIED:20240906T220128Z
UID:40859-1756490400-1756495800@www.frsuu.org
SUMMARY:SMART Recovery (Contact: 678-378-0786)
DESCRIPTION:Meets weekly on Friday
URL:https://www.frsuu.org/event/smart-recovery-contact-678-378-0786-3/2025-08-29/
LOCATION:Hayward Room\, 26 Pleasant St\, Newburyport\, MA\, 01950\, United States
CATEGORIES:Recovery
END:VEVENT
BEGIN:VEVENT
DTSTART;VALUE=DATE:20250830
DTEND;VALUE=DATE:20250831
DTSTAMP:20260424T050936
CREATED:20250818T122239Z
LAST-MODIFIED:20250818T122239Z
UID:47132-1756512000-1756598399@www.frsuu.org
SUMMARY:Church Closed for HVAC Work
DESCRIPTION:The FRSUU church building will be closed for all church business while parts of the existing HVAC system are removed. We will reopen on Tuesday\, September 2.
URL:https://www.frsuu.org/event/church-closed-for-hvac-work/2025-08-30/
LOCATION:LMH Main Room\, 26 Pleasant St\, Newburyport\, MA\, 01950\, United States
END:VEVENT
BEGIN:VEVENT
DTSTART;VALUE=DATE:20250831
DTEND;VALUE=DATE:20250901
DTSTAMP:20260424T050936
CREATED:20250818T122239Z
LAST-MODIFIED:20250818T122239Z
UID:47133-1756598400-1756684799@www.frsuu.org
SUMMARY:Church Closed for HVAC Work
DESCRIPTION:The FRSUU church building will be closed for all church business while parts of the existing HVAC system are removed. We will reopen on Tuesday\, September 2.
URL:https://www.frsuu.org/event/church-closed-for-hvac-work/2025-08-31/
LOCATION:LMH Main Room\, 26 Pleasant St\, Newburyport\, MA\, 01950\, United States
END:VEVENT
BEGIN:VEVENT
DTSTART;VALUE=DATE:20250901
DTEND;VALUE=DATE:20250902
DTSTAMP:20260424T050936
CREATED:20250528T184154Z
LAST-MODIFIED:20250528T184154Z
UID:46348-1756684800-1756771199@www.frsuu.org
SUMMARY:Labor Day
DESCRIPTION:
URL:https://www.frsuu.org/event/labor-day/
LOCATION:MA
END:VEVENT
BEGIN:VEVENT
DTSTART;VALUE=DATE:20250901
DTEND;VALUE=DATE:20250902
DTSTAMP:20260424T050936
CREATED:20250818T122239Z
LAST-MODIFIED:20250818T122239Z
UID:47134-1756684800-1756771199@www.frsuu.org
SUMMARY:Church Closed for HVAC Work
DESCRIPTION:The FRSUU church building will be closed for all church business while parts of the existing HVAC system are removed. We will reopen on Tuesday\, September 2.
URL:https://www.frsuu.org/event/church-closed-for-hvac-work/2025-09-01/
LOCATION:LMH Main Room\, 26 Pleasant St\, Newburyport\, MA\, 01950\, United States
END:VEVENT
BEGIN:VEVENT
DTSTART;TZID=America/New_York:20250901T110000
DTEND;TZID=America/New_York:20250901T123000
DTSTAMP:20260424T050936
CREATED:20250408T164145Z
LAST-MODIFIED:20250910T151523Z
UID:46972-1756724400-1756729800@www.frsuu.org
SUMMARY:Support Group for Mild Cognitive Impairment
DESCRIPTION:First Mondays\, LMH Room A\, 11-12:30pm. Led by Nancy Kidd.
URL:https://www.frsuu.org/event/support-group-for-mild-cognitive-impairment-2/2025-09-01/
LOCATION:LMH Room A\, 26 Pleasant St\, Newburyport\, MA\, 01950\, United States
END:VEVENT
BEGIN:VEVENT
DTSTART;TZID=America/New_York:20250901T183000
DTEND;TZID=America/New_York:20250901T193000
DTSTAMP:20260424T050936
CREATED:20240605T195817Z
LAST-MODIFIED:20240605T195817Z
UID:45738-1756751400-1756755000@www.frsuu.org
SUMMARY:Monday Evening Meditation (In Person)
DESCRIPTION:Monday Night Meditation at 6:30pm in Lower Meeting House (enter via Unicorn Street entrance). These weekly sessions are led by Joyce Haydock\, Senior Dharma Teacher with the International Kwan Um School of Zen. She has been with the school since 1989. This FRSUU Monday group was established over ten years ago. Our sessions consist of two or three chants\, two readings/teachings and 30 minutes of sitting meditation. Beginners are welcome. \nContact Joyce at 978-363-5457 or email joycehaydock@outlook.com to be added to our list and receive access information. \n  \n 
URL:https://www.frsuu.org/event/monday-evening-meditation-in-person/2025-09-01/
LOCATION:Lower Meetinghouse\, 26 Pleasant St\, Newburyport\, MA\, 01950\, United States
ORGANIZER;CN="Joyce Haydock":MAILTO:joycehaydock@outlook.com
END:VEVENT
BEGIN:VEVENT
DTSTART;TZID=America/New_York:20250901T184500
DTEND;TZID=America/New_York:20250901T200000
DTSTAMP:20260424T050936
CREATED:20240614T153123Z
LAST-MODIFIED:20240614T153543Z
UID:38721-1756752300-1756756800@www.frsuu.org
SUMMARY:Adult Children of Alcoholics
DESCRIPTION:Meets in the Hayward Room
URL:https://www.frsuu.org/event/adult-children-of-alcoholics-3/2025-09-01/
LOCATION:Hayward Room\, 26 Pleasant St\, Newburyport\, MA\, 01950\, United States
CATEGORIES:Recovery
END:VEVENT
BEGIN:VEVENT
DTSTART;TZID=America/New_York:20250902T110000
DTEND;TZID=America/New_York:20250902T114500
DTSTAMP:20260424T050936
CREATED:20250320T213205Z
LAST-MODIFIED:20251113T194741Z
UID:45022-1756810800-1756813500@www.frsuu.org
SUMMARY:FRSUU Poetry Group (Zoom)
DESCRIPTION:All who love poetry\, and who enjoy listening to poetry are invited to join the FRSUU Poetry Group. This poetry listening and appreciation group meets on Tuesday mornings for 45 minutes via Zoom. We read the same poem several times\, respond to prompts\, and share perspectives\, wisdom\, humor\, and collegiality. There is no poetry writing in this group. Please join us and give your soul and psyche the gift of poetry on a Tuesday morning. \nThis group is facilitated by Rev. Jane Tuohy.\n\nJoin Zoom Meeting \nhttps://zoom.us/j/94623863916?pwd=ufFubM2s4b4YAjU2la9RPOy25lM6Hy.1
URL:https://www.frsuu.org/event/frs-poetry-group/2025-09-02/
LOCATION:Zoom
CATEGORIES:Spiritual Development
END:VEVENT
BEGIN:VEVENT
DTSTART;TZID=America/New_York:20250902T120000
DTEND;TZID=America/New_York:20250902T130000
DTSTAMP:20260424T050936
CREATED:20240802T132707Z
LAST-MODIFIED:20241022T223900Z
UID:39479-1756814400-1756818000@www.frsuu.org
SUMMARY:Short Story Group
DESCRIPTION:The Tuesday Short Story Group meets on the 1st and 3rd Tuesdays of the month\, noon\, Lower Meeting House (with a Zoom option available). \nFor more information please visit: https://www.frsuu.org/short-story-group/
URL:https://www.frsuu.org/event/tuesday-short-story-group-2/2025-09-02/
LOCATION:LMH Room A\, 26 Pleasant St\, Newburyport\, MA\, 01950\, United States
CATEGORIES:Community Events
ORGANIZER;CN="Tom Himmel":MAILTO:thimmel43@mac.com
END:VEVENT
BEGIN:VEVENT
DTSTART;TZID=America/New_York:20250902T160000
DTEND;TZID=America/New_York:20250902T190000
DTSTAMP:20260424T050936
CREATED:20250805T171621Z
LAST-MODIFIED:20250805T171621Z
UID:47016-1756828800-1756839600@www.frsuu.org
SUMMARY:Worship Associates Retreat
DESCRIPTION:Tuesday\, September 2\, Sanctuary and LMH Main Room\, 4-7pm
URL:https://www.frsuu.org/event/worship-associates-retreat/
LOCATION:FRS Sanctuary\, 26 Pleasant St\, Newburyport\, MA\, 01950\, United States
END:VEVENT
BEGIN:VEVENT
DTSTART;TZID=America/New_York:20250902T190000
DTEND;TZID=America/New_York:20250902T203000
DTSTAMP:20260424T050936
CREATED:20240614T153418Z
LAST-MODIFIED:20251007T183805Z
UID:40505-1756839600-1756845000@www.frsuu.org
SUMMARY:Alcoholic Anonymous Step Sisters
DESCRIPTION:Contact 508-215-9469; meets in the Parish Hall as of 10/7/25.
URL:https://www.frsuu.org/event/alcoholic-anonymous-step-sisters/2025-09-02/
LOCATION:Parish Hall 1st Floor
CATEGORIES:Recovery
END:VEVENT
BEGIN:VEVENT
DTSTART;TZID=America/New_York:20250903T100000
DTEND;TZID=America/New_York:20250903T103000
DTSTAMP:20260424T050936
CREATED:20240802T135026Z
LAST-MODIFIED:20250926T154320Z
UID:39965-1756893600-1756895400@www.frsuu.org
SUMMARY:Wednesday Guided Meditation (Zoom)
DESCRIPTION:Join FRS member and LICSW Woman Cooper on Wednesdays at 10am for a brief period of mid-week relaxation and renewal. Each 30-minute session will include a guided visualization and reflection on questions around where we hold stress and how we can release it. You’ll also learn some relaxation techniques to use on your own. This is a drop-in program; come one time or many. \nIf you’d like to reach out to Woman\, email susanc0805@gmail.com. \nJoin Zoom Meeting: \n\nhttps://us02web.zoom.us/j/87349458812?pwd=dXdIUVBJb0F1MnVjL0ZDakErVlRIdz09
URL:https://www.frsuu.org/event/wednesday-guided-relaxation-2/2025-09-03/
LOCATION:Zoom
CATEGORIES:Recovery
END:VEVENT
BEGIN:VEVENT
DTSTART;TZID=America/New_York:20250903T103000
DTEND;TZID=America/New_York:20250903T120000
DTSTAMP:20260424T050936
CREATED:20250825T144308Z
LAST-MODIFIED:20250825T144308Z
UID:47218-1756895400-1756900800@www.frsuu.org
SUMMARY:Staff Meeting
DESCRIPTION:1st and 3rd Wednesdays\, LMH Main Room\, 10:30am-noon
URL:https://www.frsuu.org/event/staff-meeting-9/2025-09-03/
LOCATION:LMH Main Room\, 26 Pleasant St\, Newburyport\, MA\, 01950\, United States
END:VEVENT
BEGIN:VEVENT
DTSTART;TZID=America/New_York:20250903T150000
DTEND;TZID=America/New_York:20250903T160000
DTSTAMP:20260424T050936
CREATED:20250905T191753Z
LAST-MODIFIED:20250905T191753Z
UID:47521-1756911600-1756915200@www.frsuu.org
SUMMARY:Addictions Ministry Meeting
DESCRIPTION:First Wednesdays\, Robing Room\, 3-4pm.
URL:https://www.frsuu.org/event/addictions-ministry-meeting/2025-09-03/
LOCATION:Robing Room (behind pulpit)
END:VEVENT
END:VCALENDAR