BEGIN:VCALENDAR
VERSION:2.0
PRODID:-//First Religious Society of Newburyport - ECPv6.15.20//NONSGML v1.0//EN
CALSCALE:GREGORIAN
METHOD:PUBLISH
X-WR-CALNAME:First Religious Society of Newburyport
X-ORIGINAL-URL:https://www.frsuu.org
X-WR-CALDESC:Events for First Religious Society of Newburyport
REFRESH-INTERVAL;VALUE=DURATION:PT1H
X-Robots-Tag:noindex
X-PUBLISHED-TTL:PT1H
BEGIN:VTIMEZONE
TZID:America/New_York
BEGIN:DAYLIGHT
TZOFFSETFROM:-0500
TZOFFSETTO:-0400
TZNAME:EDT
DTSTART:20240310T070000
END:DAYLIGHT
BEGIN:STANDARD
TZOFFSETFROM:-0400
TZOFFSETTO:-0500
TZNAME:EST
DTSTART:20241103T060000
END:STANDARD
BEGIN:DAYLIGHT
TZOFFSETFROM:-0500
TZOFFSETTO:-0400
TZNAME:EDT
DTSTART:20250309T070000
END:DAYLIGHT
BEGIN:STANDARD
TZOFFSETFROM:-0400
TZOFFSETTO:-0500
TZNAME:EST
DTSTART:20251102T060000
END:STANDARD
BEGIN:DAYLIGHT
TZOFFSETFROM:-0500
TZOFFSETTO:-0400
TZNAME:EDT
DTSTART:20260308T070000
END:DAYLIGHT
BEGIN:STANDARD
TZOFFSETFROM:-0400
TZOFFSETTO:-0500
TZNAME:EST
DTSTART:20261101T060000
END:STANDARD
END:VTIMEZONE
BEGIN:VEVENT
DTSTART;TZID=America/New_York:20250919T100000
DTEND;TZID=America/New_York:20250919T113000
DTSTAMP:20260421T190325
CREATED:20240607T153804Z
LAST-MODIFIED:20251224T212332Z
UID:46374-1758276000-1758281400@www.frsuu.org
SUMMARY:Friday Book Group (Hybrid)
DESCRIPTION:Fridays\, LMH Room A\, 10-11:30am. \nWe meet weekly and read both fiction and non-fiction books chosen by participants. Each book is read and discussed over a period of several meetings\, with the reading for each determined by the group.
URL:https://www.frsuu.org/event/friday-book-group/2025-09-19/
LOCATION:LMH Room A\, 26 Pleasant St\, Newburyport\, MA\, 01950\, United States
END:VEVENT
BEGIN:VEVENT
DTSTART;TZID=America/New_York:20250918T190000
DTEND;TZID=America/New_York:20250918T203000
DTSTAMP:20260421T190325
CREATED:20250124T200119Z
LAST-MODIFIED:20260417T150528Z
UID:44000-1758222000-1758227400@www.frsuu.org
SUMMARY:Adult Choir
DESCRIPTION:Thursdays\, LMH Main Room\, 7-8:30pm.
URL:https://www.frsuu.org/event/adult-choir-2/2025-09-18/
LOCATION:LMH Main Room\, 26 Pleasant St\, Newburyport\, MA\, 01950\, United States
END:VEVENT
BEGIN:VEVENT
DTSTART;TZID=America/New_York:20250917T180000
DTEND;TZID=America/New_York:20250917T200000
DTSTAMP:20260421T190325
CREATED:20250829T144048Z
LAST-MODIFIED:20250903T175751Z
UID:47321-1758132000-1758139200@www.frsuu.org
SUMMARY:Parish Board Meeting
DESCRIPTION:Third Wednesdays\, LMH Main Room\, 6-8pm\, hybrid
URL:https://www.frsuu.org/event/parish-board-meeting-2/2025-09-17/
LOCATION:LMH Main Room\, 26 Pleasant St\, Newburyport\, MA\, 01950\, United States
END:VEVENT
BEGIN:VEVENT
DTSTART;TZID=America/New_York:20250917T173000
DTEND;TZID=America/New_York:20250917T190000
DTSTAMP:20260421T190326
CREATED:20250905T185821Z
LAST-MODIFIED:20250905T185821Z
UID:47499-1758130200-1758135600@www.frsuu.org
SUMMARY:Membership Committee Potluck
DESCRIPTION:Wednesday\, September 17\, Parish Hall 1st Floor\, 5:30-7pm
URL:https://www.frsuu.org/event/membership-committee-potluck/
LOCATION:Parish Hall 1st Floor
END:VEVENT
BEGIN:VEVENT
DTSTART;TZID=America/New_York:20250917T123000
DTEND;TZID=America/New_York:20250917T140000
DTSTAMP:20260421T190326
CREATED:20250723T164931Z
LAST-MODIFIED:20250915T161528Z
UID:46959-1758112200-1758117600@www.frsuu.org
SUMMARY:Grief Support Group (offsite)
DESCRIPTION:Third Wednesday of the month\, Morse Conference Room (across from Gift Shop) at Anna Jaques Hospital\, 12:30-2pm. \nThis support group provides members who are experiencing grief have the opportunity in a safe (confidential) space to share their feelings\, thoughts\, and coping skills during this challenging time in their life. The group is facilitated by Nancy Kidd\, LICSW; Rev. Jane Tuohy; and Linda Harding. For information more information\, contact Nancy Kidd at nankdd@gmail.com or 978-376-8687.
URL:https://www.frsuu.org/event/grief-support-group-offsite/2025-09-17/
LOCATION:Anna Jaques Hospital\, 25 Highland Ave\, Newburyport\, MA\, United States
END:VEVENT
BEGIN:VEVENT
DTSTART;TZID=America/New_York:20250917T103000
DTEND;TZID=America/New_York:20250917T120000
DTSTAMP:20260421T190326
CREATED:20250825T144514Z
LAST-MODIFIED:20251118T162833Z
UID:47229-1758105000-1758110400@www.frsuu.org
SUMMARY:Staff Meeting
DESCRIPTION:1st and 3rd Wednesdays\, LMH Main Room\, 10:30am-noon
URL:https://www.frsuu.org/event/staff-meeting-10/2025-09-17/
LOCATION:LMH Main Room\, 26 Pleasant St\, Newburyport\, MA\, 01950\, United States
END:VEVENT
BEGIN:VEVENT
DTSTART;TZID=America/New_York:20250917T100000
DTEND;TZID=America/New_York:20250917T110000
DTSTAMP:20260421T190326
CREATED:20250904T174501Z
LAST-MODIFIED:20260406T152840Z
UID:47449-1758103200-1758106800@www.frsuu.org
SUMMARY:Centering Prayer Meditation
DESCRIPTION:Weekly on Wednesdays\, Robing Room\, 10-11am. \nCentering Prayer is a form of Christian Contemplative Meditation. The purpose of this meditation is not to clear the mind as much as it is to open oneself to the presence of the Divine and invite the action of the Divine within. No previous experience or training is required. This form of Contemplative prayer is a practice in resting in the presence of God through non-thinking surrender and to form a deeper relationship with the Divine.\nCentering Prayer will be led by Cynthia Tolbert. All are welcome. Please contact Rev. Jane Tuohy at jane.tuohy@frsuu.org or 617-359-0079 if you have questions.
URL:https://www.frsuu.org/event/centering-prayer-meditation/2025-09-17/
LOCATION:Robing Room (behind pulpit)
CATEGORIES:Spiritual Development
END:VEVENT
BEGIN:VEVENT
DTSTART;TZID=America/New_York:20250917T100000
DTEND;TZID=America/New_York:20250917T103000
DTSTAMP:20260421T190326
CREATED:20240802T135026Z
LAST-MODIFIED:20250926T154323Z
UID:39967-1758103200-1758105000@www.frsuu.org
SUMMARY:Wednesday Guided Meditation (Zoom)
DESCRIPTION:Join FRS member and LICSW Woman Cooper on Wednesdays at 10am for a brief period of mid-week relaxation and renewal. Each 30-minute session will include a guided visualization and reflection on questions around where we hold stress and how we can release it. You’ll also learn some relaxation techniques to use on your own. This is a drop-in program; come one time or many. \nIf you’d like to reach out to Woman\, email susanc0805@gmail.com. \nJoin Zoom Meeting: \n\nhttps://us02web.zoom.us/j/87349458812?pwd=dXdIUVBJb0F1MnVjL0ZDakErVlRIdz09
URL:https://www.frsuu.org/event/wednesday-guided-relaxation-2/2025-09-17/
LOCATION:Zoom
CATEGORIES:Recovery
END:VEVENT
BEGIN:VEVENT
DTSTART;TZID=America/New_York:20250916T190000
DTEND;TZID=America/New_York:20250916T203000
DTSTAMP:20260421T190326
CREATED:20240614T153418Z
LAST-MODIFIED:20251007T183808Z
UID:40507-1758049200-1758054600@www.frsuu.org
SUMMARY:Alcoholic Anonymous Step Sisters
DESCRIPTION:Contact 508-215-9469; meets in the Parish Hall as of 10/7/25.
URL:https://www.frsuu.org/event/alcoholic-anonymous-step-sisters/2025-09-16/
LOCATION:Parish Hall 1st Floor
CATEGORIES:Recovery
END:VEVENT
BEGIN:VEVENT
DTSTART;TZID=America/New_York:20250916T190000
DTEND;TZID=America/New_York:20250916T200000
DTSTAMP:20260421T190326
CREATED:20250528T144109Z
LAST-MODIFIED:20260407T162716Z
UID:46285-1758049200-1758052800@www.frsuu.org
SUMMARY:Poetry & Music Service
DESCRIPTION:Third Tuesdays beginning September 16\, Sanctuary\, 7-8pm. Led by Rev. Rebecca and Nick Place.
URL:https://www.frsuu.org/event/poetry-music-service/2025-09-16/
LOCATION:FRS Sanctuary\, 26 Pleasant St\, Newburyport\, MA\, 01950\, United States
CATEGORIES:Music,Worship
END:VEVENT
BEGIN:VEVENT
DTSTART;TZID=America/New_York:20250916T120000
DTEND;TZID=America/New_York:20250916T130000
DTSTAMP:20260421T190326
CREATED:20240802T132707Z
LAST-MODIFIED:20241022T223901Z
UID:39869-1758024000-1758027600@www.frsuu.org
SUMMARY:Short Story Group
DESCRIPTION:The Tuesday Short Story Group meets on the 1st and 3rd Tuesdays of the month\, noon\, Lower Meeting House (with a Zoom option available). \nFor more information please visit: https://www.frsuu.org/short-story-group/
URL:https://www.frsuu.org/event/tuesday-short-story-group-2/2025-09-16/
LOCATION:LMH Room A\, 26 Pleasant St\, Newburyport\, MA\, 01950\, United States
CATEGORIES:Community Events
ORGANIZER;CN="Tom Himmel":MAILTO:thimmel43@mac.com
END:VEVENT
BEGIN:VEVENT
DTSTART;TZID=America/New_York:20250916T110000
DTEND;TZID=America/New_York:20250916T114500
DTSTAMP:20260421T190326
CREATED:20250320T213205Z
LAST-MODIFIED:20251113T194742Z
UID:45024-1758020400-1758023100@www.frsuu.org
SUMMARY:FRSUU Poetry Group (Zoom)
DESCRIPTION:All who love poetry\, and who enjoy listening to poetry are invited to join the FRSUU Poetry Group. This poetry listening and appreciation group meets on Tuesday mornings for 45 minutes via Zoom. We read the same poem several times\, respond to prompts\, and share perspectives\, wisdom\, humor\, and collegiality. There is no poetry writing in this group. Please join us and give your soul and psyche the gift of poetry on a Tuesday morning. \nThis group is facilitated by Rev. Jane Tuohy.\n\nJoin Zoom Meeting \nhttps://zoom.us/j/94623863916?pwd=ufFubM2s4b4YAjU2la9RPOy25lM6Hy.1
URL:https://www.frsuu.org/event/frs-poetry-group/2025-09-16/
LOCATION:Zoom
CATEGORIES:Spiritual Development
END:VEVENT
BEGIN:VEVENT
DTSTART;TZID=America/New_York:20250915T184500
DTEND;TZID=America/New_York:20250915T200000
DTSTAMP:20260421T190326
CREATED:20240614T153123Z
LAST-MODIFIED:20240614T153543Z
UID:38723-1757961900-1757966400@www.frsuu.org
SUMMARY:Adult Children of Alcoholics
DESCRIPTION:Meets in the Hayward Room
URL:https://www.frsuu.org/event/adult-children-of-alcoholics-3/2025-09-15/
LOCATION:Hayward Room\, 26 Pleasant St\, Newburyport\, MA\, 01950\, United States
CATEGORIES:Recovery
END:VEVENT
BEGIN:VEVENT
DTSTART;TZID=America/New_York:20250915T183000
DTEND;TZID=America/New_York:20250915T193000
DTSTAMP:20260421T190326
CREATED:20240605T195817Z
LAST-MODIFIED:20240605T195817Z
UID:45740-1757961000-1757964600@www.frsuu.org
SUMMARY:Monday Evening Meditation (In Person)
DESCRIPTION:Monday Night Meditation at 6:30pm in Lower Meeting House (enter via Unicorn Street entrance). These weekly sessions are led by Joyce Haydock\, Senior Dharma Teacher with the International Kwan Um School of Zen. She has been with the school since 1989. This FRSUU Monday group was established over ten years ago. Our sessions consist of two or three chants\, two readings/teachings and 30 minutes of sitting meditation. Beginners are welcome. \nContact Joyce at 978-363-5457 or email joycehaydock@outlook.com to be added to our list and receive access information. \n  \n 
URL:https://www.frsuu.org/event/monday-evening-meditation-in-person/2025-09-15/
LOCATION:Lower Meetinghouse\, 26 Pleasant St\, Newburyport\, MA\, 01950\, United States
ORGANIZER;CN="Joyce Haydock":MAILTO:joycehaydock@outlook.com
END:VEVENT
BEGIN:VEVENT
DTSTART;TZID=America/New_York:20250915T153000
DTEND;TZID=America/New_York:20250915T170000
DTSTAMP:20260421T190326
CREATED:20250903T212138Z
LAST-MODIFIED:20260213T155236Z
UID:47423-1757950200-1757955600@www.frsuu.org
SUMMARY:Justice Action Council
DESCRIPTION:Monthly on the third Monday\, LMH Main Room\, 3:30-5pm
URL:https://www.frsuu.org/event/justice-action-council-2/2025-09-15/
LOCATION:LMH Main Room\, 26 Pleasant St\, Newburyport\, MA\, 01950\, United States
END:VEVENT
BEGIN:VEVENT
DTSTART;TZID=America/New_York:20250915T140000
DTEND;TZID=America/New_York:20250915T150000
DTSTAMP:20260421T190326
CREATED:20250910T180715Z
LAST-MODIFIED:20260206T201211Z
UID:47740-1757944800-1757948400@www.frsuu.org
SUMMARY:Anti-Racism Initiative Meeting
DESCRIPTION:3rd Mondays\, LMH Main Room\, 2-3pm.
URL:https://www.frsuu.org/event/anti-racism-initiative-meeting-2/2025-09-15/
LOCATION:LMH Main Room\, 26 Pleasant St\, Newburyport\, MA\, 01950\, United States
END:VEVENT
BEGIN:VEVENT
DTSTART;TZID=America/New_York:20250915T110000
DTEND;TZID=America/New_York:20250915T130000
DTSTAMP:20260421T190326
CREATED:20250908T173608Z
LAST-MODIFIED:20260416T174807Z
UID:47633-1757934000-1757941200@www.frsuu.org
SUMMARY:Maker Monday w/Rev. Laurel
DESCRIPTION:First and third Mondays\, LMH Nursery/Conference Room\, 11am-1pm. Join Rev. Laurel for our Maker Monday offering during lunch hour on the first and third Monday of each month. Bring a creative project\, or start a new one\, and connect with other makers in our FRS community. All are welcome. Craft supplies available.
URL:https://www.frsuu.org/event/maker-monday-w-rev-laurel/2025-09-15/
LOCATION:LMH Nursery/Conf Room
END:VEVENT
BEGIN:VEVENT
DTSTART;TZID=America/New_York:20250915T110000
DTEND;TZID=America/New_York:20250915T120000
DTSTAMP:20260421T190326
CREATED:20250915T151107Z
LAST-MODIFIED:20251015T173441Z
UID:47789-1757934000-1757937600@www.frsuu.org
SUMMARY:Afghan Support Group
DESCRIPTION:3rd Mondays\, LMH Room A\, 11am-12pm
URL:https://www.frsuu.org/event/afghan-support-group/2025-09-15/
LOCATION:LMH Room A\, 26 Pleasant St\, Newburyport\, MA\, 01950\, United States
END:VEVENT
BEGIN:VEVENT
DTSTART;TZID=America/New_York:20250914T114500
DTEND;TZID=America/New_York:20250914T124500
DTSTAMP:20260421T190326
CREATED:20250709T142040Z
LAST-MODIFIED:20250709T142121Z
UID:46854-1757850300-1757853900@www.frsuu.org
SUMMARY:Governance Committee Meeting
DESCRIPTION:Second Sundays\, September-June\, LMH Room A\, 11:45am. Hybrid.
URL:https://www.frsuu.org/event/governance-committee-meeting-2/2025-09-14/
LOCATION:LMH Room A\, 26 Pleasant St\, Newburyport\, MA\, 01950\, United States
END:VEVENT
BEGIN:VEVENT
DTSTART;TZID=America/New_York:20250914T103000
DTEND;TZID=America/New_York:20250914T113000
DTSTAMP:20260421T190326
CREATED:20250922T163733Z
LAST-MODIFIED:20260403T151552Z
UID:48093-1757845800-1757849400@www.frsuu.org
SUMMARY:Young Church
DESCRIPTION:Sundays\, from September 14\, 2025 until May 17\, 2026\, LMH Main Room and Nursery/Conf Room\, 10:30-11:30am
URL:https://www.frsuu.org/event/young-church-3/2025-09-14/
LOCATION:LMH Main Room\, 26 Pleasant St\, Newburyport\, MA\, 01950\, United States
CATEGORIES:Young Church
ORGANIZER;CN="Mara Flynn":MAILTO:mara.flynn@frsuu.org
END:VEVENT
BEGIN:VEVENT
DTSTART;TZID=America/New_York:20250914T103000
DTEND;TZID=America/New_York:20250914T113000
DTSTAMP:20260421T190326
CREATED:20250520T204411Z
LAST-MODIFIED:20250520T204411Z
UID:46098-1757845800-1757849400@www.frsuu.org
SUMMARY:Sunday Worship Service
DESCRIPTION:Sunday\, September 14\, Sanctuary\, 10:30-11:30am\, with livestream on YouTube. \nJoin us for this Young Church service!
URL:https://www.frsuu.org/event/sunday-worship-service-2/
LOCATION:FRS Sanctuary\, 26 Pleasant St\, Newburyport\, MA\, 01950\, United States
CATEGORIES:Worship,Young Church
END:VEVENT
BEGIN:VEVENT
DTSTART;TZID=America/New_York:20250914T093000
DTEND;TZID=America/New_York:20250914T103000
DTSTAMP:20260421T190326
CREATED:20250807T154036Z
LAST-MODIFIED:20250807T154036Z
UID:47039-1757842200-1757845800@www.frsuu.org
SUMMARY:Community Outreach Committee Monthly Meeting
DESCRIPTION:Second Sundays starting September 14\, LMH Room A\, 9:30-10:30am
URL:https://www.frsuu.org/event/community-outreach-committee-monthly-meeting/2025-09-14/
LOCATION:LMH Room A\, 26 Pleasant St\, Newburyport\, MA\, 01950\, United States
END:VEVENT
BEGIN:VEVENT
DTSTART;TZID=America/New_York:20250913T080000
DTEND;TZID=America/New_York:20250913T110000
DTSTAMP:20260421T190326
CREATED:20240814T231956Z
LAST-MODIFIED:20240814T231956Z
UID:43955-1757750400-1757761200@www.frsuu.org
SUMMARY:Merrimack Valley Ship Model Club (MVSMC)
DESCRIPTION:Second Saturdays\, Lower Meetinghouse Main Room\, 8-11am.
URL:https://www.frsuu.org/event/merrimack-valley-ship-model-club-mvsmc/2025-09-13/
LOCATION:LMH Main Room\, 26 Pleasant St\, Newburyport\, MA\, 01950\, United States
END:VEVENT
BEGIN:VEVENT
DTSTART;TZID=America/New_York:20250912T180000
DTEND;TZID=America/New_York:20250912T193000
DTSTAMP:20260421T190326
CREATED:20240906T220128Z
LAST-MODIFIED:20240906T220128Z
UID:40861-1757700000-1757705400@www.frsuu.org
SUMMARY:SMART Recovery (Contact: 678-378-0786)
DESCRIPTION:Meets weekly on Friday
URL:https://www.frsuu.org/event/smart-recovery-contact-678-378-0786-3/2025-09-12/
LOCATION:Hayward Room\, 26 Pleasant St\, Newburyport\, MA\, 01950\, United States
CATEGORIES:Recovery
END:VEVENT
BEGIN:VEVENT
DTSTART;TZID=America/New_York:20250912T120000
DTEND;TZID=America/New_York:20250912T140000
DTSTAMP:20260421T190326
CREATED:20250905T185415Z
LAST-MODIFIED:20250905T185415Z
UID:47497-1757678400-1757685600@www.frsuu.org
SUMMARY:Capital Campaign Team
DESCRIPTION:Friday\, September 12\, Parish Hall 1st Floor\, 12-2pm
URL:https://www.frsuu.org/event/capital-campaign-team-2/
LOCATION:Parish Hall 1st Floor
END:VEVENT
BEGIN:VEVENT
DTSTART;TZID=America/New_York:20250912T110000
DTEND;TZID=America/New_York:20250912T120000
DTSTAMP:20260421T190326
CREATED:20250903T210908Z
LAST-MODIFIED:20260107T181532Z
UID:47384-1757674800-1757678400@www.frsuu.org
SUMMARY:Friday Peace Vigil (offsite)
DESCRIPTION:Every Friday\, Market Square Bullnose\, 11am. \nRev. Rebecca leads this weekly gathering to reflect on and remember our commitment to peace\, love\, and compassion as we navigate the turbulence and daily horrors of our troubled world.
URL:https://www.frsuu.org/event/friday-peace-vigil-offsite/2025-09-12/
LOCATION:Market Square Bullnose\, Newburyport\, 01950\, United States
END:VEVENT
BEGIN:VEVENT
DTSTART;TZID=America/New_York:20250912T100000
DTEND;TZID=America/New_York:20250912T113000
DTSTAMP:20260421T190326
CREATED:20240607T153804Z
LAST-MODIFIED:20251224T212331Z
UID:46373-1757671200-1757676600@www.frsuu.org
SUMMARY:Friday Book Group (Hybrid)
DESCRIPTION:Fridays\, LMH Room A\, 10-11:30am. \nWe meet weekly and read both fiction and non-fiction books chosen by participants. Each book is read and discussed over a period of several meetings\, with the reading for each determined by the group.
URL:https://www.frsuu.org/event/friday-book-group/2025-09-12/
LOCATION:LMH Room A\, 26 Pleasant St\, Newburyport\, MA\, 01950\, United States
END:VEVENT
BEGIN:VEVENT
DTSTART;TZID=America/New_York:20250911T190000
DTEND;TZID=America/New_York:20250911T203000
DTSTAMP:20260421T190326
CREATED:20250124T200119Z
LAST-MODIFIED:20260417T150527Z
UID:43999-1757617200-1757622600@www.frsuu.org
SUMMARY:Adult Choir
DESCRIPTION:Thursdays\, LMH Main Room\, 7-8:30pm.
URL:https://www.frsuu.org/event/adult-choir-2/2025-09-11/
LOCATION:LMH Main Room\, 26 Pleasant St\, Newburyport\, MA\, 01950\, United States
END:VEVENT
BEGIN:VEVENT
DTSTART;TZID=America/New_York:20250911T180000
DTEND;TZID=America/New_York:20250911T190000
DTSTAMP:20260421T190326
CREATED:20241018T165116Z
LAST-MODIFIED:20250210T164557Z
UID:42203-1757613600-1757617200@www.frsuu.org
SUMMARY:Mt. Pemigewassett Hikers
DESCRIPTION:Hayward Room
URL:https://www.frsuu.org/event/tentative-mt-pemigewassett-hikers/2025-09-11/
LOCATION:Hayward Room\, 26 Pleasant St\, Newburyport\, MA\, 01950\, United States
END:VEVENT
BEGIN:VEVENT
DTSTART;TZID=America/New_York:20250910T190000
DTEND;TZID=America/New_York:20250910T203000
DTSTAMP:20260421T190326
CREATED:20250902T194946Z
LAST-MODIFIED:20260406T151957Z
UID:47367-1757530800-1757536200@www.frsuu.org
SUMMARY:Indivisible Democracy Defense Community Team
DESCRIPTION:Second Wednesdays beginning September 10\, LMH Main Room\, 7-8:30pm. \nA newly forming Indivisible Democracy Defense Community Team is being organized to promote resistance to rising authoritarianism and threats to our democracy. Indivisible is the nationwide organization that has been a key organizer of the No Kings and Good Trouble resistance marches. This is an action-oriented group. Now\, Indivisible leaders are encouraging the formation of community-based teams to engage in non-cooperation with the rise of authoritarianism in this country through non-violent resistance. Organizers for this community gathering are Barbara Dowd\, Nicole Whelan\, and Rev. Jane Tuohy. Individuals who are interested should contact Rev. Jane at jane.tuohy@frsuu.org.
URL:https://www.frsuu.org/event/indivisible-democracy-defense-action-team/2025-09-10/
LOCATION:LMH Main Room\, 26 Pleasant St\, Newburyport\, MA\, 01950\, United States
CATEGORIES:Community Events
END:VEVENT
END:VCALENDAR