BEGIN:VCALENDAR
VERSION:2.0
PRODID:-//First Religious Society of Newburyport - ECPv6.15.20//NONSGML v1.0//EN
CALSCALE:GREGORIAN
METHOD:PUBLISH
X-WR-CALNAME:First Religious Society of Newburyport
X-ORIGINAL-URL:https://www.frsuu.org
X-WR-CALDESC:Events for First Religious Society of Newburyport
REFRESH-INTERVAL;VALUE=DURATION:PT1H
X-Robots-Tag:noindex
X-PUBLISHED-TTL:PT1H
BEGIN:VTIMEZONE
TZID:America/New_York
BEGIN:DAYLIGHT
TZOFFSETFROM:-0500
TZOFFSETTO:-0400
TZNAME:EDT
DTSTART:20250309T070000
END:DAYLIGHT
BEGIN:STANDARD
TZOFFSETFROM:-0400
TZOFFSETTO:-0500
TZNAME:EST
DTSTART:20251102T060000
END:STANDARD
BEGIN:DAYLIGHT
TZOFFSETFROM:-0500
TZOFFSETTO:-0400
TZNAME:EDT
DTSTART:20260308T070000
END:DAYLIGHT
BEGIN:STANDARD
TZOFFSETFROM:-0400
TZOFFSETTO:-0500
TZNAME:EST
DTSTART:20261101T060000
END:STANDARD
BEGIN:DAYLIGHT
TZOFFSETFROM:-0500
TZOFFSETTO:-0400
TZNAME:EDT
DTSTART:20270314T070000
END:DAYLIGHT
BEGIN:STANDARD
TZOFFSETFROM:-0400
TZOFFSETTO:-0500
TZNAME:EST
DTSTART:20271107T060000
END:STANDARD
BEGIN:DAYLIGHT
TZOFFSETFROM:-0500
TZOFFSETTO:-0400
TZNAME:EDT
DTSTART:20280312T070000
END:DAYLIGHT
BEGIN:STANDARD
TZOFFSETFROM:-0400
TZOFFSETTO:-0500
TZNAME:EST
DTSTART:20281105T060000
END:STANDARD
END:VTIMEZONE
BEGIN:VEVENT
DTSTART;TZID=America/New_York:20261228T184500
DTEND;TZID=America/New_York:20261228T200000
DTSTAMP:20260420T185137
CREATED:20240614T153123Z
LAST-MODIFIED:20240614T153123Z
UID:43380-1798483500-1798488000@www.frsuu.org
SUMMARY:Adult Children of Alcoholics
DESCRIPTION:Meets in the Hayward Room
URL:https://www.frsuu.org/event/adult-children-of-alcoholics-3/2026-12-28/
LOCATION:Hayward Room\, 26 Pleasant St\, Newburyport\, MA\, 01950\, United States
CATEGORIES:Recovery
END:VEVENT
BEGIN:VEVENT
DTSTART;TZID=America/New_York:20270104T184500
DTEND;TZID=America/New_York:20270104T200000
DTSTAMP:20260420T185137
CREATED:20240614T153123Z
LAST-MODIFIED:20240614T153123Z
UID:43449-1799088300-1799092800@www.frsuu.org
SUMMARY:Adult Children of Alcoholics
DESCRIPTION:Meets in the Hayward Room
URL:https://www.frsuu.org/event/adult-children-of-alcoholics-3/2027-01-04/
LOCATION:Hayward Room\, 26 Pleasant St\, Newburyport\, MA\, 01950\, United States
CATEGORIES:Recovery
END:VEVENT
BEGIN:VEVENT
DTSTART;TZID=America/New_York:20270111T184500
DTEND;TZID=America/New_York:20270111T200000
DTSTAMP:20260420T185137
CREATED:20240614T153123Z
LAST-MODIFIED:20240614T153123Z
UID:43556-1799693100-1799697600@www.frsuu.org
SUMMARY:Adult Children of Alcoholics
DESCRIPTION:Meets in the Hayward Room
URL:https://www.frsuu.org/event/adult-children-of-alcoholics-3/2027-01-11/
LOCATION:Hayward Room\, 26 Pleasant St\, Newburyport\, MA\, 01950\, United States
CATEGORIES:Recovery
END:VEVENT
BEGIN:VEVENT
DTSTART;TZID=America/New_York:20270118T184500
DTEND;TZID=America/New_York:20270118T200000
DTSTAMP:20260420T185137
CREATED:20240614T153123Z
LAST-MODIFIED:20240614T153123Z
UID:43815-1800297900-1800302400@www.frsuu.org
SUMMARY:Adult Children of Alcoholics
DESCRIPTION:Meets in the Hayward Room
URL:https://www.frsuu.org/event/adult-children-of-alcoholics-3/2027-01-18/
LOCATION:Hayward Room\, 26 Pleasant St\, Newburyport\, MA\, 01950\, United States
CATEGORIES:Recovery
END:VEVENT
BEGIN:VEVENT
DTSTART;TZID=America/New_York:20270125T184500
DTEND;TZID=America/New_York:20270125T200000
DTSTAMP:20260420T185137
CREATED:20240614T153123Z
LAST-MODIFIED:20240614T153123Z
UID:44038-1800902700-1800907200@www.frsuu.org
SUMMARY:Adult Children of Alcoholics
DESCRIPTION:Meets in the Hayward Room
URL:https://www.frsuu.org/event/adult-children-of-alcoholics-3/2027-01-25/
LOCATION:Hayward Room\, 26 Pleasant St\, Newburyport\, MA\, 01950\, United States
CATEGORIES:Recovery
END:VEVENT
BEGIN:VEVENT
DTSTART;TZID=America/New_York:20270201T184500
DTEND;TZID=America/New_York:20270201T200000
DTSTAMP:20260420T185137
CREATED:20240614T153123Z
LAST-MODIFIED:20240614T153123Z
UID:44250-1801507500-1801512000@www.frsuu.org
SUMMARY:Adult Children of Alcoholics
DESCRIPTION:Meets in the Hayward Room
URL:https://www.frsuu.org/event/adult-children-of-alcoholics-3/2027-02-01/
LOCATION:Hayward Room\, 26 Pleasant St\, Newburyport\, MA\, 01950\, United States
CATEGORIES:Recovery
END:VEVENT
BEGIN:VEVENT
DTSTART;TZID=America/New_York:20270208T184500
DTEND;TZID=America/New_York:20270208T200000
DTSTAMP:20260420T185137
CREATED:20240614T153123Z
LAST-MODIFIED:20240614T153123Z
UID:44416-1802112300-1802116800@www.frsuu.org
SUMMARY:Adult Children of Alcoholics
DESCRIPTION:Meets in the Hayward Room
URL:https://www.frsuu.org/event/adult-children-of-alcoholics-3/2027-02-08/
LOCATION:Hayward Room\, 26 Pleasant St\, Newburyport\, MA\, 01950\, United States
CATEGORIES:Recovery
END:VEVENT
BEGIN:VEVENT
DTSTART;TZID=America/New_York:20270215T184500
DTEND;TZID=America/New_York:20270215T200000
DTSTAMP:20260420T185137
CREATED:20240614T153123Z
LAST-MODIFIED:20240614T153123Z
UID:44538-1802717100-1802721600@www.frsuu.org
SUMMARY:Adult Children of Alcoholics
DESCRIPTION:Meets in the Hayward Room
URL:https://www.frsuu.org/event/adult-children-of-alcoholics-3/2027-02-15/
LOCATION:Hayward Room\, 26 Pleasant St\, Newburyport\, MA\, 01950\, United States
CATEGORIES:Recovery
END:VEVENT
BEGIN:VEVENT
DTSTART;TZID=America/New_York:20270222T184500
DTEND;TZID=America/New_York:20270222T200000
DTSTAMP:20260420T185137
CREATED:20240614T153123Z
LAST-MODIFIED:20240614T153123Z
UID:44672-1803321900-1803326400@www.frsuu.org
SUMMARY:Adult Children of Alcoholics
DESCRIPTION:Meets in the Hayward Room
URL:https://www.frsuu.org/event/adult-children-of-alcoholics-3/2027-02-22/
LOCATION:Hayward Room\, 26 Pleasant St\, Newburyport\, MA\, 01950\, United States
CATEGORIES:Recovery
END:VEVENT
BEGIN:VEVENT
DTSTART;TZID=America/New_York:20270301T184500
DTEND;TZID=America/New_York:20270301T200000
DTSTAMP:20260420T185137
CREATED:20240614T153123Z
LAST-MODIFIED:20240614T153123Z
UID:44730-1803926700-1803931200@www.frsuu.org
SUMMARY:Adult Children of Alcoholics
DESCRIPTION:Meets in the Hayward Room
URL:https://www.frsuu.org/event/adult-children-of-alcoholics-3/2027-03-01/
LOCATION:Hayward Room\, 26 Pleasant St\, Newburyport\, MA\, 01950\, United States
CATEGORIES:Recovery
END:VEVENT
BEGIN:VEVENT
DTSTART;TZID=America/New_York:20270308T184500
DTEND;TZID=America/New_York:20270308T200000
DTSTAMP:20260420T185137
CREATED:20240614T153123Z
LAST-MODIFIED:20240614T153123Z
UID:44876-1804531500-1804536000@www.frsuu.org
SUMMARY:Adult Children of Alcoholics
DESCRIPTION:Meets in the Hayward Room
URL:https://www.frsuu.org/event/adult-children-of-alcoholics-3/2027-03-08/
LOCATION:Hayward Room\, 26 Pleasant St\, Newburyport\, MA\, 01950\, United States
CATEGORIES:Recovery
END:VEVENT
BEGIN:VEVENT
DTSTART;TZID=America/New_York:20270315T184500
DTEND;TZID=America/New_York:20270315T200000
DTSTAMP:20260420T185137
CREATED:20240614T153123Z
LAST-MODIFIED:20240614T153123Z
UID:44932-1805136300-1805140800@www.frsuu.org
SUMMARY:Adult Children of Alcoholics
DESCRIPTION:Meets in the Hayward Room
URL:https://www.frsuu.org/event/adult-children-of-alcoholics-3/2027-03-15/
LOCATION:Hayward Room\, 26 Pleasant St\, Newburyport\, MA\, 01950\, United States
CATEGORIES:Recovery
END:VEVENT
BEGIN:VEVENT
DTSTART;TZID=America/New_York:20270322T184500
DTEND;TZID=America/New_York:20270322T200000
DTSTAMP:20260420T185137
CREATED:20240614T153123Z
LAST-MODIFIED:20240614T153123Z
UID:45256-1805741100-1805745600@www.frsuu.org
SUMMARY:Adult Children of Alcoholics
DESCRIPTION:Meets in the Hayward Room
URL:https://www.frsuu.org/event/adult-children-of-alcoholics-3/2027-03-22/
LOCATION:Hayward Room\, 26 Pleasant St\, Newburyport\, MA\, 01950\, United States
CATEGORIES:Recovery
END:VEVENT
BEGIN:VEVENT
DTSTART;TZID=America/New_York:20270329T184500
DTEND;TZID=America/New_York:20270329T200000
DTSTAMP:20260420T185137
CREATED:20240614T153123Z
LAST-MODIFIED:20240614T153123Z
UID:45372-1806345900-1806350400@www.frsuu.org
SUMMARY:Adult Children of Alcoholics
DESCRIPTION:Meets in the Hayward Room
URL:https://www.frsuu.org/event/adult-children-of-alcoholics-3/2027-03-29/
LOCATION:Hayward Room\, 26 Pleasant St\, Newburyport\, MA\, 01950\, United States
CATEGORIES:Recovery
END:VEVENT
BEGIN:VEVENT
DTSTART;TZID=America/New_York:20270405T184500
DTEND;TZID=America/New_York:20270405T200000
DTSTAMP:20260420T185137
CREATED:20240614T153123Z
LAST-MODIFIED:20240614T153123Z
UID:45432-1806950700-1806955200@www.frsuu.org
SUMMARY:Adult Children of Alcoholics
DESCRIPTION:Meets in the Hayward Room
URL:https://www.frsuu.org/event/adult-children-of-alcoholics-3/2027-04-05/
LOCATION:Hayward Room\, 26 Pleasant St\, Newburyport\, MA\, 01950\, United States
CATEGORIES:Recovery
END:VEVENT
BEGIN:VEVENT
DTSTART;TZID=America/New_York:20270412T184500
DTEND;TZID=America/New_York:20270412T200000
DTSTAMP:20260420T185137
CREATED:20240614T153123Z
LAST-MODIFIED:20240614T153123Z
UID:45528-1807555500-1807560000@www.frsuu.org
SUMMARY:Adult Children of Alcoholics
DESCRIPTION:Meets in the Hayward Room
URL:https://www.frsuu.org/event/adult-children-of-alcoholics-3/2027-04-12/
LOCATION:Hayward Room\, 26 Pleasant St\, Newburyport\, MA\, 01950\, United States
CATEGORIES:Recovery
END:VEVENT
BEGIN:VEVENT
DTSTART;TZID=America/New_York:20270419T184500
DTEND;TZID=America/New_York:20270419T200000
DTSTAMP:20260420T185137
CREATED:20240614T153123Z
LAST-MODIFIED:20240614T153123Z
UID:45604-1808160300-1808164800@www.frsuu.org
SUMMARY:Adult Children of Alcoholics
DESCRIPTION:Meets in the Hayward Room
URL:https://www.frsuu.org/event/adult-children-of-alcoholics-3/2027-04-19/
LOCATION:Hayward Room\, 26 Pleasant St\, Newburyport\, MA\, 01950\, United States
CATEGORIES:Recovery
END:VEVENT
BEGIN:VEVENT
DTSTART;TZID=America/New_York:20270426T184500
DTEND;TZID=America/New_York:20270426T200000
DTSTAMP:20260420T185137
CREATED:20240614T153123Z
LAST-MODIFIED:20240614T153123Z
UID:45659-1808765100-1808769600@www.frsuu.org
SUMMARY:Adult Children of Alcoholics
DESCRIPTION:Meets in the Hayward Room
URL:https://www.frsuu.org/event/adult-children-of-alcoholics-3/2027-04-26/
LOCATION:Hayward Room\, 26 Pleasant St\, Newburyport\, MA\, 01950\, United States
CATEGORIES:Recovery
END:VEVENT
BEGIN:VEVENT
DTSTART;TZID=America/New_York:20270503T184500
DTEND;TZID=America/New_York:20270503T200000
DTSTAMP:20260420T185137
CREATED:20240614T153123Z
LAST-MODIFIED:20240614T153123Z
UID:45927-1809369900-1809374400@www.frsuu.org
SUMMARY:Adult Children of Alcoholics
DESCRIPTION:Meets in the Hayward Room
URL:https://www.frsuu.org/event/adult-children-of-alcoholics-3/2027-05-03/
LOCATION:Hayward Room\, 26 Pleasant St\, Newburyport\, MA\, 01950\, United States
CATEGORIES:Recovery
END:VEVENT
BEGIN:VEVENT
DTSTART;TZID=America/New_York:20270510T184500
DTEND;TZID=America/New_York:20270510T200000
DTSTAMP:20260420T185137
CREATED:20240614T153123Z
LAST-MODIFIED:20240614T153123Z
UID:45988-1809974700-1809979200@www.frsuu.org
SUMMARY:Adult Children of Alcoholics
DESCRIPTION:Meets in the Hayward Room
URL:https://www.frsuu.org/event/adult-children-of-alcoholics-3/2027-05-10/
LOCATION:Hayward Room\, 26 Pleasant St\, Newburyport\, MA\, 01950\, United States
CATEGORIES:Recovery
END:VEVENT
BEGIN:VEVENT
DTSTART;TZID=America/New_York:20270517T184500
DTEND;TZID=America/New_York:20270517T200000
DTSTAMP:20260420T185137
CREATED:20240614T153123Z
LAST-MODIFIED:20240614T153123Z
UID:46049-1810579500-1810584000@www.frsuu.org
SUMMARY:Adult Children of Alcoholics
DESCRIPTION:Meets in the Hayward Room
URL:https://www.frsuu.org/event/adult-children-of-alcoholics-3/2027-05-17/
LOCATION:Hayward Room\, 26 Pleasant St\, Newburyport\, MA\, 01950\, United States
CATEGORIES:Recovery
END:VEVENT
BEGIN:VEVENT
DTSTART;TZID=America/New_York:20270524T184500
DTEND;TZID=America/New_York:20270524T200000
DTSTAMP:20260420T185137
CREATED:20240614T153123Z
LAST-MODIFIED:20240614T153123Z
UID:46247-1811184300-1811188800@www.frsuu.org
SUMMARY:Adult Children of Alcoholics
DESCRIPTION:Meets in the Hayward Room
URL:https://www.frsuu.org/event/adult-children-of-alcoholics-3/2027-05-24/
LOCATION:Hayward Room\, 26 Pleasant St\, Newburyport\, MA\, 01950\, United States
CATEGORIES:Recovery
END:VEVENT
BEGIN:VEVENT
DTSTART;TZID=America/New_York:20270531T184500
DTEND;TZID=America/New_York:20270531T200000
DTSTAMP:20260420T185137
CREATED:20240614T153123Z
LAST-MODIFIED:20240614T153123Z
UID:46676-1811789100-1811793600@www.frsuu.org
SUMMARY:Adult Children of Alcoholics
DESCRIPTION:Meets in the Hayward Room
URL:https://www.frsuu.org/event/adult-children-of-alcoholics-3/2027-05-31/
LOCATION:Hayward Room\, 26 Pleasant St\, Newburyport\, MA\, 01950\, United States
CATEGORIES:Recovery
END:VEVENT
BEGIN:VEVENT
DTSTART;TZID=America/New_York:20270607T184500
DTEND;TZID=America/New_York:20270607T200000
DTSTAMP:20260420T185137
CREATED:20240614T153123Z
LAST-MODIFIED:20240614T153123Z
UID:46703-1812393900-1812398400@www.frsuu.org
SUMMARY:Adult Children of Alcoholics
DESCRIPTION:Meets in the Hayward Room
URL:https://www.frsuu.org/event/adult-children-of-alcoholics-3/2027-06-07/
LOCATION:Hayward Room\, 26 Pleasant St\, Newburyport\, MA\, 01950\, United States
CATEGORIES:Recovery
END:VEVENT
BEGIN:VEVENT
DTSTART;TZID=America/New_York:20270614T184500
DTEND;TZID=America/New_York:20270614T200000
DTSTAMP:20260420T185137
CREATED:20240614T153123Z
LAST-MODIFIED:20240614T153123Z
UID:46754-1812998700-1813003200@www.frsuu.org
SUMMARY:Adult Children of Alcoholics
DESCRIPTION:Meets in the Hayward Room
URL:https://www.frsuu.org/event/adult-children-of-alcoholics-3/2027-06-14/
LOCATION:Hayward Room\, 26 Pleasant St\, Newburyport\, MA\, 01950\, United States
CATEGORIES:Recovery
END:VEVENT
BEGIN:VEVENT
DTSTART;TZID=America/New_York:20270621T184500
DTEND;TZID=America/New_York:20270621T200000
DTSTAMP:20260420T185137
CREATED:20240614T153123Z
LAST-MODIFIED:20240614T153123Z
UID:46772-1813603500-1813608000@www.frsuu.org
SUMMARY:Adult Children of Alcoholics
DESCRIPTION:Meets in the Hayward Room
URL:https://www.frsuu.org/event/adult-children-of-alcoholics-3/2027-06-21/
LOCATION:Hayward Room\, 26 Pleasant St\, Newburyport\, MA\, 01950\, United States
CATEGORIES:Recovery
END:VEVENT
BEGIN:VEVENT
DTSTART;TZID=America/New_York:20270628T184500
DTEND;TZID=America/New_York:20270628T200000
DTSTAMP:20260420T185137
CREATED:20240614T153123Z
LAST-MODIFIED:20240614T153123Z
UID:46818-1814208300-1814212800@www.frsuu.org
SUMMARY:Adult Children of Alcoholics
DESCRIPTION:Meets in the Hayward Room
URL:https://www.frsuu.org/event/adult-children-of-alcoholics-3/2027-06-28/
LOCATION:Hayward Room\, 26 Pleasant St\, Newburyport\, MA\, 01950\, United States
CATEGORIES:Recovery
END:VEVENT
BEGIN:VEVENT
DTSTART;TZID=America/New_York:20270705T184500
DTEND;TZID=America/New_York:20270705T200000
DTSTAMP:20260420T185137
CREATED:20240614T153123Z
LAST-MODIFIED:20240614T153123Z
UID:46845-1814813100-1814817600@www.frsuu.org
SUMMARY:Adult Children of Alcoholics
DESCRIPTION:Meets in the Hayward Room
URL:https://www.frsuu.org/event/adult-children-of-alcoholics-3/2027-07-05/
LOCATION:Hayward Room\, 26 Pleasant St\, Newburyport\, MA\, 01950\, United States
CATEGORIES:Recovery
END:VEVENT
BEGIN:VEVENT
DTSTART;TZID=America/New_York:20270712T184500
DTEND;TZID=America/New_York:20270712T200000
DTSTAMP:20260420T185137
CREATED:20240614T153123Z
LAST-MODIFIED:20240614T153123Z
UID:46886-1815417900-1815422400@www.frsuu.org
SUMMARY:Adult Children of Alcoholics
DESCRIPTION:Meets in the Hayward Room
URL:https://www.frsuu.org/event/adult-children-of-alcoholics-3/2027-07-12/
LOCATION:Hayward Room\, 26 Pleasant St\, Newburyport\, MA\, 01950\, United States
CATEGORIES:Recovery
END:VEVENT
BEGIN:VEVENT
DTSTART;TZID=America/New_York:20270719T184500
DTEND;TZID=America/New_York:20270719T200000
DTSTAMP:20260420T185137
CREATED:20240614T153123Z
LAST-MODIFIED:20240614T153123Z
UID:46919-1816022700-1816027200@www.frsuu.org
SUMMARY:Adult Children of Alcoholics
DESCRIPTION:Meets in the Hayward Room
URL:https://www.frsuu.org/event/adult-children-of-alcoholics-3/2027-07-19/
LOCATION:Hayward Room\, 26 Pleasant St\, Newburyport\, MA\, 01950\, United States
CATEGORIES:Recovery
END:VEVENT
END:VCALENDAR