BEGIN:VCALENDAR
VERSION:2.0
PRODID:-//First Religious Society of Newburyport - ECPv6.15.20//NONSGML v1.0//EN
CALSCALE:GREGORIAN
METHOD:PUBLISH
X-ORIGINAL-URL:https://www.frsuu.org
X-WR-CALDESC:Events for First Religious Society of Newburyport
REFRESH-INTERVAL;VALUE=DURATION:PT1H
X-Robots-Tag:noindex
X-PUBLISHED-TTL:PT1H
BEGIN:VTIMEZONE
TZID:America/New_York
BEGIN:DAYLIGHT
TZOFFSETFROM:-0500
TZOFFSETTO:-0400
TZNAME:EDT
DTSTART:20250309T070000
END:DAYLIGHT
BEGIN:STANDARD
TZOFFSETFROM:-0400
TZOFFSETTO:-0500
TZNAME:EST
DTSTART:20251102T060000
END:STANDARD
BEGIN:DAYLIGHT
TZOFFSETFROM:-0500
TZOFFSETTO:-0400
TZNAME:EDT
DTSTART:20260308T070000
END:DAYLIGHT
BEGIN:STANDARD
TZOFFSETFROM:-0400
TZOFFSETTO:-0500
TZNAME:EST
DTSTART:20261101T060000
END:STANDARD
BEGIN:DAYLIGHT
TZOFFSETFROM:-0500
TZOFFSETTO:-0400
TZNAME:EDT
DTSTART:20270314T070000
END:DAYLIGHT
BEGIN:STANDARD
TZOFFSETFROM:-0400
TZOFFSETTO:-0500
TZNAME:EST
DTSTART:20271107T060000
END:STANDARD
END:VTIMEZONE
BEGIN:VEVENT
DTSTART;TZID=America/New_York:20260503T093000
DTEND;TZID=America/New_York:20260503T103000
DTSTAMP:20260421T213853
CREATED:20250916T155023Z
LAST-MODIFIED:20250916T155023Z
UID:47984-1777800600-1777804200@www.frsuu.org
SUMMARY:Immigration Justice Meeting
DESCRIPTION:1st Sundays\, beginning November 2\, LMH Room A\, 9:30-10:30am. \nThis is a monthly meeting to discuss and plan actions in support of the immigrant and refugee communities.
URL:https://www.frsuu.org/event/immigration-justice-meeting/2026-05-03/
LOCATION:LMH Room A\, 26 Pleasant St\, Newburyport\, MA\, 01950\, United States
END:VEVENT
BEGIN:VEVENT
DTSTART;TZID=America/New_York:20260505T120000
DTEND;TZID=America/New_York:20260505T133000
DTSTAMP:20260421T213853
CREATED:20260407T165520Z
LAST-MODIFIED:20260407T165526Z
UID:50858-1777982400-1777987800@www.frsuu.org
SUMMARY:Ladies Who Lunch
DESCRIPTION:Wednesday\, May 6\, Michael’s Harborside Restaurant\, 12pm.
URL:https://www.frsuu.org/event/ladies-who-lunch-11/
LOCATION:Michael’s Harborside Restaurant & Bar\, 1 Tournament Wharft\, Newburyport\, MA\, 01950\, United States
END:VEVENT
BEGIN:VEVENT
DTSTART;TZID=America/New_York:20260507T183000
DTEND;TZID=America/New_York:20260507T193000
DTSTAMP:20260421T213853
CREATED:20260416T174550Z
LAST-MODIFIED:20260416T174551Z
UID:50910-1778178600-1778182200@www.frsuu.org
SUMMARY:Community Organizing 101
DESCRIPTION:Thursday\, May 7\, Parish Hall 1st Floor\, 6:30pm. \nFRSUU and other faith-based\, labor\, and social justice groups in the Newburyport area are working with the Merrimack Valley Project to form a coalition to protect the rights of everyone who lives here. The Merrimack Valley Project works to unite groups to work toward social\, racial\, and economic justice\, especially for immigrant and other marginalized communities. We are facing unprecedented threats to our immigrant neighbors and friends. How can we work together to ensure that our community is safe for them? Join us for a workshop on how to strengthen communities through organizing\, and to start the conversation on what we can do to protect our neighbors and prepare for the challenges of the future. \nSign up to join us here!
URL:https://www.frsuu.org/event/community-organizing-101/
LOCATION:Parish Hall 1st Floor
END:VEVENT
BEGIN:VEVENT
DTSTART;TZID=America/New_York:20260607T093000
DTEND;TZID=America/New_York:20260607T103000
DTSTAMP:20260421T213853
CREATED:20250916T155023Z
LAST-MODIFIED:20250916T155023Z
UID:47985-1780824600-1780828200@www.frsuu.org
SUMMARY:Immigration Justice Meeting
DESCRIPTION:1st Sundays\, beginning November 2\, LMH Room A\, 9:30-10:30am. \nThis is a monthly meeting to discuss and plan actions in support of the immigrant and refugee communities.
URL:https://www.frsuu.org/event/immigration-justice-meeting/2026-06-07/
LOCATION:LMH Room A\, 26 Pleasant St\, Newburyport\, MA\, 01950\, United States
END:VEVENT
END:VCALENDAR