BEGIN:VCALENDAR
VERSION:2.0
PRODID:-//First Religious Society of Newburyport - ECPv6.15.20//NONSGML v1.0//EN
CALSCALE:GREGORIAN
METHOD:PUBLISH
X-ORIGINAL-URL:https://www.frsuu.org
X-WR-CALDESC:Events for First Religious Society of Newburyport
REFRESH-INTERVAL;VALUE=DURATION:PT1H
X-Robots-Tag:noindex
X-PUBLISHED-TTL:PT1H
BEGIN:VTIMEZONE
TZID:America/New_York
BEGIN:DAYLIGHT
TZOFFSETFROM:-0500
TZOFFSETTO:-0400
TZNAME:EDT
DTSTART:20230312T070000
END:DAYLIGHT
BEGIN:STANDARD
TZOFFSETFROM:-0400
TZOFFSETTO:-0500
TZNAME:EST
DTSTART:20231105T060000
END:STANDARD
BEGIN:DAYLIGHT
TZOFFSETFROM:-0500
TZOFFSETTO:-0400
TZNAME:EDT
DTSTART:20240310T070000
END:DAYLIGHT
BEGIN:STANDARD
TZOFFSETFROM:-0400
TZOFFSETTO:-0500
TZNAME:EST
DTSTART:20241103T060000
END:STANDARD
BEGIN:DAYLIGHT
TZOFFSETFROM:-0500
TZOFFSETTO:-0400
TZNAME:EDT
DTSTART:20250309T070000
END:DAYLIGHT
BEGIN:STANDARD
TZOFFSETFROM:-0400
TZOFFSETTO:-0500
TZNAME:EST
DTSTART:20251102T060000
END:STANDARD
BEGIN:DAYLIGHT
TZOFFSETFROM:-0500
TZOFFSETTO:-0400
TZNAME:EDT
DTSTART:20260308T070000
END:DAYLIGHT
BEGIN:STANDARD
TZOFFSETFROM:-0400
TZOFFSETTO:-0500
TZNAME:EST
DTSTART:20261101T060000
END:STANDARD
BEGIN:DAYLIGHT
TZOFFSETFROM:-0500
TZOFFSETTO:-0400
TZNAME:EDT
DTSTART:20270314T070000
END:DAYLIGHT
BEGIN:STANDARD
TZOFFSETFROM:-0400
TZOFFSETTO:-0500
TZNAME:EST
DTSTART:20271107T060000
END:STANDARD
END:VTIMEZONE
BEGIN:VEVENT
DTSTART;TZID=America/New_York:20260414T150000
DTEND;TZID=America/New_York:20260414T170000
DTSTAMP:20260419T222600
CREATED:20260408T205427Z
LAST-MODIFIED:20260409T163849Z
UID:50879-1776178800-1776186000@www.frsuu.org
SUMMARY:Farewell Party Planning
DESCRIPTION:Tuesday\, April 14\, LMH Room A\, 3-5pm. \nPlanning for Rev. Rebecca’s farewell party.
URL:https://www.frsuu.org/event/farewell-party/
LOCATION:LMH Room A\, 26 Pleasant St\, Newburyport\, MA\, 01950\, United States
END:VEVENT
BEGIN:VEVENT
DTSTART;TZID=America/New_York:20260322T113000
DTEND;TZID=America/New_York:20260322T131500
DTSTAMP:20260419T222600
CREATED:20250528T175446Z
LAST-MODIFIED:20260317T155909Z
UID:46311-1774179000-1774185300@www.frsuu.org
SUMMARY:Justice Sunday: Women's History Month: Celebrating Women
DESCRIPTION:Sunday\, March 22\, LMH Main Room\, 11:30am. \nJustice Sunday: Women’s History Month: Celebrating Women Past and Present and Exploring What the Future Might Hold \n“The problem that has no name…” –Betty Friedan \nPlease join members of the Community Outreach Team as we join together to share the long journey of women confronting the cultural\, legal\, and social-psychological forces that resulted in inequality that affected the lives of women and their families. \n(Internal: projector and microphone needed)
URL:https://www.frsuu.org/event/justice-sunday-womens-history-month-celebrating-women/
LOCATION:LMH Main Room\, 26 Pleasant St\, Newburyport\, MA\, 01950\, United States
CATEGORIES:Justice Action MInistry
END:VEVENT
BEGIN:VEVENT
DTSTART;TZID=America/New_York:20260317T140000
DTEND;TZID=America/New_York:20260317T150000
DTSTAMP:20260419T222600
CREATED:20260317T153121Z
LAST-MODIFIED:20260317T153121Z
UID:50638-1773756000-1773759600@www.frsuu.org
SUMMARY:Justice Sunday Prep
DESCRIPTION:Tuesday\, March 17\, LMH Room A\, 2-3pm
URL:https://www.frsuu.org/event/justice-sunday-prep/
LOCATION:LMH Room A\, 26 Pleasant St\, Newburyport\, MA\, 01950\, United States
END:VEVENT
BEGIN:VEVENT
DTSTART;TZID=America/New_York:20260317T123000
DTEND;TZID=America/New_York:20260317T140000
DTSTAMP:20260419T222600
CREATED:20260317T152717Z
LAST-MODIFIED:20260317T152717Z
UID:50636-1773750600-1773756000@www.frsuu.org
SUMMARY:Justice Sunday Walk Through
DESCRIPTION:Tuesday\, March 17\, LMH Main Room\, 12:30-2pm
URL:https://www.frsuu.org/event/justice-sunday-walk-through/
LOCATION:LMH Main Room\, 26 Pleasant St\, Newburyport\, MA\, 01950\, United States
END:VEVENT
BEGIN:VEVENT
DTSTART;TZID=America/New_York:20260310T123000
DTEND;TZID=America/New_York:20260310T150000
DTSTAMP:20260419T222600
CREATED:20260311T202154Z
LAST-MODIFIED:20260311T202154Z
UID:50607-1773145800-1773154800@www.frsuu.org
SUMMARY:Celebrating Women Justice Sunday Planning
DESCRIPTION:Tuesday\, March 10\, LMH Main Room\, 12:30-3pm
URL:https://www.frsuu.org/event/celebrating-women-justice-sunday-planning/
LOCATION:LMH Main Room\, 26 Pleasant St\, Newburyport\, MA\, 01950\, United States
END:VEVENT
BEGIN:VEVENT
DTSTART;TZID=America/New_York:20260220T123000
DTEND;TZID=America/New_York:20260220T133000
DTSTAMP:20260419T222600
CREATED:20260217T195409Z
LAST-MODIFIED:20260217T195433Z
UID:50428-1771590600-1771594200@www.frsuu.org
SUMMARY:Capital Campaign Meeting
DESCRIPTION:Friday\, February 20\, LMH Room A\, 12:30-1:30pm. \nMeeting to discuss the capital campaign with two congregants.
URL:https://www.frsuu.org/event/capital-campaign-meeting-7/
LOCATION:LMH Room A\, 26 Pleasant St\, Newburyport\, MA\, 01950\, United States
END:VEVENT
BEGIN:VEVENT
DTSTART;TZID=America/New_York:20260204T160000
DTEND;TZID=America/New_York:20260204T171500
DTSTAMP:20260419T222600
CREATED:20260203T161358Z
LAST-MODIFIED:20260203T161358Z
UID:50202-1770220800-1770225300@www.frsuu.org
SUMMARY:Planning Meeting for March Justice Sunday
DESCRIPTION:Wednesday\, February 4\, LMH Room A\, 4-5:15pm
URL:https://www.frsuu.org/event/planning-meeting-for-march-justice-sunday/
LOCATION:LMH Room A\, 26 Pleasant St\, Newburyport\, MA\, 01950\, United States
END:VEVENT
BEGIN:VEVENT
DTSTART;TZID=America/New_York:20251209T140000
DTEND;TZID=America/New_York:20251209T160000
DTSTAMP:20260419T222600
CREATED:20250910T174930Z
LAST-MODIFIED:20251112T202150Z
UID:47716-1765288800-1765296000@www.frsuu.org
SUMMARY:Holiday Tea
DESCRIPTION:Tuesday\, December 9\, Parish Hall 1st Floor\, 2-4pm. All are invited! \nInternal: set up starts at 12:30pm.
URL:https://www.frsuu.org/event/holiday-tea-2/
LOCATION:Parish Hall 1st Floor
END:VEVENT
BEGIN:VEVENT
DTSTART;TZID=America/New_York:20251202T100000
DTEND;TZID=America/New_York:20251202T113000
DTSTAMP:20260419T222600
CREATED:20251126T204450Z
LAST-MODIFIED:20251126T204450Z
UID:49494-1764669600-1764675000@www.frsuu.org
SUMMARY:Community Outreach Planning Meeting
DESCRIPTION:Tuesday\, December 2\, LMH Room A\, 10-11:30am. \nThe purpose of this meeting is the plan March Justice Sunday.
URL:https://www.frsuu.org/event/community-outreach-planning-meeting/
LOCATION:LMH Room A\, 26 Pleasant St\, Newburyport\, MA\, 01950\, United States
END:VEVENT
BEGIN:VEVENT
DTSTART;TZID=America/New_York:20250928T113000
DTEND;TZID=America/New_York:20250928T133000
DTSTAMP:20260419T222600
CREATED:20250502T184831Z
LAST-MODIFIED:20250923T181623Z
UID:45717-1759059000-1759066200@www.frsuu.org
SUMMARY:Parish Board-Congregational Meeting (Hybrid)
DESCRIPTION:Sunday\, September 28\, LMH Main Room and Zoom\, 11:30am-1:30pm. \nJoin us for our first Parish Board-Congregational Meeting of the new church year. Come have a cup of coffee\, meet the new members of the Board\, learn about its priorities for this church year\, and ask your questions. As we finish up our celebratory 300th anniversary year\, we are looking to the future and what we want for our community. The Board will meet with the congregation over the course of the year to keep us informed on its work and the progress it is making. \nJoin via Zoom:\nhttps://zoom.us/j/95113880797?pwd=CdqjGEbL2ZEcrzExXRqPdC06Y7KP1o.1
URL:https://www.frsuu.org/event/parish-board-congregational-meeting-2/
LOCATION:LMH Main Room\, 26 Pleasant St\, Newburyport\, MA\, 01950\, United States
END:VEVENT
BEGIN:VEVENT
DTSTART;TZID=America/New_York:20250602T130000
DTEND;TZID=America/New_York:20250602T150000
DTSTAMP:20260419T222600
CREATED:20250530T163116Z
LAST-MODIFIED:20250530T163116Z
UID:46667-1748869200-1748876400@www.frsuu.org
SUMMARY:Reserved for Meeting Bag Assembly
DESCRIPTION:Monday\, June 2\, LMH Room A\, 1-3pm
URL:https://www.frsuu.org/event/reserved-for-meeting-bag-assembly/
LOCATION:LMH Room A\, 26 Pleasant St\, Newburyport\, MA\, 01950\, United States
END:VEVENT
BEGIN:VEVENT
DTSTART;TZID=America/New_York:20250515T093000
DTEND;TZID=America/New_York:20250515T110000
DTSTAMP:20260419T222600
CREATED:20250512T193331Z
LAST-MODIFIED:20250512T193351Z
UID:46000-1747301400-1747306800@www.frsuu.org
SUMMARY:Capital Campaign Meeting (Hybrid)
DESCRIPTION:Thursday\, May 15\, LMH Room A\, 9:30-11am. Meeting to discuss presentation for annual meeting.
URL:https://www.frsuu.org/event/capital-campaign-meeting-4/
LOCATION:LMH Room A\, 26 Pleasant St\, Newburyport\, MA\, 01950\, United States
END:VEVENT
BEGIN:VEVENT
DTSTART;TZID=America/New_York:20250323T091500
DTEND;TZID=America/New_York:20250323T103000
DTSTAMP:20260419T222600
CREATED:20250318T133119Z
LAST-MODIFIED:20250318T133119Z
UID:44956-1742721300-1742725800@www.frsuu.org
SUMMARY:Community Outreach Meeting
DESCRIPTION:Sunday\, March 23\, LMH Room A\, 9:15-10:30am. Community Outreach Committee meeting.
URL:https://www.frsuu.org/event/community-outreach-meeting/
LOCATION:LMH Room A\, 26 Pleasant St\, Newburyport\, MA\, 01950\, United States
END:VEVENT
BEGIN:VEVENT
DTSTART;TZID=America/New_York:20250309T093000
DTEND;TZID=America/New_York:20250309T223000
DTSTAMP:20260419T222600
CREATED:20250304T194322Z
LAST-MODIFIED:20250305T231315Z
UID:44757-1741512600-1741559400@www.frsuu.org
SUMMARY:Parish Hall Q&A (Hybrid)
DESCRIPTION:Sunday\, March 9\, LMH Main Room\, 9:30-10:30am. The Capital Campaign planning group will hold Q&A sessions on Sunday\, March 9 at 9:30am (hybrid) and on Wednesday\, March 12 at 7pm (Zoom only). These sessions are intended to provide an opportunity to ask questions regarding the warrant for the Special Congregational Meeting scheduled for Sunday\, March 16 after church services.
URL:https://www.frsuu.org/event/parish-hall-qa-hybrid/
LOCATION:LMH Main Room\, 26 Pleasant St\, Newburyport\, MA\, 01950\, United States
END:VEVENT
BEGIN:VEVENT
DTSTART;TZID=America/New_York:20250115T160000
DTEND;TZID=America/New_York:20250115T173000
DTSTAMP:20260419T222600
CREATED:20241210T204609Z
LAST-MODIFIED:20250107T133016Z
UID:43108-1736956800-1736962200@www.frsuu.org
SUMMARY:Justice Groups Meeting (Hybrid)
DESCRIPTION:January 15\, LMH Main Room\, 4-5:30pm.
URL:https://www.frsuu.org/event/social-action-group-meeting/
LOCATION:LMH Main Room\, 26 Pleasant St\, Newburyport\, MA\, 01950\, United States
END:VEVENT
BEGIN:VEVENT
DTSTART;TZID=America/New_York:20241110T093000
DTEND;TZID=America/New_York:20241110T103000
DTSTAMP:20260419T222600
CREATED:20241017T164207Z
LAST-MODIFIED:20241017T164207Z
UID:42142-1731231000-1731234600@www.frsuu.org
SUMMARY:Community Outreach Committee Planning Meeting
DESCRIPTION:Sunday\, November 10\, LMH Room A\, 9:30-10:30am.
URL:https://www.frsuu.org/event/community-outreach-committee-planning-meeting/
LOCATION:LMH Room A\, 26 Pleasant St\, Newburyport\, MA\, 01950\, United States
END:VEVENT
BEGIN:VEVENT
DTSTART;TZID=America/New_York:20241010T173000
DTEND;TZID=America/New_York:20241010T184500
DTSTAMP:20260419T222600
CREATED:20240916T194914Z
LAST-MODIFIED:20240916T194914Z
UID:41276-1728581400-1728585900@www.frsuu.org
SUMMARY:Community Outreach Group Meeting
DESCRIPTION:LMH Room A
URL:https://www.frsuu.org/event/community-outreach-group-meeting/
LOCATION:LMH Room A\, 26 Pleasant St\, Newburyport\, MA\, 01950\, United States
END:VEVENT
BEGIN:VEVENT
DTSTART;TZID=America/New_York:20240917T160000
DTEND;TZID=America/New_York:20240917T163000
DTSTAMP:20260419T222600
CREATED:20240911T221759Z
LAST-MODIFIED:20240911T221759Z
UID:41140-1726588800-1726590600@www.frsuu.org
SUMMARY:Community Meeting-Parish Hall Tour
DESCRIPTION:
URL:https://www.frsuu.org/event/community-meeting-parish-hall-tour/
LOCATION:Parish Hall 1st Floor
END:VEVENT
BEGIN:VEVENT
DTSTART;TZID=America/New_York:20240917T150000
DTEND;TZID=America/New_York:20240917T180000
DTSTAMP:20260419T222600
CREATED:20240819T220816Z
LAST-MODIFIED:20240913T132240Z
UID:39768-1726585200-1726596000@www.frsuu.org
SUMMARY:Community Meeting
DESCRIPTION:Community Meeting starts at 4pm in the Lower Meetinghouse.
URL:https://www.frsuu.org/event/community-meetings/
LOCATION:Lower Meetinghouse\, 26 Pleasant St\, Newburyport\, MA\, 01950\, United States
END:VEVENT
END:VCALENDAR